{"text_format":"1","workbook":"xlsx","n_sheets":16,"sheets":["市スポ","注意事項","①団体情報入力","②選手情報入力"," ","④種目別人数","⑤大会前 提出用","⑥大会後 個人管理用","⑦入場許可申請","⑧リレーの選手が反映されない","⑨日付が数字になる","　　　　　","種目情報","data_kyogisha","data_team","Sheet6"],"not_rendered":{"charts":0,"images":6,"macros":0,"external_links":4,"defined_names":53,"comments":2,"pivot_tables":0},"unopened":[],"bounds":{"document_bytes":16777216,"sheet_cells":100000,"rows_first":2000,"rows_last":500,"rows_between":2000,"halvings":0,"cell_chars":16384,"cell_head_chars":4096},"cells_cut":0,"cells_raw":0,"read":"whole","date_system":"1900"}

{"sheet":"市スポ","index":0,"n_rows":79,"n_cols":6,"rows_kept":79,"cut":false,"hidden":false,"merged":[[75,1,75,5],[69,2,69,4],[70,2,70,4],[71,2,71,4],[0,0,0,6],[4,1,4,5],[6,1,6,2],[6,3,6,4],[3,0,3,6],[2,0,2,6]]}
["２０２１年度　名古屋市民スポーツ祭"]
[]
["今年度から参加料が必要となりますので、ご注意ください。"]
["プログラムは有料販売とし、事前の申し込みが必要です。当日販売は行いません。"]
[]
[]
["１．期  日 ","2021-08-28",null,"2021-08-29"]
[]
["２．場  所","パロマ北瑞穂陸上競技場"]
[]
["３．種　目","１校1種目2名まで・1名1種目(リレーは除く)　100m,200m,400m,800m,1500mは３名まで可"]
[null,"フィールドは2名まで　(名古屋市内の中学校に在学中の生徒に限る)"]
[null,"1日目　　　　　　8月28日（土）"]
[null,"男子　100m・4×100mR・走高跳"]
[null,"女子　100m・4×100mR・走高跳"]
[null,"2日目　　　　　　8月29日（日）"]
[null,"男子　400m・1500m・110mH(0.914m)・走幅跳・砲丸投(5.000kg)"]
[null,"女子　200m・800m・100mH(0.762m)・走幅跳・砲丸投(2.721kg)"]
[null,"混合　4×400mR"]
[]
[]
["４．参加について","①一般の部　名古屋市内在勤･在学･在住の社会人・大学生に限ります"]
[null,"　　　　　　　　　１名１種目(リレーは除く)",null,null,"陸協登録者の2000mは、年齢区分はありません。"]
[]
[null,"②高校の部　名古屋市内の高等学校に在学中の生徒に限ります"]
[null,"　　　　　　　　　１校1種目2名まで・1名1種目(リレーは除く)　100m,400m,1500mは３名まで可"]
[null,"　　　　　　　　　リレーは１校１種目１チーム"]
[]
[null,"③中学の部　名古屋市内の中学校に在学中の生徒に限ります。"]
[null,"　　　　　　　　　１校1種目2名まで・1名1種目(リレーは除く)　100m,400m,1500mは３名まで可"]
[null,"　　　","＊中体連学校番号での参加は不可です。"]
[null,"　注意"]
[null,"　　当初の要項では、中学女子200m･800mとなっていましたが、400m･1500mとします。"]
[null,"　　クラブチームに所属する中学生も１団体１種目３名･１名１種目までです。"]
[]
[null,"④小学生の部　名古屋市内の小学校に在学中の児童に限ります。"]
[null,"　　　　　　　　　１名１日１種目(リレーは除く)"]
[]
[null,"⑤申込　　　　すべてのカテゴリーでメールでの申し込が必要となりました。"]
[null,"　　　　　　　　 必ず、メールを送信してください。"]
[null,"　　　　　　　　 申し込みファイルは、以下のアドレスからダウンロードしてください。"]
[null,"　　　http://www.aichi-rk.jp/01_01nittei.htm"]
[]
[null,"⑥今年度から、参加料が有料となります。"]
[null,"一般～高校生　５００円",null,null,"中学生　４００円"]
[null,"小学生　３００円"]
[]
[null,"⑦プログラムは１部８００円で事前予約販売とします。"]
[null,"　当日販売は行いません。"]
[]
[null,"⑧参加料、プログラム購入代金納入先",null,null,null,"名古屋地区とは異なります。"]
[null,"※　参加料・プログラム購入代振込先（ゆうちょ銀行・普通預金口座）"]
[null,"　☆ ゆうちょ銀行口座からの振込み"]
[null,"　　   記号：12050　　番号：12823231　　口座名義：名古屋市陸上競技協会  "]
[null,"　☆ ゆうちょ銀行以外の金融機関からの振込み"]
[null,"　　　店名：二〇八　　店番：208"]
[null,"              ﾆｾﾞﾛﾊﾁ"]
[null,"　　　預金種目：普通預金　　口座番号：1282323　　口座名義：名古屋市陸上競技協会 "]
[null,"個人登録の方は、愛知陸協は使用せずに、個人名で振込を行ってください。"]
[]
[null,"団体名には、アイチケンリツやナゴヤシリツは絶対に付けないでください！"]
[]
["６．申込方法","＊申し込みはメールを最優先してください。メール未送信の場合は出場できない場合があります。"]
[null,"＊申し込みのファイルは,各カテゴリーのものを使用してください。"]
[null,"＊各カテゴリーの申込ファイルに記載された送付先に、指定のファイルを印刷して郵送してください。"]
[]
[]
["７．申込アドレス","中学","kashihara1109@nagoya-c.ed.jp"]
[null,"なお、必要書類の送付先は、各エントリーファイルに記載されていますので、ご確認ください。"]
["８．申込について","メール送信期間","２０２１年７月１６日(金)～８月３日(火)"]
[null,"振り込み期間","２０２１年７月２６日(月)～８月５日(金)"]
[null,"郵送期間","２０２１年７月３０日(金)～８月９日(月)"]
["９．表彰について"]
["９．その他","(1)トラック競技はすべてタイムレースとします。フィールド長さ種目は３回試技とします。"]
[null,"(２)本年度から記録会の部は実施しません。"]
[null,"(3)時間プログラム、受付一覧、大会注意事項、待機場所割当表、エントリーリストは、大会７日程度前に　愛知陸協ホームページにアップします。\n　　↓名古屋地区の競技会のアドレスです。"]
[null,"http://www.aichi-rk.jp/01_01nittei.htm"]
[null,"(4)メールの件名には、必ず団体名を記入してください。"]
[null,"(5)申込ファイル名も団体名に変えてから送信してください。"]

{"sheet":"注意事項","index":1,"n_rows":76,"n_cols":11,"rows_kept":76,"cut":false,"hidden":false,"merged":[[3,10,4,14],[0,0,0,13],[6,1,6,2],[6,3,6,7],[4,2,4,7],[3,2,3,5],[3,6,3,8],[2,2,2,8],[2,10,2,14],[32,1,32,19],[16,1,16,16],[7,1,7,2],[7,3,7,7],[7,8,7,9],[7,10,7,14],[25,1,25,18],[11,1,11,15],[14,1,14,14],[21,1,21,9],[24,1,24,18]]}
["　★データ入力前にこのページの内容を必ずお読みください。"]
[]
[null,"大会名","２０２１　名古屋市民スポーツ祭陸上競技大会",null,null,null,null,null,null,null,"訂正版"]
[null,"期　日",{"$f":"市スポ!B7","v":"2021-08-28"},null,null,null,{"$f":"市スポ!D7","v":"2021-08-29"},null,null,null,"個人登録専用"]
[null,"会　場","パロマ瑞穂北陸上競技場"]
[]
[null,"メール送信期間",null,{"$f":"市スポ!C70","v":"２０２１年７月１６日(金)～８月３日(火)"}]
[null,"振込期間",null,{"$f":"市スポ!C71","v":"２０２１年７月２６日(月)～８月５日(金)"},null,null,null,null,"郵送期間",null,{"$f":"市スポ!C72","v":"２０２１年７月３０日(金)～８月９日(月)"}]
[null,"　⬆　日付が数字になる場合には、ホームタブの数値メニューのリストから"]
[null,"短い日付表示を選択してください。⑨日付が数字になる場合を参照してください。"]
[]
[null,"郵送の際に、書留やレターパックプラスの利用は禁止します。"]
[]
["　＜注意事項等＞",null,"このファイルは、個人専用です。団体登録の方は使用できません。"]
[null,"このファイルに、必要事項を入力してそのままのファイル形式でメールに添付して送信願います。\nエクセル互換ソフト・ＰＤＦ等では受付不可です。"]
[null,"※申込みファイルは全カテゴリー共通です。①団体情報入力で、中学、一般大学高校の選択をお願いします。"]
[null,"プログラムは予約販売です。当日販売は行いませんので、ご注意ください。"]
[null,"日本陸連の陸上競技活動再開のガイダンスに基づき、名古屋地区陸上競技協会は、感染防止に最大限の注意を払った上、"]
[null,"できる限り感染リスクを軽減させた競技会の運営に務めてまいります。"]
[null,"そこで、競技会に参加される皆様には、大会前後の体調を確認・記録し、大会前の体調については大会当日に提出をして頂きます。"]
[null,"①団体情報入力と②選手情報入力を行ってから、⑤大会前提出用⑥大会後個人管理用を印刷してお使いください。"]
[null,"※このファイルをメールに添付して送信してください！"]
[null,"　①ファイルの送信がないと受付けしたことにはなりません。データが不完全なもの、指定外のファイル形式も"]
[null,"　　受付とはできません。"]
[null,"　②必ず、ファイル名を団体名に変更して下さい。個人登録の方は、愛知陸協等は使用せず個人名に変更してください。また、メールの件名(タイトル：Subject)にも団体名を入れて下さい。"]
[null,"　　大会名や日付は付けないでください。"]
[null,"　③ファイルの内容に訂正がある場合は、ファイル名の後に必ず訂正版等の文字を入れて下さい。"]
[null,"　④ファイルの送信忘れ・訂正時のファイル名の変更がない場合等によりプログラムから漏れた場合には、"]
[null,"　　トラックレースでは最後の組以降に新たに組を追加する場合があります。リレーの場合は、再番編を行う場合があります。"]
[null,"　　フィールド種目では、記録の近い組の最後に追加します。"]
[null,"　　これらの項目は、メール送信最終日前のみ可能です。締切後は一切受け付けません。"]
[null,"　⑤リレー情報確認で、メンバーが反映されていることを必ず確認してください。"]
[null,"　　ナンバーが正しく入力されていて情報が反映されていない場合、選手情報入力シートのナンバーが左寄りになってい 　\n　　ます。この場合、ナンバーのセルが文字列になっていますので数値に変換してください。\n    方法は、⑧リレーの選手が反映されない場合の対処をご覧ください。"]
[null,"　⑤今年度の登録番号を必ず入力してください。"]
[null,"　⑥選手データ入力で、項目が変更･追加されています。JAAF登録データをご利用ください。"]
[]
["　★作業の流れは次のとおりです。　データの入力は①②のシートのみです。"]
["　　①団体情報の入力"]
["↓","　・必要事項を入力してください。",null,null,null,"・プログラム購入部数もこちらで入力となります。"]
["　　②選手情報の入力"]
["↓","　　※種目はドロップダウンリストから選択してください。"]
["↓","　・参加選手のデータ、申込種目、記録を入力してください。"]
["↓","　　※入力は、男子を先に入力し、続けて女子を入力してください。"]
["↓","　　※氏名については、姓と名の間に全角スペースを１つ入れてください。"]
["↓","　　※ﾌﾘｶﾞﾅについては、姓と名の間に半角スペースを１つ入れてください。"]
["↓","　　※記録は、次のとおり入力してください。"]
["↓",null,"◎トラック種目・・・・分秒をドット「．」で区切り、100分の1秒まで入力"]
["↓",null,"例１",null,"54秒23","⇒",54.23]
["↓",null,"例２",null,"4分07秒00","⇒","4.07.00"]
["↓",null,null,"　 ※記録が１分未満で、10分の1以下が「00」"]
["↓",null,null,"　　 のときは整数で表示されます。"]
["↓",null,null,"例","12秒00","⇒",12]
["↓",null,"◎フィールド種目・・・メートルを「m」で区切り、cm単位まで入力（「cm」の文字は入れない）"]
["↓",null,"例３",null,"20m","⇒","20m00"]
["↓",null,"★記録がない場合は空欄にしてください。"]
["↓","　　※リレーに出場する選手は、リレー種目の欄へ「○」を入力してください。"]
["↓","　  ※リレーメンバーは、③リレー情報確認タブでご確認ください。"]
["　　③種目別人数の確認・印刷"]
["↓","　・種目ごとの申込人数と申込金額を確認してください。"]
["　　④ファイルの保存"]
["↓","　・ファイル名をチーム名（例：○○○）に変更し保存してください。メールに添付するときは、ファイル名がチーム名に"]
["↓","　　なっていることを確認してください。"]
["　　⑤メール送信"]
["↓","　・入力したファイルを添付して送信してください。アドレスは要項を確認してください。"]
["↓","　・メールの件名に「大会名」と「団体名」を入力してください。"]
["　　⑥参加料の振込"]
["↓","　・参加料を振り込んでください。"]
["　　⑦郵送"]
["↓","　・「④申し込み表」の余白に振込明細書のコピーを添付して郵送してください。"]
["↓",null,"送付先"]
["↓",null,"〒465-0047"]
["↓",null,"名古屋市名東区小池町66"]
["↓",null,"名古屋市立藤森中学校"]
["↓",null,"柏原 裕士"]
["↓"]
["　　⑧申込完了"]

{"sheet":"①団体情報入力","index":2,"n_rows":104,"n_cols":17,"rows_kept":104,"cut":false,"hidden":false,"merged":[[2,0,2,1],[1,0,1,1],[1,2,1,4],[2,2,2,4],[5,0,5,1],[6,0,6,1],[6,2,6,4],[7,0,7,1],[7,2,7,4],[3,0,3,1],[3,2,3,4],[4,0,4,1],[4,2,4,4],[4,5,6,9],[10,8,10,11],[2,5,2,11],[3,5,3,11],[0,2,0,4],[5,2,5,4],[11,10,11,11],[12,10,12,11],[12,8,12,9],[13,10,13,11],[13,8,13,9],[11,8,11,9],[8,0,8,1],[8,2,8,4],[9,0,9,1],[9,2,9,4],[10,0,10,1]]}
["①団体情報入力",null,"中学個人用"]
["参加料設定➡➡",null,"中学"]
["団体名検索",null,"愛",null,null,"←団体名最初の一文字を入力してください(大で始まる団体は２文字入れてください）。",null,null,null,null,null,null,null,{"$f":"C3","v":"愛"}]
["団体名",null,"愛知陸協",null,null,null,null,null,null,null,null,null,1,{"$f":"VLOOKUP(\"*\"&$N$3&\"*\",Sheet6!D2:F439,1,FALSE)","v":"愛知陸協"},{"$f":"VLOOKUP(\"*\"&N3&\"*\",Sheet6!B2:F406,5,FALSE)","v":1}]
["団体コード",null,{"$f":"IF(C4=\"\",\"\",VLOOKUP(C4,Sheet6!B:C,2,0))","v":19868},null,null,"←団体名を選択すると、自動で入力されます。",null,null,null,null,null,null,2,{"$f":"VLOOKUP(\"*\"&$N$3&\"*\",OFFSET(Sheet6!$B$2:$F$439,O4,0),1,FALSE)","v":"愛知マスターズ"},{"$f":"VLOOKUP(\"*\"&$N$3&\"*\",OFFSET(Sheet6!$B$2:$F$406,O4,0),5,FALSE)","v":2}]
["略称団体名",null,{"$f":"IF(C4=\"\",\"\",C4)","v":"愛知陸協"},null,null,null,null,null,null,null,null,null,3,{"$f":"VLOOKUP(\"*\"&$N$3&\"*\",OFFSET(Sheet6!$B$2:$F$439,O5,0),1,FALSE)","v":{"$error":"#N/A"}},{"$f":"VLOOKUP(\"*\"&$N$3&\"*\",OFFSET(Sheet6!$B$2:$F$406,O5,0),5,FALSE)","v":{"$error":"#N/A"}}]
["団体名ﾌﾘｶﾞﾅ",null,{"$f":"IF(C4=\"\",\"\",VLOOKUP(C4,Sheet6!B:E,4,0))","v":"アイチリッキョウ"},null,null,null,null,null,null,null,null,null,4,{"$f":"VLOOKUP(\"*\"&$N$3&\"*\",OFFSET(Sheet6!$B$2:$F$439,O6,0),1,FALSE)","v":{"$error":"#N/A"}},{"$f":"VLOOKUP(\"*\"&$N$3&\"*\",OFFSET(Sheet6!$B$2:$F$406,O6,0),5,FALSE)","v":{"$error":"#N/A"}}]
["申込責任者",null,null,null,null,"←入力",null,null,null,null,null,null,5,{"$f":"VLOOKUP(\"*\"&$N$3&\"*\",OFFSET(Sheet6!$B$2:$F$439,O7,0),1,FALSE)","v":{"$error":"#N/A"}},{"$f":"VLOOKUP(\"*\"&$N$3&\"*\",OFFSET(Sheet6!$B$2:$F$406,O7,0),5,FALSE)","v":{"$error":"#N/A"}},null,"一般大学高校"]
["連絡先電話番号",null,null,null,null,"←入力(ハイフンを入れる)　※緊急時に連絡がとれる番号",null,null,null,null,null,null,6,{"$f":"VLOOKUP(\"*\"&$N$3&\"*\",OFFSET(Sheet6!$B$2:$F$439,O8,0),1,FALSE)","v":{"$error":"#N/A"}},{"$f":"VLOOKUP(\"*\"&$N$3&\"*\",OFFSET(Sheet6!$B$2:$F$406,O8,0),5,FALSE)","v":{"$error":"#N/A"}},null,"中　　　学"]
["大学生のみ学連地域コードをハイフンを付けて入力",null,null,null,null,"←大学生のみ、地域学連コードをハイフンを含めて入力してください。",null,null,null,null,null,null,7,{"$f":"VLOOKUP(\"*\"&$N$3&\"*\",OFFSET(Sheet6!$B$2:$F$439,O9,0),1,FALSE)","v":{"$error":"#N/A"}},{"$f":"VLOOKUP(\"*\"&$N$3&\"*\",OFFSET(Sheet6!$B$2:$F$406,O9,0),5,FALSE)","v":{"$error":"#N/A"}}]
["プログラム購入部数",null,null,"部",null,null,null,null,null,null,null,null,8,{"$f":"VLOOKUP(\"*\"&$N$3&\"*\",OFFSET(Sheet6!$B$2:$F$439,O10,0),1,FALSE)","v":{"$error":"#N/A"}},{"$f":"VLOOKUP(\"*\"&$N$3&\"*\",OFFSET(Sheet6!$B$2:$F$406,O10,0),5,FALSE)","v":{"$error":"#N/A"}}]
[null,null,null,null,null,null,null,null,null,null,null,null,9,{"$f":"VLOOKUP(\"*\"&$N$3&\"*\",OFFSET(Sheet6!$B$2:$F$439,O11,0),1,FALSE)","v":{"$error":"#N/A"}},{"$f":"VLOOKUP(\"*\"&$N$3&\"*\",OFFSET(Sheet6!$B$2:$F$406,O11,0),5,FALSE)","v":{"$error":"#N/A"}}]
[null,null,null,null,null,null,null,null,null,null,null,null,10,{"$f":"VLOOKUP(\"*\"&$N$3&\"*\",OFFSET(Sheet6!$B$2:$F$439,O12,0),1,FALSE)","v":{"$error":"#N/A"}},{"$f":"VLOOKUP(\"*\"&$N$3&\"*\",OFFSET(Sheet6!$B$2:$F$406,O12,0),5,FALSE)","v":{"$error":"#N/A"}}]
[null,null,null,null,null,null,null,null,null,null,null,null,11,{"$f":"VLOOKUP(\"*\"&$N$3&\"*\",OFFSET(Sheet6!$B$2:$F$439,O13,0),1,FALSE)","v":{"$error":"#N/A"}},{"$f":"VLOOKUP(\"*\"&$N$3&\"*\",OFFSET(Sheet6!$B$2:$F$406,O13,0),5,FALSE)","v":{"$error":"#N/A"}}]
[null,null,null,null,null,null,null,null,null,null,null,null,12,{"$f":"VLOOKUP(\"*\"&$N$3&\"*\",OFFSET(Sheet6!$B$2:$F$439,O14,0),1,FALSE)","v":{"$error":"#N/A"}},{"$f":"VLOOKUP(\"*\"&$N$3&\"*\",OFFSET(Sheet6!$B$2:$F$406,O14,0),5,FALSE)","v":{"$error":"#N/A"}}]
[null,null,null,null,null,null,null,null,null,null,null,null,13,{"$f":"VLOOKUP(\"*\"&$N$3&\"*\",OFFSET(Sheet6!$B$2:$F$439,O15,0),1,FALSE)","v":{"$error":"#N/A"}},{"$f":"VLOOKUP(\"*\"&$N$3&\"*\",OFFSET(Sheet6!$B$2:$F$406,O15,0),5,FALSE)","v":{"$error":"#N/A"}}]
[null,null,null,null,null,null,null,null,null,null,null,null,14,{"$f":"VLOOKUP(\"*\"&$N$3&\"*\",OFFSET(Sheet6!$B$2:$F$439,O16,0),1,FALSE)","v":{"$error":"#N/A"}},{"$f":"VLOOKUP(\"*\"&$N$3&\"*\",OFFSET(Sheet6!$B$2:$F$406,O16,0),5,FALSE)","v":{"$error":"#N/A"}}]
[null,null,null,null,null,null,null,null,null,null,null,null,15,{"$f":"VLOOKUP(\"*\"&$N$3&\"*\",OFFSET(Sheet6!$B$2:$F$439,O17,0),1,FALSE)","v":{"$error":"#N/A"}},{"$f":"VLOOKUP(\"*\"&$N$3&\"*\",OFFSET(Sheet6!$B$2:$F$406,O17,0),5,FALSE)","v":{"$error":"#N/A"}}]
[null,null,null,null,null,null,null,null,null,null,null,null,16,{"$f":"VLOOKUP(\"*\"&$N$3&\"*\",OFFSET(Sheet6!$B$2:$F$439,O18,0),1,FALSE)","v":{"$error":"#N/A"}},{"$f":"VLOOKUP(\"*\"&$N$3&\"*\",OFFSET(Sheet6!$B$2:$F$406,O18,0),5,FALSE)","v":{"$error":"#N/A"}}]
[null,null,null,null,null,null,null,null,null,null,null,null,17,{"$f":"VLOOKUP(\"*\"&$N$3&\"*\",OFFSET(Sheet6!$B$2:$F$439,O19,0),1,FALSE)","v":{"$error":"#N/A"}},{"$f":"VLOOKUP(\"*\"&$N$3&\"*\",OFFSET(Sheet6!$B$2:$F$406,O19,0),5,FALSE)","v":{"$error":"#N/A"}}]
[null,null,null,null,null,null,null,null,null,null,null,null,18,{"$f":"VLOOKUP(\"*\"&$N$3&\"*\",OFFSET(Sheet6!$B$2:$F$439,O20,0),1,FALSE)","v":{"$error":"#N/A"}},{"$f":"VLOOKUP(\"*\"&$N$3&\"*\",OFFSET(Sheet6!$B$2:$F$406,O20,0),5,FALSE)","v":{"$error":"#N/A"}}]
[null,null,null,null,null,null,null,null,null,null,null,null,19,{"$f":"VLOOKUP(\"*\"&$N$3&\"*\",OFFSET(Sheet6!$B$2:$F$439,O21,0),1,FALSE)","v":{"$error":"#N/A"}},{"$f":"VLOOKUP(\"*\"&$N$3&\"*\",OFFSET(Sheet6!$B$2:$F$406,O21,0),5,FALSE)","v":{"$error":"#N/A"}}]
[null,null,null,null,null,null,null,null,null,null,null,null,20,{"$f":"VLOOKUP(\"*\"&$N$3&\"*\",OFFSET(Sheet6!$B$2:$F$439,O22,0),1,FALSE)","v":{"$error":"#N/A"}},{"$f":"VLOOKUP(\"*\"&$N$3&\"*\",OFFSET(Sheet6!$B$2:$F$406,O22,0),5,FALSE)","v":{"$error":"#N/A"}}]
[null,null,null,null,null,null,null,null,null,null,null,null,21,{"$f":"VLOOKUP(\"*\"&$N$3&\"*\",OFFSET(Sheet6!$B$2:$F$439,O23,0),1,FALSE)","v":{"$error":"#N/A"}},{"$f":"VLOOKUP(\"*\"&$N$3&\"*\",OFFSET(Sheet6!$B$2:$F$406,O23,0),5,FALSE)","v":{"$error":"#N/A"}}]
[null,null,null,null,null,null,null,null,null,null,null,null,22,{"$f":"VLOOKUP(\"*\"&$N$3&\"*\",OFFSET(Sheet6!$B$2:$F$439,O24,0),1,FALSE)","v":{"$error":"#N/A"}},{"$f":"VLOOKUP(\"*\"&$N$3&\"*\",OFFSET(Sheet6!$B$2:$F$406,O24,0),5,FALSE)","v":{"$error":"#N/A"}}]
[null,null,null,null,null,null,null,null,null,null,null,null,23,{"$f":"VLOOKUP(\"*\"&$N$3&\"*\",OFFSET(Sheet6!$B$2:$F$439,O25,0),1,FALSE)","v":{"$error":"#N/A"}},{"$f":"VLOOKUP(\"*\"&$N$3&\"*\",OFFSET(Sheet6!$B$2:$F$406,O25,0),5,FALSE)","v":{"$error":"#N/A"}}]
[null,null,null,null,null,null,null,null,null,null,null,null,24,{"$f":"VLOOKUP(\"*\"&$N$3&\"*\",OFFSET(Sheet6!$B$2:$F$439,O26,0),1,FALSE)","v":{"$error":"#N/A"}},{"$f":"VLOOKUP(\"*\"&$N$3&\"*\",OFFSET(Sheet6!$B$2:$F$406,O26,0),5,FALSE)","v":{"$error":"#N/A"}}]
[null,null,null,null,null,null,null,null,null,null,null,null,25,{"$f":"VLOOKUP(\"*\"&$N$3&\"*\",OFFSET(Sheet6!$B$2:$F$439,O27,0),1,FALSE)","v":{"$error":"#N/A"}},{"$f":"VLOOKUP(\"*\"&$N$3&\"*\",OFFSET(Sheet6!$B$2:$F$406,O27,0),5,FALSE)","v":{"$error":"#N/A"}}]
[null,null,null,null,null,null,null,null,null,null,null,null,26,{"$f":"VLOOKUP(\"*\"&$N$3&\"*\",OFFSET(Sheet6!$B$2:$F$439,O28,0),1,FALSE)","v":{"$error":"#N/A"}},{"$f":"VLOOKUP(\"*\"&$N$3&\"*\",OFFSET(Sheet6!$B$2:$F$406,O28,0),5,FALSE)","v":{"$error":"#N/A"}}]
[null,null,null,null,null,null,null,null,null,null,null,null,27,{"$f":"VLOOKUP(\"*\"&$N$3&\"*\",OFFSET(Sheet6!$B$2:$F$439,O29,0),1,FALSE)","v":{"$error":"#N/A"}},{"$f":"VLOOKUP(\"*\"&$N$3&\"*\",OFFSET(Sheet6!$B$2:$F$406,O29,0),5,FALSE)","v":{"$error":"#N/A"}}]
[null,null,null,null,null,null,null,null,null,null,null,null,28,{"$f":"VLOOKUP(\"*\"&$N$3&\"*\",OFFSET(Sheet6!$B$2:$F$439,O30,0),1,FALSE)","v":{"$error":"#N/A"}},{"$f":"VLOOKUP(\"*\"&$N$3&\"*\",OFFSET(Sheet6!$B$2:$F$406,O30,0),5,FALSE)","v":{"$error":"#N/A"}}]
[null,null,null,null,null,null,null,null,null,null,null,null,29,{"$f":"VLOOKUP(\"*\"&$N$3&\"*\",OFFSET(Sheet6!$B$2:$F$439,O31,0),1,FALSE)","v":{"$error":"#N/A"}},{"$f":"VLOOKUP(\"*\"&$N$3&\"*\",OFFSET(Sheet6!$B$2:$F$406,O31,0),5,FALSE)","v":{"$error":"#N/A"}}]
[null,null,null,null,null,null,null,null,null,null,null,null,30,{"$f":"VLOOKUP(\"*\"&$N$3&\"*\",OFFSET(Sheet6!$B$2:$F$439,O32,0),1,FALSE)","v":{"$error":"#N/A"}},{"$f":"VLOOKUP(\"*\"&$N$3&\"*\",OFFSET(Sheet6!$B$2:$F$406,O32,0),5,FALSE)","v":{"$error":"#N/A"}}]
[null,null,null,null,null,null,null,null,null,null,null,null,31,{"$f":"VLOOKUP(\"*\"&$N$3&\"*\",OFFSET(Sheet6!$B$2:$F$439,O33,0),1,FALSE)","v":{"$error":"#N/A"}},{"$f":"VLOOKUP(\"*\"&$N$3&\"*\",OFFSET(Sheet6!$B$2:$F$406,O33,0),5,FALSE)","v":{"$error":"#N/A"}}]
[null,null,null,null,null,null,null,null,null,null,null,null,32,{"$f":"VLOOKUP(\"*\"&$N$3&\"*\",OFFSET(Sheet6!$B$2:$F$439,O34,0),1,FALSE)","v":{"$error":"#N/A"}},{"$f":"VLOOKUP(\"*\"&$N$3&\"*\",OFFSET(Sheet6!$B$2:$F$406,O34,0),5,FALSE)","v":{"$error":"#N/A"}}]
[null,null,null,null,null,null,null,null,null,null,null,null,33,{"$f":"VLOOKUP(\"*\"&$N$3&\"*\",OFFSET(Sheet6!$B$2:$F$439,O35,0),1,FALSE)","v":{"$error":"#N/A"}},{"$f":"VLOOKUP(\"*\"&$N$3&\"*\",OFFSET(Sheet6!$B$2:$F$406,O35,0),5,FALSE)","v":{"$error":"#N/A"}}]
[null,null,null,null,null,null,null,null,null,null,null,null,34,{"$f":"VLOOKUP(\"*\"&$N$3&\"*\",OFFSET(Sheet6!$B$2:$F$439,O36,0),1,FALSE)","v":{"$error":"#N/A"}},{"$f":"VLOOKUP(\"*\"&$N$3&\"*\",OFFSET(Sheet6!$B$2:$F$406,O36,0),5,FALSE)","v":{"$error":"#N/A"}}]
[null,null,null,null,null,null,null,null,null,null,null,null,35,{"$f":"VLOOKUP(\"*\"&$N$3&\"*\",OFFSET(Sheet6!$B$2:$F$439,O37,0),1,FALSE)","v":{"$error":"#N/A"}},{"$f":"VLOOKUP(\"*\"&$N$3&\"*\",OFFSET(Sheet6!$B$2:$F$406,O37,0),5,FALSE)","v":{"$error":"#N/A"}}]
[null,null,null,null,null,null,null,null,null,null,null,null,36,{"$f":"VLOOKUP(\"*\"&$N$3&\"*\",OFFSET(Sheet6!$B$2:$F$439,O38,0),1,FALSE)","v":{"$error":"#N/A"}},{"$f":"VLOOKUP(\"*\"&$N$3&\"*\",OFFSET(Sheet6!$B$2:$F$406,O38,0),5,FALSE)","v":{"$error":"#N/A"}}]
[null,null,null,null,null,null,null,null,null,null,null,null,37,{"$f":"VLOOKUP(\"*\"&$N$3&\"*\",OFFSET(Sheet6!$B$2:$F$439,O39,0),1,FALSE)","v":{"$error":"#N/A"}},{"$f":"VLOOKUP(\"*\"&$N$3&\"*\",OFFSET(Sheet6!$B$2:$F$406,O39,0),5,FALSE)","v":{"$error":"#N/A"}}]
[null,null,null,null,null,null,null,null,null,null,null,null,38,{"$f":"VLOOKUP(\"*\"&$N$3&\"*\",OFFSET(Sheet6!$B$2:$F$439,O40,0),1,FALSE)","v":{"$error":"#N/A"}},{"$f":"VLOOKUP(\"*\"&$N$3&\"*\",OFFSET(Sheet6!$B$2:$F$406,O40,0),5,FALSE)","v":{"$error":"#N/A"}}]
[null,null,null,null,null,null,null,null,null,null,null,null,39,{"$f":"VLOOKUP(\"*\"&$N$3&\"*\",OFFSET(Sheet6!$B$2:$F$439,O41,0),1,FALSE)","v":{"$error":"#N/A"}},{"$f":"VLOOKUP(\"*\"&$N$3&\"*\",OFFSET(Sheet6!$B$2:$F$406,O41,0),5,FALSE)","v":{"$error":"#N/A"}}]
[null,null,null,null,null,null,null,null,null,null,null,null,40,{"$f":"VLOOKUP(\"*\"&$N$3&\"*\",OFFSET(Sheet6!$B$2:$F$439,O42,0),1,FALSE)","v":{"$error":"#N/A"}},{"$f":"VLOOKUP(\"*\"&$N$3&\"*\",OFFSET(Sheet6!$B$2:$F$406,O42,0),5,FALSE)","v":{"$error":"#N/A"}}]
[null,null,null,null,null,null,null,null,null,null,null,null,41,{"$f":"VLOOKUP(\"*\"&$N$3&\"*\",OFFSET(Sheet6!$B$2:$F$439,O43,0),1,FALSE)","v":{"$error":"#N/A"}},{"$f":"VLOOKUP(\"*\"&$N$3&\"*\",OFFSET(Sheet6!$B$2:$F$406,O43,0),5,FALSE)","v":{"$error":"#N/A"}}]
[null,null,null,null,null,null,null,null,null,null,null,null,42,{"$f":"VLOOKUP(\"*\"&$N$3&\"*\",OFFSET(Sheet6!$B$2:$F$439,O44,0),1,FALSE)","v":{"$error":"#N/A"}},{"$f":"VLOOKUP(\"*\"&$N$3&\"*\",OFFSET(Sheet6!$B$2:$F$406,O44,0),5,FALSE)","v":{"$error":"#N/A"}}]
[null,null,null,null,null,null,null,null,null,null,null,null,43,{"$f":"VLOOKUP(\"*\"&$N$3&\"*\",OFFSET(Sheet6!$B$2:$F$439,O45,0),1,FALSE)","v":{"$error":"#N/A"}},{"$f":"VLOOKUP(\"*\"&$N$3&\"*\",OFFSET(Sheet6!$B$2:$F$406,O45,0),5,FALSE)","v":{"$error":"#N/A"}}]
[null,null,null,null,null,null,null,null,null,null,null,null,44,{"$f":"VLOOKUP(\"*\"&$N$3&\"*\",OFFSET(Sheet6!$B$2:$F$439,O46,0),1,FALSE)","v":{"$error":"#N/A"}},{"$f":"VLOOKUP(\"*\"&$N$3&\"*\",OFFSET(Sheet6!$B$2:$F$406,O46,0),5,FALSE)","v":{"$error":"#N/A"}}]
[null,null,null,null,null,null,null,null,null,null,null,null,45,{"$f":"VLOOKUP(\"*\"&$N$3&\"*\",OFFSET(Sheet6!$B$2:$F$439,O47,0),1,FALSE)","v":{"$error":"#N/A"}},{"$f":"VLOOKUP(\"*\"&$N$3&\"*\",OFFSET(Sheet6!$B$2:$F$406,O47,0),5,FALSE)","v":{"$error":"#N/A"}}]
[null,null,null,null,null,null,null,null,null,null,null,null,46,{"$f":"VLOOKUP(\"*\"&$N$3&\"*\",OFFSET(Sheet6!$B$2:$F$439,O48,0),1,FALSE)","v":{"$error":"#N/A"}},{"$f":"VLOOKUP(\"*\"&$N$3&\"*\",OFFSET(Sheet6!$B$2:$F$406,O48,0),5,FALSE)","v":{"$error":"#N/A"}}]
[null,null,null,null,null,null,null,null,null,null,null,null,47,{"$f":"VLOOKUP(\"*\"&$N$3&\"*\",OFFSET(Sheet6!$B$2:$F$439,O49,0),1,FALSE)","v":{"$error":"#N/A"}},{"$f":"VLOOKUP(\"*\"&$N$3&\"*\",OFFSET(Sheet6!$B$2:$F$406,O49,0),5,FALSE)","v":{"$error":"#N/A"}}]
[null,null,null,null,null,null,null,null,null,null,null,null,48,{"$f":"VLOOKUP(\"*\"&$N$3&\"*\",OFFSET(Sheet6!$B$2:$F$439,O50,0),1,FALSE)","v":{"$error":"#N/A"}},{"$f":"VLOOKUP(\"*\"&$N$3&\"*\",OFFSET(Sheet6!$B$2:$F$406,O50,0),5,FALSE)","v":{"$error":"#N/A"}}]
[null,null,null,null,null,null,null,null,null,null,null,null,49,{"$f":"VLOOKUP(\"*\"&$N$3&\"*\",OFFSET(Sheet6!$B$2:$F$439,O51,0),1,FALSE)","v":{"$error":"#N/A"}},{"$f":"VLOOKUP(\"*\"&$N$3&\"*\",OFFSET(Sheet6!$B$2:$F$406,O51,0),5,FALSE)","v":{"$error":"#N/A"}}]
[null,null,null,null,null,null,null,null,null,null,null,null,50,{"$f":"VLOOKUP(\"*\"&$N$3&\"*\",OFFSET(Sheet6!$B$2:$F$439,O52,0),1,FALSE)","v":{"$error":"#N/A"}},{"$f":"VLOOKUP(\"*\"&$N$3&\"*\",OFFSET(Sheet6!$B$2:$F$406,O52,0),5,FALSE)","v":{"$error":"#N/A"}}]
[null,null,null,null,null,null,null,null,null,null,null,null,51,{"$f":"VLOOKUP(\"*\"&$N$3&\"*\",OFFSET(Sheet6!$B$2:$F$439,O53,0),1,FALSE)","v":{"$error":"#N/A"}},{"$f":"VLOOKUP(\"*\"&$N$3&\"*\",OFFSET(Sheet6!$B$2:$F$406,O53,0),5,FALSE)","v":{"$error":"#N/A"}}]
[null,null,null,null,null,null,null,null,null,null,null,null,52,{"$f":"VLOOKUP(\"*\"&$N$3&\"*\",OFFSET(Sheet6!$B$2:$F$439,O54,0),1,FALSE)","v":{"$error":"#N/A"}},{"$f":"VLOOKUP(\"*\"&$N$3&\"*\",OFFSET(Sheet6!$B$2:$F$406,O54,0),5,FALSE)","v":{"$error":"#N/A"}}]
[null,null,null,null,null,null,null,null,null,null,null,null,53,{"$f":"VLOOKUP(\"*\"&$N$3&\"*\",OFFSET(Sheet6!$B$2:$F$439,O55,0),1,FALSE)","v":{"$error":"#N/A"}},{"$f":"VLOOKUP(\"*\"&$N$3&\"*\",OFFSET(Sheet6!$B$2:$F$406,O55,0),5,FALSE)","v":{"$error":"#N/A"}}]
[null,null,null,null,null,null,null,null,null,null,null,null,54,{"$f":"VLOOKUP(\"*\"&$N$3&\"*\",OFFSET(Sheet6!$B$2:$F$439,O56,0),1,FALSE)","v":{"$error":"#N/A"}},{"$f":"VLOOKUP(\"*\"&$N$3&\"*\",OFFSET(Sheet6!$B$2:$F$406,O56,0),5,FALSE)","v":{"$error":"#N/A"}}]
[null,null,null,null,null,null,null,null,null,null,null,null,55,{"$f":"VLOOKUP(\"*\"&$N$3&\"*\",OFFSET(Sheet6!$B$2:$F$439,O57,0),1,FALSE)","v":{"$error":"#N/A"}},{"$f":"VLOOKUP(\"*\"&$N$3&\"*\",OFFSET(Sheet6!$B$2:$F$406,O57,0),5,FALSE)","v":{"$error":"#N/A"}}]
[null,null,null,null,null,null,null,null,null,null,null,null,56,{"$f":"VLOOKUP(\"*\"&$N$3&\"*\",OFFSET(Sheet6!$B$2:$F$439,O58,0),1,FALSE)","v":{"$error":"#N/A"}},{"$f":"VLOOKUP(\"*\"&$N$3&\"*\",OFFSET(Sheet6!$B$2:$F$406,O58,0),5,FALSE)","v":{"$error":"#N/A"}}]
[null,null,null,null,null,null,null,null,null,null,null,null,57,{"$f":"VLOOKUP(\"*\"&$N$3&\"*\",OFFSET(Sheet6!$B$2:$F$439,O59,0),1,FALSE)","v":{"$error":"#N/A"}},{"$f":"VLOOKUP(\"*\"&$N$3&\"*\",OFFSET(Sheet6!$B$2:$F$406,O59,0),5,FALSE)","v":{"$error":"#N/A"}}]
[null,null,null,null,null,null,null,null,null,null,null,null,58,{"$f":"VLOOKUP(\"*\"&$N$3&\"*\",OFFSET(Sheet6!$B$2:$F$439,O60,0),1,FALSE)","v":{"$error":"#N/A"}},{"$f":"VLOOKUP(\"*\"&$N$3&\"*\",OFFSET(Sheet6!$B$2:$F$406,O60,0),5,FALSE)","v":{"$error":"#N/A"}}]
[null,null,null,null,null,null,null,null,null,null,null,null,59,{"$f":"VLOOKUP(\"*\"&$N$3&\"*\",OFFSET(Sheet6!$B$2:$F$439,O61,0),1,FALSE)","v":{"$error":"#N/A"}},{"$f":"VLOOKUP(\"*\"&$N$3&\"*\",OFFSET(Sheet6!$B$2:$F$406,O61,0),5,FALSE)","v":{"$error":"#N/A"}}]
[null,null,null,null,null,null,null,null,null,null,null,null,60,{"$f":"VLOOKUP(\"*\"&$N$3&\"*\",OFFSET(Sheet6!$B$2:$F$439,O62,0),1,FALSE)","v":{"$error":"#N/A"}},{"$f":"VLOOKUP(\"*\"&$N$3&\"*\",OFFSET(Sheet6!$B$2:$F$406,O62,0),5,FALSE)","v":{"$error":"#N/A"}}]
[null,null,null,null,null,null,null,null,null,null,null,null,61,{"$f":"VLOOKUP(\"*\"&$N$3&\"*\",OFFSET(Sheet6!$B$2:$F$439,O63,0),1,FALSE)","v":{"$error":"#N/A"}},{"$f":"VLOOKUP(\"*\"&$N$3&\"*\",OFFSET(Sheet6!$B$2:$F$406,O63,0),5,FALSE)","v":{"$error":"#N/A"}}]
[null,null,null,null,null,null,null,null,null,null,null,null,62,{"$f":"VLOOKUP(\"*\"&$N$3&\"*\",OFFSET(Sheet6!$B$2:$F$439,O64,0),1,FALSE)","v":{"$error":"#N/A"}},{"$f":"VLOOKUP(\"*\"&$N$3&\"*\",OFFSET(Sheet6!$B$2:$F$406,O64,0),5,FALSE)","v":{"$error":"#N/A"}}]
[null,null,null,null,null,null,null,null,null,null,null,null,63,{"$f":"VLOOKUP(\"*\"&$N$3&\"*\",OFFSET(Sheet6!$B$2:$F$439,O65,0),1,FALSE)","v":{"$error":"#N/A"}},{"$f":"VLOOKUP(\"*\"&$N$3&\"*\",OFFSET(Sheet6!$B$2:$F$406,O65,0),5,FALSE)","v":{"$error":"#N/A"}}]
[null,null,null,null,null,null,null,null,null,null,null,null,64,{"$f":"VLOOKUP(\"*\"&$N$3&\"*\",OFFSET(Sheet6!$B$2:$F$439,O66,0),1,FALSE)","v":{"$error":"#N/A"}},{"$f":"VLOOKUP(\"*\"&$N$3&\"*\",OFFSET(Sheet6!$B$2:$F$406,O66,0),5,FALSE)","v":{"$error":"#N/A"}}]
[null,null,null,null,null,null,null,null,null,null,null,null,65,{"$f":"VLOOKUP(\"*\"&$N$3&\"*\",OFFSET(Sheet6!$B$2:$F$439,O67,0),1,FALSE)","v":{"$error":"#N/A"}},{"$f":"VLOOKUP(\"*\"&$N$3&\"*\",OFFSET(Sheet6!$B$2:$F$406,O67,0),5,FALSE)","v":{"$error":"#N/A"}}]
[null,null,null,null,null,null,null,null,null,null,null,null,66,{"$f":"VLOOKUP(\"*\"&$N$3&\"*\",OFFSET(Sheet6!$B$2:$F$439,O68,0),1,FALSE)","v":{"$error":"#N/A"}},{"$f":"VLOOKUP(\"*\"&$N$3&\"*\",OFFSET(Sheet6!$B$2:$F$406,O68,0),5,FALSE)","v":{"$error":"#N/A"}}]
[null,null,null,null,null,null,null,null,null,null,null,null,67,{"$f":"VLOOKUP(\"*\"&$N$3&\"*\",OFFSET(Sheet6!$B$2:$F$439,O69,0),1,FALSE)","v":{"$error":"#N/A"}},{"$f":"VLOOKUP(\"*\"&$N$3&\"*\",OFFSET(Sheet6!$B$2:$F$406,O69,0),5,FALSE)","v":{"$error":"#N/A"}}]
[null,null,null,null,null,null,null,null,null,null,null,null,68,{"$f":"VLOOKUP(\"*\"&$N$3&\"*\",OFFSET(Sheet6!$B$2:$F$439,O70,0),1,FALSE)","v":{"$error":"#N/A"}},{"$f":"VLOOKUP(\"*\"&$N$3&\"*\",OFFSET(Sheet6!$B$2:$F$406,O70,0),5,FALSE)","v":{"$error":"#N/A"}}]
[null,null,null,null,null,null,null,null,null,null,null,null,69,{"$f":"VLOOKUP(\"*\"&$N$3&\"*\",OFFSET(Sheet6!$B$2:$F$439,O71,0),1,FALSE)","v":{"$error":"#N/A"}},{"$f":"VLOOKUP(\"*\"&$N$3&\"*\",OFFSET(Sheet6!$B$2:$F$406,O71,0),5,FALSE)","v":{"$error":"#N/A"}}]
[null,null,null,null,null,null,null,null,null,null,null,null,70,{"$f":"VLOOKUP(\"*\"&$N$3&\"*\",OFFSET(Sheet6!$B$2:$F$439,O72,0),1,FALSE)","v":{"$error":"#N/A"}},{"$f":"VLOOKUP(\"*\"&$N$3&\"*\",OFFSET(Sheet6!$B$2:$F$406,O72,0),5,FALSE)","v":{"$error":"#N/A"}}]
[null,null,null,null,null,null,null,null,null,null,null,null,71,{"$f":"VLOOKUP(\"*\"&$N$3&\"*\",OFFSET(Sheet6!$B$2:$F$439,O73,0),1,FALSE)","v":{"$error":"#N/A"}},{"$f":"VLOOKUP(\"*\"&$N$3&\"*\",OFFSET(Sheet6!$B$2:$F$406,O73,0),5,FALSE)","v":{"$error":"#N/A"}}]
[null,null,null,null,null,null,null,null,null,null,null,null,72,{"$f":"VLOOKUP(\"*\"&$N$3&\"*\",OFFSET(Sheet6!$B$2:$F$439,O74,0),1,FALSE)","v":{"$error":"#N/A"}},{"$f":"VLOOKUP(\"*\"&$N$3&\"*\",OFFSET(Sheet6!$B$2:$F$406,O74,0),5,FALSE)","v":{"$error":"#N/A"}}]
[null,null,null,null,null,null,null,null,null,null,null,null,73,{"$f":"VLOOKUP(\"*\"&$N$3&\"*\",OFFSET(Sheet6!$B$2:$F$439,O75,0),1,FALSE)","v":{"$error":"#N/A"}},{"$f":"VLOOKUP(\"*\"&$N$3&\"*\",OFFSET(Sheet6!$B$2:$F$406,O75,0),5,FALSE)","v":{"$error":"#N/A"}}]
[null,null,null,null,null,null,null,null,null,null,null,null,74,{"$f":"VLOOKUP(\"*\"&$N$3&\"*\",OFFSET(Sheet6!$B$2:$F$439,O76,0),1,FALSE)","v":{"$error":"#N/A"}},{"$f":"VLOOKUP(\"*\"&$N$3&\"*\",OFFSET(Sheet6!$B$2:$F$406,O76,0),5,FALSE)","v":{"$error":"#N/A"}}]
[null,null,null,null,null,null,null,null,null,null,null,null,75,{"$f":"VLOOKUP(\"*\"&$N$3&\"*\",OFFSET(Sheet6!$B$2:$F$439,O77,0),1,FALSE)","v":{"$error":"#N/A"}},{"$f":"VLOOKUP(\"*\"&$N$3&\"*\",OFFSET(Sheet6!$B$2:$F$406,O77,0),5,FALSE)","v":{"$error":"#N/A"}}]
[null,null,null,null,null,null,null,null,null,null,null,null,76,{"$f":"VLOOKUP(\"*\"&$N$3&\"*\",OFFSET(Sheet6!$B$2:$F$439,O78,0),1,FALSE)","v":{"$error":"#N/A"}},{"$f":"VLOOKUP(\"*\"&$N$3&\"*\",OFFSET(Sheet6!$B$2:$F$406,O78,0),5,FALSE)","v":{"$error":"#N/A"}}]
[null,null,null,null,null,null,null,null,null,null,null,null,77,{"$f":"VLOOKUP(\"*\"&$N$3&\"*\",OFFSET(Sheet6!$B$2:$F$439,O79,0),1,FALSE)","v":{"$error":"#N/A"}},{"$f":"VLOOKUP(\"*\"&$N$3&\"*\",OFFSET(Sheet6!$B$2:$F$406,O79,0),5,FALSE)","v":{"$error":"#N/A"}}]
[null,null,null,null,null,null,null,null,null,null,null,null,78,{"$f":"VLOOKUP(\"*\"&$N$3&\"*\",OFFSET(Sheet6!$B$2:$F$439,O80,0),1,FALSE)","v":{"$error":"#N/A"}},{"$f":"VLOOKUP(\"*\"&$N$3&\"*\",OFFSET(Sheet6!$B$2:$F$406,O80,0),5,FALSE)","v":{"$error":"#N/A"}}]
[null,null,null,null,null,null,null,null,null,null,null,null,79,{"$f":"VLOOKUP(\"*\"&$N$3&\"*\",OFFSET(Sheet6!$B$2:$F$439,O81,0),1,FALSE)","v":{"$error":"#N/A"}},{"$f":"VLOOKUP(\"*\"&$N$3&\"*\",OFFSET(Sheet6!$B$2:$F$406,O81,0),5,FALSE)","v":{"$error":"#N/A"}}]
[null,null,null,null,null,null,null,null,null,null,null,null,80,{"$f":"VLOOKUP(\"*\"&$N$3&\"*\",OFFSET(Sheet6!$B$2:$F$439,O82,0),1,FALSE)","v":{"$error":"#N/A"}},{"$f":"VLOOKUP(\"*\"&$N$3&\"*\",OFFSET(Sheet6!$B$2:$F$406,O82,0),5,FALSE)","v":{"$error":"#N/A"}}]
[null,null,null,null,null,null,null,null,null,null,null,null,81,{"$f":"VLOOKUP(\"*\"&$N$3&\"*\",OFFSET(Sheet6!$B$2:$F$439,O83,0),1,FALSE)","v":{"$error":"#N/A"}},{"$f":"VLOOKUP(\"*\"&$N$3&\"*\",OFFSET(Sheet6!$B$2:$F$406,O83,0),5,FALSE)","v":{"$error":"#N/A"}}]
[null,null,null,null,null,null,null,null,null,null,null,null,82,{"$f":"VLOOKUP(\"*\"&$N$3&\"*\",OFFSET(Sheet6!$B$2:$F$439,O84,0),1,FALSE)","v":{"$error":"#N/A"}},{"$f":"VLOOKUP(\"*\"&$N$3&\"*\",OFFSET(Sheet6!$B$2:$F$406,O84,0),5,FALSE)","v":{"$error":"#N/A"}}]
[null,null,null,null,null,null,null,null,null,null,null,null,83,{"$f":"VLOOKUP(\"*\"&$N$3&\"*\",OFFSET(Sheet6!$B$2:$F$439,O85,0),1,FALSE)","v":{"$error":"#N/A"}},{"$f":"VLOOKUP(\"*\"&$N$3&\"*\",OFFSET(Sheet6!$B$2:$F$406,O85,0),5,FALSE)","v":{"$error":"#N/A"}}]
[null,null,null,null,null,null,null,null,null,null,null,null,84,{"$f":"VLOOKUP(\"*\"&$N$3&\"*\",OFFSET(Sheet6!$B$2:$F$439,O86,0),1,FALSE)","v":{"$error":"#N/A"}},{"$f":"VLOOKUP(\"*\"&$N$3&\"*\",OFFSET(Sheet6!$B$2:$F$406,O86,0),5,FALSE)","v":{"$error":"#N/A"}}]
[null,null,null,null,null,null,null,null,null,null,null,null,85,{"$f":"VLOOKUP(\"*\"&$N$3&\"*\",OFFSET(Sheet6!$B$2:$F$439,O87,0),1,FALSE)","v":{"$error":"#N/A"}},{"$f":"VLOOKUP(\"*\"&$N$3&\"*\",OFFSET(Sheet6!$B$2:$F$406,O87,0),5,FALSE)","v":{"$error":"#N/A"}}]
[null,null,null,null,null,null,null,null,null,null,null,null,86,{"$f":"VLOOKUP(\"*\"&$N$3&\"*\",OFFSET(Sheet6!$B$2:$F$439,O88,0),1,FALSE)","v":{"$error":"#N/A"}},{"$f":"VLOOKUP(\"*\"&$N$3&\"*\",OFFSET(Sheet6!$B$2:$F$406,O88,0),5,FALSE)","v":{"$error":"#N/A"}}]
[null,null,null,null,null,null,null,null,null,null,null,null,87,{"$f":"VLOOKUP(\"*\"&$N$3&\"*\",OFFSET(Sheet6!$B$2:$F$439,O89,0),1,FALSE)","v":{"$error":"#N/A"}},{"$f":"VLOOKUP(\"*\"&$N$3&\"*\",OFFSET(Sheet6!$B$2:$F$406,O89,0),5,FALSE)","v":{"$error":"#N/A"}}]
[null,null,null,null,null,null,null,null,null,null,null,null,88,{"$f":"VLOOKUP(\"*\"&$N$3&\"*\",OFFSET(Sheet6!$B$2:$F$439,O90,0),1,FALSE)","v":{"$error":"#N/A"}},{"$f":"VLOOKUP(\"*\"&$N$3&\"*\",OFFSET(Sheet6!$B$2:$F$406,O90,0),5,FALSE)","v":{"$error":"#N/A"}}]
[null,null,null,null,null,null,null,null,null,null,null,null,89,{"$f":"VLOOKUP(\"*\"&$N$3&\"*\",OFFSET(Sheet6!$B$2:$F$439,O91,0),1,FALSE)","v":{"$error":"#N/A"}},{"$f":"VLOOKUP(\"*\"&$N$3&\"*\",OFFSET(Sheet6!$B$2:$F$406,O91,0),5,FALSE)","v":{"$error":"#N/A"}}]
[null,null,null,null,null,null,null,null,null,null,null,null,90,{"$f":"VLOOKUP(\"*\"&$N$3&\"*\",OFFSET(Sheet6!$B$2:$F$439,O92,0),1,FALSE)","v":{"$error":"#N/A"}},{"$f":"VLOOKUP(\"*\"&$N$3&\"*\",OFFSET(Sheet6!$B$2:$F$406,O92,0),5,FALSE)","v":{"$error":"#N/A"}}]
[null,null,null,null,null,null,null,null,null,null,null,null,91,{"$f":"VLOOKUP(\"*\"&$N$3&\"*\",OFFSET(Sheet6!$B$2:$F$439,O93,0),1,FALSE)","v":{"$error":"#N/A"}},{"$f":"VLOOKUP(\"*\"&$N$3&\"*\",OFFSET(Sheet6!$B$2:$F$406,O93,0),5,FALSE)","v":{"$error":"#N/A"}}]
[null,null,null,null,null,null,null,null,null,null,null,null,92,{"$f":"VLOOKUP(\"*\"&$N$3&\"*\",OFFSET(Sheet6!$B$2:$F$439,O94,0),1,FALSE)","v":{"$error":"#N/A"}},{"$f":"VLOOKUP(\"*\"&$N$3&\"*\",OFFSET(Sheet6!$B$2:$F$406,O94,0),5,FALSE)","v":{"$error":"#N/A"}}]
[null,null,null,null,null,null,null,null,null,null,null,null,93,{"$f":"VLOOKUP(\"*\"&$N$3&\"*\",OFFSET(Sheet6!$B$2:$F$439,O95,0),1,FALSE)","v":{"$error":"#N/A"}},{"$f":"VLOOKUP(\"*\"&$N$3&\"*\",OFFSET(Sheet6!$B$2:$F$406,O95,0),5,FALSE)","v":{"$error":"#N/A"}}]
[null,null,null,null,null,null,null,null,null,null,null,null,94,{"$f":"VLOOKUP(\"*\"&$N$3&\"*\",OFFSET(Sheet6!$B$2:$F$439,O96,0),1,FALSE)","v":{"$error":"#N/A"}},{"$f":"VLOOKUP(\"*\"&$N$3&\"*\",OFFSET(Sheet6!$B$2:$F$406,O96,0),5,FALSE)","v":{"$error":"#N/A"}}]
[null,null,null,null,null,null,null,null,null,null,null,null,95,{"$f":"VLOOKUP(\"*\"&$N$3&\"*\",OFFSET(Sheet6!$B$2:$F$439,O97,0),1,FALSE)","v":{"$error":"#N/A"}},{"$f":"VLOOKUP(\"*\"&$N$3&\"*\",OFFSET(Sheet6!$B$2:$F$406,O97,0),5,FALSE)","v":{"$error":"#N/A"}}]
[null,null,null,null,null,null,null,null,null,null,null,null,96,{"$f":"VLOOKUP(\"*\"&$N$3&\"*\",OFFSET(Sheet6!$B$2:$F$439,O98,0),1,FALSE)","v":{"$error":"#N/A"}},{"$f":"VLOOKUP(\"*\"&$N$3&\"*\",OFFSET(Sheet6!$B$2:$F$406,O98,0),5,FALSE)","v":{"$error":"#N/A"}}]
[null,null,null,null,null,null,null,null,null,null,null,null,97,{"$f":"VLOOKUP(\"*\"&$N$3&\"*\",OFFSET(Sheet6!$B$2:$F$439,O99,0),1,FALSE)","v":{"$error":"#N/A"}},{"$f":"VLOOKUP(\"*\"&$N$3&\"*\",OFFSET(Sheet6!$B$2:$F$406,O99,0),5,FALSE)","v":{"$error":"#N/A"}}]
[null,null,null,null,null,null,null,null,null,null,null,null,98,{"$f":"VLOOKUP(\"*\"&$N$3&\"*\",OFFSET(Sheet6!$B$2:$F$439,O100,0),1,FALSE)","v":{"$error":"#N/A"}},{"$f":"VLOOKUP(\"*\"&$N$3&\"*\",OFFSET(Sheet6!$B$2:$F$406,O100,0),5,FALSE)","v":{"$error":"#N/A"}}]
[null,null,null,null,null,null,null,null,null,null,null,null,99,{"$f":"VLOOKUP(\"*\"&$N$3&\"*\",OFFSET(Sheet6!$B$2:$F$439,O101,0),1,FALSE)","v":{"$error":"#N/A"}},{"$f":"VLOOKUP(\"*\"&$N$3&\"*\",OFFSET(Sheet6!$B$2:$F$406,O101,0),5,FALSE)","v":{"$error":"#N/A"}}]
[null,null,null,null,null,null,null,null,null,null,null,null,100,{"$f":"VLOOKUP(\"*\"&$N$3&\"*\",OFFSET(Sheet6!$B$2:$F$439,O102,0),1,FALSE)","v":{"$error":"#N/A"}},{"$f":"VLOOKUP(\"*\"&$N$3&\"*\",OFFSET(Sheet6!$B$2:$F$406,O102,0),5,FALSE)","v":{"$error":"#N/A"}}]
[null,null,null,null,null,null,null,null,null,null,null,null,101,{"$f":"VLOOKUP(\"*\"&$N$3&\"*\",OFFSET(Sheet6!$B$2:$F$439,O103,0),1,FALSE)","v":{"$error":"#N/A"}},{"$f":"VLOOKUP(\"*\"&$N$3&\"*\",OFFSET(Sheet6!$B$2:$F$406,O103,0),5,FALSE)","v":{"$error":"#N/A"}}]

{"sheet":"②選手情報入力","index":3,"n_rows":238,"n_cols":52,"rows_kept":238,"cut":false,"hidden":false,"merged":[[95,22,95,23],[96,22,96,23],[97,22,97,23],[98,22,98,23],[99,22,99,23],[90,22,90,23],[91,22,91,23],[92,22,92,23],[93,22,93,23],[94,22,94,23],[85,22,85,23],[86,22,86,23],[87,22,87,23],[88,22,88,23],[89,22,89,23],[80,22,80,23],[81,22,81,23],[82,22,82,23],[83,22,83,23],[84,22,84,23],[75,22,75,23],[76,22,76,23],[77,22,77,23],[78,22,78,23],[79,22,79,23],[70,22,70,23],[71,22,71,23],[72,22,72,23],[73,22,73,23],[74,22,74,23],[65,22,65,23],[66,22,66,23],[67,22,67,23],[68,22,68,23],[69,22,69,23],[60,22,60,23],[61,22,61,23],[62,22,62,23],[63,22,63,23],[64,22,64,23],[55,22,55,23],[56,22,56,23],[57,22,57,23],[58,22,58,23],[59,22,59,23],[50,22,50,23],[51,22,51,23],[52,22,52,23],[53,22,53,23],[54,22,54,23],[45,22,45,23],[46,22,46,23],[47,22,47,23],[48,22,48,23],[49,22,49,23],[40,22,40,23],[41,22,41,23],[42,22,42,23],[43,22,43,23],[44,22,44,23],[35,22,35,23],[36,22,36,23],[37,22,37,23],[38,22,38,23],[39,22,39,23],[30,22,30,23],[31,22,31,23],[32,22,32,23],[33,22,33,23],[34,22,34,23],[26,22,26,23],[27,22,27,23],[28,22,28,23],[29,22,29,23],[20,22,20,23],[21,22,21,23],[22,22,22,23],[23,22,23,23],[24,22,24,23],[97,20,97,21],[98,20,98,21],[99,20,99,21],[8,22,8,23],[9,22,9,23],[10,22,10,23],[11,22,11,23],[12,22,12,23],[13,22,13,23],[14,22,14,23],[15,22,15,23],[16,22,16,23],[17,22,17,23],[18,22,18,23],[19,22,19,23],[92,20,92,21],[93,20,93,21],[94,20,94,21],[95,20,95,21],[96,20,96,21],[87,20,87,21],[88,20,88,21],[89,20,89,21],[25,22,25,23],[90,20,90,21],[91,20,91,21],[82,20,82,21],[83,20,83,21],[84,20,84,21],[85,20,85,21],[86,20,86,21],[77,20,77,21],[78,20,78,21],[79,20,79,21],[80,20,80,21],[81,20,81,21],[72,20,72,21],[73,20,73,21],[74,20,74,21],[75,20,75,21],[76,20,76,21],[67,20,67,21],[68,20,68,21],[69,20,69,21],[70,20,70,21],[71,20,71,21],[62,20,62,21],[63,20,63,21],[64,20,64,21],[65,20,65,21],[66,20,66,21],[57,20,57,21],[58,20,58,21],[59,20,59,21],[60,20,60,21],[61,20,61,21],[52,20,52,21],[53,20,53,21],[54,20,54,21],[55,20,55,21],[56,20,56,21],[47,20,47,21],[48,20,48,21],[49,20,49,21],[50,20,50,21],[51,20,51,21],[43,20,43,21],[44,20,44,21],[45,20,45,21],[46,20,46,21],[37,20,37,21],[38,20,38,21],[39,20,39,21],[40,20,40,21],[41,20,41,21],[34,20,34,21],[35,20,35,21],[36,20,36,21],[27,20,27,21],[28,20,28,21],[29,20,29,21],[30,20,30,21],[31,20,31,21],[42,20,42,21],[25,20,25,21],[26,20,26,21],[17,20,17,21],[18,20,18,21],[19,20,19,21],[20,20,20,21],[21,20,21,21],[32,20,32,21],[33,20,33,21],[16,20,16,21],[8,20,8,21],[9,20,9,21],[10,20,10,21],[11,20,11,21],[1,21,3,23],[22,20,22,21],[23,20,23,21],[24,20,24,21],[9,0,10,0],[4,19,4,23],[1,13,1,18],[5,21,5,23],[8,6,8,7],[12,20,12,21],[13,20,13,21],[14,20,14,21],[15,20,15,21]]}
[null,"③選手情報入力",null,null,null,null,{"$f":"IF(①団体情報入力!D6=\"\",\"\",①団体情報入力!D6)","v":""},null,null,null,null,null,null,null,null,null,null,null,null,null,null,null,null,null,null,null,null,null,null,null,null,null,null,null,null,null,null,null,null,null,null,null,null,null,null,null,null,null,null,null,null,"AND　アンドラ公国"]
[null,null,null,"絶対に、行を空けて入力しないでください。",null,null,null,null,null,null,null,null,null,null,null,null,null,null,null,null,null,"男女と種目に注意して入呂してください",null,null,null,null,null,null,null,null,null,null,null,null,null,null,null,null,null,null,null,null,null,null,null,null,null,null,null,null,null,"ARE　アラブ首長国連邦"]
[null,null,null,"※必要事項を全て入力してください。",null,null,null,null,null,null,null,null,null,null,null,null,null,null,null,null,null,null,null,null,null,null,null,null,null,null,null,null,null,null,null,null,null,null,null,null,null,null,null,null,null,null,null,null,null,null,null,"AFG　アフガニスタン・イスラム国"]
[null,null,null,"※リレー種目にエントリーをする場合は○を選択し、「③リレー情報確認」でメンバーを確認してください。",null,null,null,null,null,null,null,null,null,null,null,null,null,null,null,null,null,null,null,null,null,null,null,null,null,null,null,null,null,null,null,null,null,null,null,null,null,null,null,null,null,null,null,null,null,null,null,"ATG　アンチグア・バーブーダ"]
[null,null,null,"※ナンバーを入力してもリレーメンバーが反映されない場合、ナンバーのセルが文字列になっています。",null,null,null,null,null,null,null,null,null,null,null,null,null,null,null,"リレー記録",null,null,null,null,null,null,null,null,null,null,null,null,null,null,null,null,null,null,null,null,null,null,null,null,null,null,null,null,null,null,null,"AIA　アンギラ"]
[null,null,null,"※コピーしたデータを貼り付ける場合は、「形式を選択して貼り付け」から「値」で貼り付けてください。",null,null,null,null,null,null,null,null,null,null,null,null,null,null,null,null,null,"記録",null,null,null,null,null,null,null,null,null,null,null,null,null,null,null,null,null,null,null,null,null,null,null,null,null,null,null,null,null,"ALB　アルバニア共和国"]
[null,null,null,"※データを修正する場合は、必ず「Delete」キーを使用してください。",null,null,null,null,null,null,null,null,null,null,null,null,null,null,null,"男子➡",null,null,null,null,null,null,null,null,null,null,null,null,null,null,null,null,null,null,null,null,null,null,null,null,null,null,null,null,null,null,null,"ARM　アルメニア共和国"]
[null,null,null,null,null,null,null,null,null,null,null,null,null,null,null,null,null,null,null,"女子➡",null,null,null,null,null,null,null,null,null,null,null,null,null,null,null,null,null,null,null,null,null,null,null,null,null,null,null,null,null,null,null,"ANT　オランダ領アンチル"]
["中学校名",null,"JAAF ID","ナンバー","氏　名\n姓と名の間に\n全角ｽﾍﾟｰｽ1つ","ﾌﾘｶﾞﾅ\n姓と名の間に\n半角ｽﾍﾟｰｽ1つ","英字名",null,"国籍","性別","学年","生年月日","種目","記録","OP2","種目２","記録２","OP3","種目２日目","記録２日目","4X100mR",null,"4X400mR",null,null,null,null,null,null,null,null,null,null,null,null,null,null,null,null,null,null,null,null,null,null,null,null,null,null,null,null,"AGO　アンゴラ共和国"]
[null,"例",123456789,1234,"名古屋　太郎","ﾅｺﾞﾔ ﾀﾛｳ","英字(姓)NAGOYA","英字(名)taro","JPN 日本","男","高2",20000101,"男100m",12.53,null,"男砲丸投","12m00",null,"男1500m","4.35.67","○",null,"○",null,null,null,null,null,null,null,"ﾅﾝﾊﾞｰ","氏　名","ﾌﾘｶﾞﾅ","性別","学年","競技者NO","ﾅﾝﾊﾞｰ","氏　名","ﾌﾘｶﾞﾅ","性別","学年","競技者NO","男400R",{"$f":"COUNT(AR11:AR100)","v":0},"男1600R",{"$f":"COUNT(AT11:AT100)","v":0},"女400R",{"$f":"COUNT(AV11:AV100)","v":0},"女1600R",{"$f":"COUNT(AX11:AX100)","v":0},null,"ATA　南極"]
[null,1,null,null,null,null,null,null,null,null,null,null,null,null,null,null,null,null,null,null,null,null,null,null,null,null,null,null,null,null,{"$f":"IF(J11=\"男\",D11,\"\")","v":""},{"$f":"IF(J11=\"男\",E11,\"\")","v":""},{"$f":"IF(J11=\"男\",G11,\"\")","v":""},{"$f":"IF(J11=\"男\",J11,\"\")","v":""},{"$f":"IF(J11=\"男\",IF(K11=\"\",\"\",K11),\"\")","v":""},{"$f":"IF(J11=\"男\",data_kyogisha!A2,\"\")","v":""},{"$f":"IF(J11=\"女\",D11,\"\")","v":""},{"$f":"IF(J11=\"女\",E11,\"\")","v":""},{"$f":"IF(J11=\"女\",G11,\"\")","v":""},{"$f":"IF(J11=\"女\",J11,\"\")","v":""},{"$f":"IF(J11=\"女\",IF(K11=\"\",\"\",K11),\"\")","v":""},{"$f":"IF(J11=\"女\",data_kyogisha!A2,\"\")","v":""},{"$f":"IF(AND(J11=\"男\",U11=\"○\"),1,0)","v":0},{"$f":"IF(AND($J11=\"男\",$U11=\"○\"),$D11,\"\")","v":""},{"$f":"IF(AND(J11=\"男\",W11=\"○\"),1,0)","v":0},{"$f":"IF(AND($J11=\"男\",$W11=\"○\"),$D11,\"\")","v":""},{"$f":"IF(AND(J11=\"女\",U11=\"○\"),1,0)","v":0},{"$f":"IF(AND($J11=\"女\",$U11=\"○\"),$D11,\"\")","v":""},{"$f":"IF(AND(J11=\"女\",W11=\"○\"),1,0)","v":0},{"$f":"IF(AND($J11=\"女\",$W11=\"○\"),$D11,\"\")","v":""},null,"ARG　アルゼンチン共和国"]
[null,2,null,null,null,null,null,null,null,null,null,null,null,null,null,null,null,null,null,null,null,null,null,null,null,null,"男",{"$f":"IF(種目情報!A4=\"\",\"\",種目情報!A4)","v":""},{"$f":"IF(種目情報!E4=\"\",\"\",種目情報!E4)","v":""},"○","","","","","",{"$f":"IF(J12=\"男\",data_kyogisha!A3,\"\")","v":""},"","","","","",{"$f":"IF(J12=\"女\",data_kyogisha!A3,\"\")","v":""},{"$f":"IF(AND(J12=\"男\",U12=\"○\"),AQ11+1,AQ11)","v":0},{"$f":"IF(AND(J12=\"男\",U12=\"○\"),D12,\"\")","v":""},{"$f":"IF(AND(J12=\"男\",W12=\"○\"),AS11+1,AS11)","v":0},{"$f":"IF(AND(J12=\"男\",W12=\"○\"),D12,\"\")","v":""},{"$f":"IF(AND(J12=\"女\",U12=\"○\"),AU11+1,AU11)","v":0},"",{"$f":"IF(AND(J12=\"女\",W12=\"○\"),AW11+1,AW11)","v":0},"",null,"ASM　米領サモア"]
[null,3,null,null,null,null,null,null,null,null,null,null,null,null,null,null,null,null,null,null,null,null,null,null,null,null,"女",{"$f":"IF(種目情報!A5=\"\",\"\",種目情報!A5)","v":"一男１００ｍ"},{"$f":"IF(種目情報!E5=\"\",\"\",種目情報!E5)","v":"一女１００ｍ"},null,"","","","","",{"$f":"IF(J13=\"男\",data_kyogisha!A4,\"\")","v":""},"","","","","",{"$f":"IF(J13=\"女\",data_kyogisha!A4,\"\")","v":""},0,"",0,"",0,"",0,"",null,"AUT　オーストリア共和国"]
[null,4,null,null,null,null,null,null,null,null,null,null,null,null,null,null,null,null,null,null,null,null,null,null,null,null,null,{"$f":"IF(種目情報!A6=\"\",\"\",種目情報!A6)","v":"一男２０００ｍ"},{"$f":"IF(種目情報!E6=\"\",\"\",種目情報!E6)","v":"一女２０００ｍ"},null,"","","","","",{"$f":"IF(J14=\"男\",data_kyogisha!A5,\"\")","v":""},"","","","","",{"$f":"IF(J14=\"女\",data_kyogisha!A5,\"\")","v":""},0,"",0,"",0,"",0,"",null,"AUS　オーストラリア"]
[null,5,null,null,null,null,null,null,null,null,null,null,null,null,null,null,null,null,null,null,null,null,null,null,null,null,null,{"$f":"IF(種目情報!A7=\"\",\"\",種目情報!A7)","v":"一男走幅跳"},{"$f":"IF(種目情報!E7=\"\",\"\",種目情報!E7)","v":"一女走幅跳"},null,"","","","","",{"$f":"IF(J15=\"男\",data_kyogisha!A6,\"\")","v":""},"","","","","",{"$f":"IF(J15=\"女\",data_kyogisha!A6,\"\")","v":""},0,"",0,"",0,"",0,"",null,"ABW　アルバ"]
[null,6,null,null,null,null,null,null,null,null,null,null,null,null,null,null,null,null,null,null,null,null,null,null,null,null,null,{"$f":"IF(種目情報!A8=\"\",\"\",種目情報!A8)","v":"一男砲丸投(7.260kg)"},{"$f":"IF(種目情報!E8=\"\",\"\",種目情報!E8)","v":"一女砲丸投(4.000kg)"},null,"","","","","",{"$f":"IF(J16=\"男\",data_kyogisha!A7,\"\")","v":""},"","","","","",{"$f":"IF(J16=\"女\",data_kyogisha!A7,\"\")","v":""},0,"",0,"",0,"",0,"",null,"AZE　アゼルバイジャン共和国"]
[null,7,null,null,null,null,null,null,null,null,null,null,null,null,null,null,null,null,null,null,null,null,null,null,null,null,"中１",{"$f":"IF(種目情報!A9=\"\",\"\",種目情報!A9)","v":"高男１００ｍ"},{"$f":"IF(種目情報!E9=\"\",\"\",種目情報!E9)","v":"高女１００ｍ"},null,"","","","","",{"$f":"IF(J17=\"男\",data_kyogisha!A8,\"\")","v":""},"","","","","",{"$f":"IF(J17=\"女\",data_kyogisha!A8,\"\")","v":""},0,"",0,"",0,"",0,"",null,"BIH　(ボスニア・ヘルツェゴビナ共和国)"]
[null,8,null,null,null,null,null,null,null,null,null,null,null,null,null,null,null,null,null,null,null,null,null,null,null,null,"中２",{"$f":"IF(種目情報!A10=\"\",\"\",種目情報!A10)","v":"高男４００m"},{"$f":"IF(種目情報!E10=\"\",\"\",種目情報!E10)","v":"高女４００m"},null,"","","","","",{"$f":"IF(J18=\"男\",data_kyogisha!A9,\"\")","v":""},"","","","","",{"$f":"IF(J18=\"女\",data_kyogisha!A9,\"\")","v":""},0,"",0,"",0,"",0,"",null,"BRB　バルバドス"]
[null,9,null,null,null,null,null,null,null,null,null,null,null,null,null,null,null,null,null,null,null,null,null,null,null,null,"中３",{"$f":"IF(種目情報!A11=\"\",\"\",種目情報!A11)","v":"高男１５００ｍ"},{"$f":"IF(種目情報!E11=\"\",\"\",種目情報!E11)","v":"高女１５００ｍ"},null,"","","","","",{"$f":"IF(J19=\"男\",data_kyogisha!A10,\"\")","v":""},"","","","","",{"$f":"IF(J19=\"女\",data_kyogisha!A10,\"\")","v":""},0,"",0,"",0,"",0,"",null,"BGD　バングラデシュ人民共和国"]
[null,10,null,null,null,null,null,null,null,null,null,null,null,null,null,null,null,null,null,null,null,null,null,null,null,null,"高１",{"$f":"IF(種目情報!A12=\"\",\"\",種目情報!A12)","v":"高男１１０ｍH(1.067m)"},{"$f":"IF(種目情報!E12=\"\",\"\",種目情報!E12)","v":"高女１００ｍH(0.840m)"},null,"","","","","",{"$f":"IF(J20=\"男\",data_kyogisha!A11,\"\")","v":""},"","","","","",{"$f":"IF(J20=\"女\",data_kyogisha!A11,\"\")","v":""},0,"",0,"",0,"",0,"",null,"BEL　ベルギー王国"]
[null,11,null,null,null,null,null,null,null,null,null,null,null,null,null,null,null,null,null,null,null,null,null,null,null,null,"高２",{"$f":"IF(種目情報!A13=\"\",\"\",種目情報!A13)","v":"高男走高跳"},{"$f":"IF(種目情報!E13=\"\",\"\",種目情報!E13)","v":"高女走高跳"},null,"","","","","",{"$f":"IF(J21=\"男\",data_kyogisha!A12,\"\")","v":""},"","","","","",{"$f":"IF(J21=\"女\",data_kyogisha!A12,\"\")","v":""},0,"",0,"",0,"",0,"",null,"BFA　ブルキナファソ"]
[null,12,null,null,null,null,null,null,null,null,null,null,null,null,null,null,null,null,null,null,null,null,null,null,null,null,"高３",{"$f":"IF(種目情報!A14=\"\",\"\",種目情報!A14)","v":"高男走幅跳"},{"$f":"IF(種目情報!E14=\"\",\"\",種目情報!E14)","v":"高女走幅跳"},null,"","","","","",{"$f":"IF(J22=\"男\",data_kyogisha!A13,\"\")","v":""},"","","","","",{"$f":"IF(J22=\"女\",data_kyogisha!A13,\"\")","v":""},0,"",0,"",0,"",0,"",null,"BGR　ブルガリア共和国"]
[null,13,null,null,null,null,null,null,null,null,null,null,null,null,null,null,null,null,null,null,null,null,null,null,null,null,"高４",{"$f":"IF(種目情報!A15=\"\",\"\",種目情報!A15)","v":"高男砲丸投"},{"$f":"IF(種目情報!E15=\"\",\"\",種目情報!E15)","v":"高女砲丸投"},null,"","","","","",{"$f":"IF(J23=\"男\",data_kyogisha!A14,\"\")","v":""},"","","","","",{"$f":"IF(J23=\"女\",data_kyogisha!A14,\"\")","v":""},0,"",0,"",0,"",0,"",null,"BHR　バーレーン国"]
[null,14,null,null,null,null,null,null,null,null,null,null,null,null,null,null,null,null,null,null,null,null,null,null,null,null,"大１",{"$f":"IF(種目情報!A16=\"\",\"\",種目情報!A16)","v":"高男やり投"},{"$f":"IF(種目情報!E16=\"\",\"\",種目情報!E16)","v":"高女やり投"},null,"","","","","",{"$f":"IF(J24=\"男\",data_kyogisha!A15,\"\")","v":""},"","","","","",{"$f":"IF(J24=\"女\",data_kyogisha!A15,\"\")","v":""},0,"",0,"",0,"",0,"",null,"BDI　ブルンジ共和国"]
[null,15,null,null,null,null,null,null,null,null,null,null,null,null,null,null,null,null,null,null,null,null,null,null,null,null,"大２",{"$f":"IF(種目情報!A17=\"\",\"\",種目情報!A17)","v":"中男１００ｍ"},{"$f":"IF(種目情報!E17=\"\",\"\",種目情報!E17)","v":"中女１００ｍ"},null,"","","","","",{"$f":"IF(J25=\"男\",data_kyogisha!A16,\"\")","v":""},"","","","","",{"$f":"IF(J25=\"女\",data_kyogisha!A16,\"\")","v":""},0,"",0,"",0,"",0,"",null,"BEN　ベナン共和国"]
[null,16,null,null,null,null,null,null,null,null,null,null,null,null,null,null,null,null,null,null,null,null,null,null,null,null,"大３",{"$f":"IF(種目情報!A18=\"\",\"\",種目情報!A18)","v":"中男４００ｍ"},{"$f":"IF(種目情報!E18=\"\",\"\",種目情報!E18)","v":"中女２００ｍ"},null,"","","","","",{"$f":"IF(J26=\"男\",data_kyogisha!A17,\"\")","v":""},"","","","","",{"$f":"IF(J26=\"女\",data_kyogisha!A17,\"\")","v":""},0,"",0,"",0,"",0,"",null,"BMU　バーミューダ諸島"]
[null,17,null,null,null,null,null,null,null,null,null,null,null,null,null,null,null,null,null,null,null,null,null,null,null,null,"大４",{"$f":"IF(種目情報!A19=\"\",\"\",種目情報!A19)","v":"中男１５００ｍ"},{"$f":"IF(種目情報!E19=\"\",\"\",種目情報!E19)","v":"中女８００ｍ"},null,"","","","","",{"$f":"IF(J27=\"男\",data_kyogisha!A18,\"\")","v":""},"","","","","",{"$f":"IF(J27=\"女\",data_kyogisha!A18,\"\")","v":""},0,"",0,"",0,"",0,"",null,"BRN　ブルネイ・ダルサラーム国"]
[null,18,null,null,null,null,null,null,null,null,null,null,null,null,null,null,null,null,null,null,null,null,null,null,null,null,"大５",{"$f":"IF(種目情報!A20=\"\",\"\",種目情報!A20)","v":"中男110mH(0.914m)"},{"$f":"IF(種目情報!E20=\"\",\"\",種目情報!E20)","v":"中女100mH(0.762mm)"},null,"","","","","",{"$f":"IF(J28=\"男\",data_kyogisha!A19,\"\")","v":""},"","","","","",{"$f":"IF(J28=\"女\",data_kyogisha!A19,\"\")","v":""},0,"",0,"",0,"",0,"",null,"BOL　ボリビア共和国"]
[null,19,null,null,null,null,null,null,null,null,null,null,null,null,null,null,null,null,null,null,null,null,null,null,null,null,"大６",{"$f":"IF(種目情報!A21=\"\",\"\",種目情報!A21)","v":"中男走高跳"},{"$f":"IF(種目情報!E21=\"\",\"\",種目情報!E21)","v":"中女走高跳"},null,"","","","","",{"$f":"IF(J29=\"男\",data_kyogisha!A20,\"\")","v":""},"","","","","",{"$f":"IF(J29=\"女\",data_kyogisha!A20,\"\")","v":""},0,"",0,"",0,"",0,"",null,"BRA　ブラジル連邦共和国"]
[null,20,null,null,null,null,null,null,null,null,null,null,null,null,null,null,null,null,null,null,null,null,null,null,null,null,"Ｍ１",{"$f":"IF(種目情報!A22=\"\",\"\",種目情報!A22)","v":"中男走幅跳"},{"$f":"IF(種目情報!E22=\"\",\"\",種目情報!E22)","v":"中女走幅跳"},null,"","","","","",{"$f":"IF(J30=\"男\",data_kyogisha!A21,\"\")","v":""},"","","","","",{"$f":"IF(J30=\"女\",data_kyogisha!A21,\"\")","v":""},0,"",0,"",0,"",0,"",null,"BHS　バハマ国"]
[null,21,null,null,null,null,null,null,null,null,null,null,null,null,null,null,null,null,null,null,null,null,null,null,null,null,"Ｍ２",{"$f":"IF(種目情報!A23=\"\",\"\",種目情報!A23)","v":"中男砲丸投"},{"$f":"IF(種目情報!E23=\"\",\"\",種目情報!E23)","v":"中女砲丸投"},null,"","","","","",{"$f":"IF(J31=\"男\",data_kyogisha!A22,\"\")","v":""},"","","","","",{"$f":"IF(J31=\"女\",data_kyogisha!A22,\"\")","v":""},0,"",0,"",0,"",0,"",null,"BTN　ブータン王国"]
[null,22,null,null,null,null,null,null,null,null,null,null,null,null,null,null,null,null,null,null,null,null,null,null,null,null,"Ｄ１",{"$f":"IF(種目情報!A24=\"\",\"\",種目情報!A24)","v":"小4男50m"},{"$f":"IF(種目情報!E24=\"\",\"\",種目情報!E24)","v":"小4女50m"},null,"","","","","",{"$f":"IF(J32=\"男\",data_kyogisha!A23,\"\")","v":""},"","","","","",{"$f":"IF(J32=\"女\",data_kyogisha!A23,\"\")","v":""},0,"",0,"",0,"",0,"",null,"BVT　ブーベ島"]
[null,23,null,null,null,null,null,null,null,null,null,null,null,null,null,null,null,null,null,null,null,null,null,null,null,null,"Ｄ２",{"$f":"IF(種目情報!A25=\"\",\"\",種目情報!A25)","v":"小5男100m"},{"$f":"IF(種目情報!E25=\"\",\"\",種目情報!E25)","v":"小5女100m"},null,"","","","","",{"$f":"IF(J33=\"男\",data_kyogisha!A24,\"\")","v":""},"","","","","",{"$f":"IF(J33=\"女\",data_kyogisha!A24,\"\")","v":""},0,"",0,"",0,"",0,"",null,"BWA　ボツワナ共和国"]
[null,24,null,null,null,null,null,null,null,null,null,null,null,null,null,null,null,null,null,null,null,null,null,null,null,null,"Ｄ３",{"$f":"IF(種目情報!A26=\"\",\"\",種目情報!A26)","v":"小6男100m"},{"$f":"IF(種目情報!E26=\"\",\"\",種目情報!E26)","v":"小4女1000m"},null,"","","","","",{"$f":"IF(J34=\"男\",data_kyogisha!A25,\"\")","v":""},"","","","","",{"$f":"IF(J34=\"女\",data_kyogisha!A25,\"\")","v":""},0,"",0,"",0,"",0,"",null,"BLR　ベラルーシ共和国"]
[null,25,null,null,null,null,null,null,null,null,null,null,null,null,null,null,null,null,null,null,null,null,null,null,null,null,"Ｄ４",{"$f":"IF(種目情報!A27=\"\",\"\",種目情報!A27)","v":"小4男1000m"},{"$f":"IF(種目情報!E27=\"\",\"\",種目情報!E27)","v":"小5女1000m"},null,"","","","","",{"$f":"IF(J35=\"男\",data_kyogisha!A26,\"\")","v":""},"","","","","",{"$f":"IF(J35=\"女\",data_kyogisha!A26,\"\")","v":""},0,"",0,"",0,"",0,"",null,"BLZ　ベリーズ"]
[null,26,null,null,null,null,null,null,null,null,null,null,null,null,null,null,null,null,null,null,null,null,null,null,null,null,null,{"$f":"IF(種目情報!A28=\"\",\"\",種目情報!A28)","v":"小5男1000m"},{"$f":"IF(種目情報!E28=\"\",\"\",種目情報!E28)","v":"小6女1000m"},null,"","","","","",{"$f":"IF(J36=\"男\",data_kyogisha!A27,\"\")","v":""},"","","","","",{"$f":"IF(J36=\"女\",data_kyogisha!A27,\"\")","v":""},0,"",0,"",0,"",0,"",null,"CAN　カナダ"]
[null,27,null,null,null,null,null,null,null,null,null,null,null,null,null,null,null,null,null,null,null,null,null,null,null,null,null,{"$f":"IF(種目情報!A29=\"\",\"\",種目情報!A29)","v":"小6男1000m"},{"$f":"IF(種目情報!E29=\"\",\"\",種目情報!E29)","v":"小6女1000m"},null,"","","","","",{"$f":"IF(J37=\"男\",data_kyogisha!A28,\"\")","v":""},"","","","","",{"$f":"IF(J37=\"女\",data_kyogisha!A28,\"\")","v":""},0,"",0,"",0,"",0,"",null,"CCK　ココス諸島"]
[null,28,null,null,null,null,null,null,null,null,null,null,null,null,null,null,null,null,null,null,null,null,null,null,null,null,null,{"$f":"IF(種目情報!A30=\"\",\"\",種目情報!A30)","v":"小4男走高跳"},{"$f":"IF(種目情報!E30=\"\",\"\",種目情報!E30)","v":"小4女走高跳"},null,"","","","","",{"$f":"IF(J38=\"男\",data_kyogisha!A29,\"\")","v":""},"","","","","",{"$f":"IF(J38=\"女\",data_kyogisha!A29,\"\")","v":""},0,"",0,"",0,"",0,"",null,"CAF　中央アフリカ共和国"]
[null,29,null,null,null,null,null,null,null,null,null,null,null,null,null,null,null,null,null,null,null,null,null,null,null,null,null,{"$f":"IF(種目情報!A31=\"\",\"\",種目情報!A31)","v":"小5男走高跳"},{"$f":"IF(種目情報!E31=\"\",\"\",種目情報!E31)","v":"小5女走高跳"},null,"","","","","",{"$f":"IF(J39=\"男\",data_kyogisha!A30,\"\")","v":""},"","","","","",{"$f":"IF(J39=\"女\",data_kyogisha!A30,\"\")","v":""},0,"",0,"",0,"",0,"",null,"COG　コンゴ共和国"]
[null,30,null,null,null,null,null,null,null,null,null,null,null,null,null,null,null,null,null,null,null,null,null,null,null,null,null,{"$f":"IF(種目情報!A32=\"\",\"\",種目情報!A32)","v":"小6男走高跳"},{"$f":"IF(種目情報!E32=\"\",\"\",種目情報!E32)","v":"小6女走高跳"},null,"","","","","",{"$f":"IF(J40=\"男\",data_kyogisha!A31,\"\")","v":""},"","","","","",{"$f":"IF(J40=\"女\",data_kyogisha!A31,\"\")","v":""},0,"",0,"",0,"",0,"",null,"CHE　スイス連邦"]
[null,31,null,null,null,null,null,null,null,null,null,null,null,null,null,null,null,null,null,null,null,null,null,null,null,null,null,{"$f":"IF(種目情報!A33=\"\",\"\",種目情報!A33)","v":"小4男走幅跳"},{"$f":"IF(種目情報!E33=\"\",\"\",種目情報!E33)","v":"小4女走幅跳"},null,"","","","","",{"$f":"IF(J41=\"男\",data_kyogisha!A32,\"\")","v":""},"","","","","",{"$f":"IF(J41=\"女\",data_kyogisha!A32,\"\")","v":""},0,"",0,"",0,"",0,"",null,"CIV　コートジボアール共和国"]
[null,32,null,null,null,null,null,null,null,null,null,null,null,null,null,null,null,null,null,null,null,null,null,null,null,null,null,{"$f":"IF(種目情報!A34=\"\",\"\",種目情報!A34)","v":"小5男走幅跳"},{"$f":"IF(種目情報!E34=\"\",\"\",種目情報!E34)","v":"小5女走幅跳"},null,"","","","","",{"$f":"IF(J42=\"男\",data_kyogisha!A33,\"\")","v":""},"","","","","",{"$f":"IF(J42=\"女\",data_kyogisha!A33,\"\")","v":""},0,"",0,"",0,"",0,"",null,"COK　クック諸島"]
[null,33,null,null,null,null,null,null,null,null,null,null,null,null,null,null,null,null,null,null,null,null,null,null,null,null,null,{"$f":"IF(種目情報!A35=\"\",\"\",種目情報!A35)","v":"小6男走幅跳"},{"$f":"IF(種目情報!E35=\"\",\"\",種目情報!E35)","v":"小6女走幅跳"},null,{"$f":"IF(J43=\"男\",D43,\"\")","v":""},{"$f":"IF(J43=\"男\",E43,\"\")","v":""},{"$f":"IF(J43=\"男\",G43,\"\")","v":""},{"$f":"IF(J43=\"男\",J43,\"\")","v":""},{"$f":"IF(J43=\"男\",IF(K43=\"\",\"\",K43),\"\")","v":""},{"$f":"IF(J43=\"男\",data_kyogisha!A34,\"\")","v":""},{"$f":"IF(J43=\"女\",D43,\"\")","v":""},{"$f":"IF(J43=\"女\",E43,\"\")","v":""},{"$f":"IF(J43=\"女\",G43,\"\")","v":""},{"$f":"IF(J43=\"女\",J43,\"\")","v":""},{"$f":"IF(J43=\"女\",IF(K43=\"\",\"\",K43),\"\")","v":""},{"$f":"IF(J43=\"女\",data_kyogisha!A34,\"\")","v":""},0,"",0,"",0,{"$f":"IF(AND($J43=\"女\",$U43=\"○\"),$D43,\"\")","v":""},0,{"$f":"IF(AND($J43=\"女\",$W43=\"○\"),$D43,\"\")","v":""},null,"CHL　チリ共和国"]
[null,34,null,null,null,null,null,null,null,null,null,null,null,null,null,null,null,null,null,null,null,null,null,null,null,null,null,{"$f":"IF(種目情報!A36=\"\",\"\",種目情報!A36)","v":"一男非１００ｍ"},{"$f":"IF(種目情報!E36=\"\",\"\",種目情報!E36)","v":"一女非１００ｍ"},null,"","","","","",{"$f":"IF(J44=\"男\",data_kyogisha!A35,\"\")","v":""},"","","","","",{"$f":"IF(J44=\"女\",data_kyogisha!A35,\"\")","v":""},{"$f":"IF(AND(J44=\"男\",U44=\"○\"),AQ43+1,AQ43)","v":0},{"$f":"IF(AND(J44=\"男\",U44=\"○\"),D44,\"\")","v":""},{"$f":"IF(AND(J44=\"男\",W44=\"○\"),AS43+1,AS43)","v":0},{"$f":"IF(AND(J44=\"男\",W44=\"○\"),D44,\"\")","v":""},{"$f":"IF(AND(J44=\"女\",U44=\"○\"),AU43+1,AU43)","v":0},"",{"$f":"IF(AND(J44=\"女\",W44=\"○\"),AW43+1,AW43)","v":0},"",null,"CMR　カメルーン共和国"]
[null,35,null,null,null,null,null,null,null,null,null,null,null,null,null,null,null,null,null,null,null,null,null,null,null,null,null,{"$f":"IF(種目情報!A37=\"\",\"\",種目情報!A37)","v":"一男非39歳以下2000m"},{"$f":"IF(種目情報!E37=\"\",\"\",種目情報!E37)","v":"一女非39歳以下2000m"},null,"","","","","",{"$f":"IF(J45=\"男\",data_kyogisha!A36,\"\")","v":""},"","","","","",{"$f":"IF(J45=\"女\",data_kyogisha!A36,\"\")","v":""},0,"",0,"",0,"",0,"",null,"CHN　中華人民共和国"]
[null,36,null,null,null,null,null,null,null,null,null,null,null,null,null,null,null,null,null,null,null,null,null,null,null,null,null,{"$f":"IF(種目情報!A38=\"\",\"\",種目情報!A38)","v":"一男非40歳代2000m"},{"$f":"IF(種目情報!E38=\"\",\"\",種目情報!E38)","v":"一女非40歳代2000m"},null,"","","","","",{"$f":"IF(J46=\"男\",data_kyogisha!A37,\"\")","v":""},"","","","","",{"$f":"IF(J46=\"女\",data_kyogisha!A37,\"\")","v":""},0,"",0,"",0,"",0,"",null,"COL　コロンビア共和国"]
[null,37,null,null,null,null,null,null,null,null,null,null,null,null,null,null,null,null,null,null,null,null,null,null,null,null,null,{"$f":"IF(種目情報!A39=\"\",\"\",種目情報!A39)","v":"一男非50歳代2000m"},{"$f":"IF(種目情報!E39=\"\",\"\",種目情報!E39)","v":"一女非50歳代2000m"},null,"","","","","",{"$f":"IF(J47=\"男\",data_kyogisha!A38,\"\")","v":""},"","","","","",{"$f":"IF(J47=\"女\",data_kyogisha!A38,\"\")","v":""},0,"",0,"",0,"",0,"",null,"CRI　コスタリカ共和国"]
[null,38,null,null,null,null,null,null,null,null,null,null,null,null,null,null,null,null,null,null,null,null,null,null,null,null,null,{"$f":"IF(種目情報!A40=\"\",\"\",種目情報!A40)","v":"一男非60歳代2000m"},{"$f":"IF(種目情報!E40=\"\",\"\",種目情報!E40)","v":"一女非60歳代2000m"},null,"","","","","",{"$f":"IF(J48=\"男\",data_kyogisha!A39,\"\")","v":""},"","","","","",{"$f":"IF(J48=\"女\",data_kyogisha!A39,\"\")","v":""},0,"",0,"",0,"",0,"",null,"CUB　キューバ共和国"]
[null,39,null,null,null,null,null,null,null,null,null,null,null,null,null,null,null,null,null,null,null,null,null,null,null,null,null,{"$f":"IF(種目情報!A41=\"\",\"\",種目情報!A41)","v":"一男非70歳以上2000m"},{"$f":"IF(種目情報!E41=\"\",\"\",種目情報!E41)","v":"一女非70歳以上2000m"},null,"","","","","",{"$f":"IF(J49=\"男\",data_kyogisha!A40,\"\")","v":""},"","","","","",{"$f":"IF(J49=\"女\",data_kyogisha!A40,\"\")","v":""},0,"",0,"",0,"",0,"",null,"CPV　カーボベルデ共和国"]
[null,40,null,null,null,null,null,null,null,null,null,null,null,null,null,null,null,null,null,null,null,null,null,null,null,null,null,{"$f":"IF(種目情報!A42=\"\",\"\",種目情報!A42)","v":"一男非走幅跳"},{"$f":"IF(種目情報!E42=\"\",\"\",種目情報!E42)","v":"一女非走幅跳"},null,"","","","","",{"$f":"IF(J50=\"男\",data_kyogisha!A41,\"\")","v":""},"","","","","",{"$f":"IF(J50=\"女\",data_kyogisha!A41,\"\")","v":""},0,"",0,"",0,"",0,"",null,"CXR　クリスマス島"]
[null,41,null,null,null,null,null,null,null,null,null,null,null,null,null,null,null,null,null,null,null,null,null,null,null,null,null,{"$f":"IF(種目情報!A43=\"\",\"\",種目情報!A43)","v":"一男非砲丸投(7.260kg)"},{"$f":"IF(種目情報!E43=\"\",\"\",種目情報!E43)","v":"一女非砲丸投(4.000kg)"},null,"","","","","",{"$f":"IF(J51=\"男\",data_kyogisha!A42,\"\")","v":""},"","","","","",{"$f":"IF(J51=\"女\",data_kyogisha!A42,\"\")","v":""},0,"",0,"",0,"",0,"",null,"CYP　キプロス共和国"]
[null,42,null,null,null,null,null,null,null,null,null,null,null,null,null,null,null,null,null,null,null,null,null,null,null,null,null,{"$f":"IF(種目情報!A44=\"\",\"\",種目情報!A44)","v":""},{"$f":"IF(種目情報!E44=\"\",\"\",種目情報!E44)","v":""},null,"","","","","",{"$f":"IF(J52=\"男\",data_kyogisha!A43,\"\")","v":""},"","","","","",{"$f":"IF(J52=\"女\",data_kyogisha!A43,\"\")","v":""},0,"",0,"",0,"",0,"",null,"CZE　チェコ共和国"]
[null,43,null,null,null,null,null,null,null,null,null,null,null,null,null,null,null,null,null,null,null,null,null,null,null,null,null,{"$f":"IF(種目情報!A45=\"\",\"\",種目情報!A45)","v":"一男１００ｍ"},{"$f":"IF(種目情報!E45=\"\",\"\",種目情報!E45)","v":"一女１００ｍ"},null,"","","","","",{"$f":"IF(J53=\"男\",data_kyogisha!A44,\"\")","v":""},"","","","","",{"$f":"IF(J53=\"女\",data_kyogisha!A44,\"\")","v":""},0,"",0,"",0,"",0,"",null,"DEU　ドイツ連邦共和国"]
[null,44,null,null,null,null,null,null,null,null,null,null,null,null,null,null,null,null,null,null,null,null,null,null,null,null,null,{"$f":"IF(種目情報!A46=\"\",\"\",種目情報!A46)","v":"一男２０００ｍ"},{"$f":"IF(種目情報!E46=\"\",\"\",種目情報!E46)","v":"一女２０００ｍ"},null,"","","","","",{"$f":"IF(J54=\"男\",data_kyogisha!A45,\"\")","v":""},"","","","","",{"$f":"IF(J54=\"女\",data_kyogisha!A45,\"\")","v":""},0,"",0,"",0,"",0,"",null,"DJI　ジブチ共和国"]
[null,45,null,null,null,null,null,null,null,null,null,null,null,null,null,null,null,null,null,null,null,null,null,null,null,null,null,{"$f":"IF(種目情報!A47=\"\",\"\",種目情報!A47)","v":"一男走幅跳"},{"$f":"IF(種目情報!E47=\"\",\"\",種目情報!E47)","v":"一女走幅跳"},null,"","","","","",{"$f":"IF(J55=\"男\",data_kyogisha!A46,\"\")","v":""},"","","","","",{"$f":"IF(J55=\"女\",data_kyogisha!A46,\"\")","v":""},0,"",0,"",0,"",0,"",null,"DNK　デンマーク王国"]
[null,46,null,null,null,null,null,null,null,null,null,null,null,null,null,null,null,null,null,null,null,null,null,null,null,null,null,{"$f":"IF(種目情報!A48=\"\",\"\",種目情報!A48)","v":"一男砲丸投(7.260kg)"},{"$f":"IF(種目情報!E48=\"\",\"\",種目情報!E48)","v":"一女砲丸投(4.000kg)"},null,"","","","","",{"$f":"IF(J56=\"男\",data_kyogisha!A47,\"\")","v":""},"","","","","",{"$f":"IF(J56=\"女\",data_kyogisha!A47,\"\")","v":""},0,"",0,"",0,"",0,"",null,"DMA　ドミニカ国"]
[null,47,null,null,null,null,null,null,null,null,null,null,null,null,null,null,null,null,null,null,null,null,null,null,null,null,null,{"$f":"IF(種目情報!A49=\"\",\"\",種目情報!A49)","v":"中男１００ｍ"},{"$f":"IF(種目情報!E49=\"\",\"\",種目情報!E49)","v":"中女１００ｍ"},null,"","","","","",{"$f":"IF(J57=\"男\",data_kyogisha!A48,\"\")","v":""},"","","","","",{"$f":"IF(J57=\"女\",data_kyogisha!A48,\"\")","v":""},0,"",0,"",0,"",0,"",null,"DOM　ドミニカ共和国"]
[null,48,null,null,null,null,null,null,null,null,null,null,null,null,null,null,null,null,null,null,null,null,null,null,null,null,null,{"$f":"IF(種目情報!A50=\"\",\"\",種目情報!A50)","v":"中男４００ｍ"},{"$f":"IF(種目情報!E50=\"\",\"\",種目情報!E50)","v":"中女２００ｍ"},null,"","","","","",{"$f":"IF(J58=\"男\",data_kyogisha!A49,\"\")","v":""},"","","","","",{"$f":"IF(J58=\"女\",data_kyogisha!A49,\"\")","v":""},0,"",0,"",0,"",0,"",null,"DZA　アルジェリア民主人民共和国"]
[null,49,null,null,null,null,null,null,null,null,null,null,null,null,null,null,null,null,null,null,null,null,null,null,null,null,null,{"$f":"IF(種目情報!A51=\"\",\"\",種目情報!A51)","v":"中男１５００ｍ"},{"$f":"IF(種目情報!E51=\"\",\"\",種目情報!E51)","v":"中女８００ｍ"},null,"","","","","",{"$f":"IF(J59=\"男\",data_kyogisha!A50,\"\")","v":""},"","","","","",{"$f":"IF(J59=\"女\",data_kyogisha!A50,\"\")","v":""},0,"",0,"",0,"",0,"",null,"ECU　エクアドル共和国"]
[null,50,null,null,null,null,null,null,null,null,null,null,null,null,null,null,null,null,null,null,null,null,null,null,null,null,null,{"$f":"IF(種目情報!A52=\"\",\"\",種目情報!A52)","v":"中男110mH(0.914m)"},{"$f":"IF(種目情報!E52=\"\",\"\",種目情報!E52)","v":"中女100mH(0.762mm)"},null,"","","","","",{"$f":"IF(J60=\"男\",data_kyogisha!A51,\"\")","v":""},"","","","","",{"$f":"IF(J60=\"女\",data_kyogisha!A51,\"\")","v":""},0,"",0,"",0,"",0,"",null,"EST　エストニア共和国"]
[null,51,null,null,null,null,null,null,null,null,null,null,null,null,null,null,null,null,null,null,null,null,null,null,null,null,null,{"$f":"IF(種目情報!A53=\"\",\"\",種目情報!A53)","v":"中男走高跳"},{"$f":"IF(種目情報!E53=\"\",\"\",種目情報!E53)","v":"中女走高跳"},null,"","","","","",{"$f":"IF(J61=\"男\",data_kyogisha!A52,\"\")","v":""},"","","","","",{"$f":"IF(J61=\"女\",data_kyogisha!A52,\"\")","v":""},0,"",0,"",0,"",0,"",null,"EGY　エジプト・アラブ共和国"]
[null,52,null,null,null,null,null,null,null,null,null,null,null,null,null,null,null,null,null,null,null,null,null,null,null,null,null,{"$f":"IF(種目情報!A54=\"\",\"\",種目情報!A54)","v":"中男走幅跳"},{"$f":"IF(種目情報!E54=\"\",\"\",種目情報!E54)","v":"中女走幅跳"},null,"","","","","",{"$f":"IF(J62=\"男\",data_kyogisha!A53,\"\")","v":""},"","","","","",{"$f":"IF(J62=\"女\",data_kyogisha!A53,\"\")","v":""},0,"",0,"",0,"",0,"",null,"ESH　西サハラ"]
[null,53,null,null,null,null,null,null,null,null,null,null,null,null,null,null,null,null,null,null,null,null,null,null,null,null,null,{"$f":"IF(種目情報!A55=\"\",\"\",種目情報!A55)","v":"中男砲丸投"},{"$f":"IF(種目情報!E55=\"\",\"\",種目情報!E55)","v":"中女砲丸投"},null,"","","","","",{"$f":"IF(J63=\"男\",data_kyogisha!A54,\"\")","v":""},"","","","","",{"$f":"IF(J63=\"女\",data_kyogisha!A54,\"\")","v":""},0,"",0,"",0,"",0,"",null,"ERI　エリトリア"]
[null,54,null,null,null,null,null,null,null,null,null,null,null,null,null,null,null,null,null,null,null,null,null,null,null,null,null,null,null,null,"","","","","",{"$f":"IF(J64=\"男\",data_kyogisha!A55,\"\")","v":""},"","","","","",{"$f":"IF(J64=\"女\",data_kyogisha!A55,\"\")","v":""},0,"",0,"",0,"",0,"",null,"ESP　スペイン"]
[null,55,null,null,null,null,null,null,null,null,null,null,null,null,null,null,null,null,null,null,null,null,null,null,null,null,null,{"$f":"IF(種目情報!A57=\"\",\"\",種目情報!A57)","v":""},{"$f":"IF(種目情報!E57=\"\",\"\",種目情報!E57)","v":""},null,"","","","","",{"$f":"IF(J65=\"男\",data_kyogisha!A56,\"\")","v":""},"","","","","",{"$f":"IF(J65=\"女\",data_kyogisha!A56,\"\")","v":""},0,"",0,"",0,"",0,"",null,"ETH　エチオピア"]
[null,56,null,null,null,null,null,null,null,null,null,null,null,null,null,null,null,null,null,null,null,null,null,null,null,null,null,{"$f":"IF(種目情報!A58=\"\",\"\",種目情報!A58)","v":""},{"$f":"IF(種目情報!E58=\"\",\"\",種目情報!E58)","v":""},null,"","","","","",{"$f":"IF(J66=\"男\",data_kyogisha!A57,\"\")","v":""},"","","","","",{"$f":"IF(J66=\"女\",data_kyogisha!A57,\"\")","v":""},0,"",0,"",0,"",0,"",null,"FIN　フィンランド共和国"]
[null,57,null,null,null,null,null,null,null,null,null,null,null,null,null,null,null,null,null,null,null,null,null,null,null,null,null,null,null,null,"","","","","",{"$f":"IF(J67=\"男\",data_kyogisha!A58,\"\")","v":""},"","","","","",{"$f":"IF(J67=\"女\",data_kyogisha!A58,\"\")","v":""},0,"",0,"",0,"",0,"",null,"FJI　フィジー共和国"]
[null,58,null,null,null,null,null,null,null,null,null,null,null,null,null,null,null,null,null,null,null,null,null,null,null,null,null,null,null,null,"","","","","",{"$f":"IF(J68=\"男\",data_kyogisha!A59,\"\")","v":""},"","","","","",{"$f":"IF(J68=\"女\",data_kyogisha!A59,\"\")","v":""},0,"",0,"",0,"",0,"",null,"FLK　フォークランド(マルビナス)諸島"]
[null,59,null,null,null,null,null,null,null,null,null,null,null,null,null,null,null,null,null,null,null,null,null,null,null,null,null,null,null,null,"","","","","",{"$f":"IF(J69=\"男\",data_kyogisha!A60,\"\")","v":""},"","","","","",{"$f":"IF(J69=\"女\",data_kyogisha!A60,\"\")","v":""},0,"",0,"",0,"",0,"",null,"FSM　ミクロネシア連邦"]
[null,60,null,null,null,null,null,null,null,null,null,null,null,null,null,null,null,null,null,null,null,null,null,null,null,null,null,null,null,null,"","","","","",{"$f":"IF(J70=\"男\",data_kyogisha!A61,\"\")","v":""},"","","","","",{"$f":"IF(J70=\"女\",data_kyogisha!A61,\"\")","v":""},0,"",0,"",0,"",0,"",null,"FRO　フェロー諸島"]
[null,61,null,null,null,null,null,null,null,null,null,null,null,null,null,null,null,null,null,null,null,null,null,null,null,null,null,null,null,null,"","","","","",{"$f":"IF(J71=\"男\",data_kyogisha!A62,\"\")","v":""},"","","","","",{"$f":"IF(J71=\"女\",data_kyogisha!A62,\"\")","v":""},0,"",0,"",0,"",0,"",null,"FRA　フランス共和国"]
[null,62,null,null,null,null,null,null,null,null,null,null,null,null,null,null,null,null,null,null,null,null,null,null,null,null,null,null,null,null,"","","","","",{"$f":"IF(J72=\"男\",data_kyogisha!A63,\"\")","v":""},"","","","","",{"$f":"IF(J72=\"女\",data_kyogisha!A63,\"\")","v":""},0,"",0,"",0,"",0,"",null,"FXX　フランス本国"]
[null,63,null,null,null,null,null,null,null,null,null,null,null,null,null,null,null,null,null,null,null,null,null,null,null,null,null,null,null,null,"","","","","",{"$f":"IF(J73=\"男\",data_kyogisha!A64,\"\")","v":""},"","","","","",{"$f":"IF(J73=\"女\",data_kyogisha!A64,\"\")","v":""},0,"",0,"",0,"",0,"",null,"GAB　ガボン共和国"]
[null,64,null,null,null,null,null,null,null,null,null,null,null,null,null,null,null,null,null,null,null,null,null,null,null,null,null,null,null,null,"","","","","",{"$f":"IF(J74=\"男\",data_kyogisha!A65,\"\")","v":""},"","","","","",{"$f":"IF(J74=\"女\",data_kyogisha!A65,\"\")","v":""},0,"",0,"",0,"",0,"",null,"GBR　グレートブリテン及び北部アイルランド連合王国(英国)"]
[null,65,null,null,null,null,null,null,null,null,null,null,null,null,null,null,null,null,null,null,null,null,null,null,null,null,null,null,null,null,{"$f":"IF(J75=\"男\",D75,\"\")","v":""},{"$f":"IF(J75=\"男\",E75,\"\")","v":""},{"$f":"IF(J75=\"男\",G75,\"\")","v":""},{"$f":"IF(J75=\"男\",J75,\"\")","v":""},{"$f":"IF(J75=\"男\",IF(K75=\"\",\"\",K75),\"\")","v":""},{"$f":"IF(J75=\"男\",data_kyogisha!A66,\"\")","v":""},{"$f":"IF(J75=\"女\",D75,\"\")","v":""},{"$f":"IF(J75=\"女\",E75,\"\")","v":""},{"$f":"IF(J75=\"女\",G75,\"\")","v":""},{"$f":"IF(J75=\"女\",J75,\"\")","v":""},{"$f":"IF(J75=\"女\",IF(K75=\"\",\"\",K75),\"\")","v":""},{"$f":"IF(J75=\"女\",data_kyogisha!A66,\"\")","v":""},0,"",0,"",0,{"$f":"IF(AND($J75=\"女\",$U75=\"○\"),$D75,\"\")","v":""},0,{"$f":"IF(AND($J75=\"女\",$W75=\"○\"),$D75,\"\")","v":""},null,"GRD　グレナダ"]
[null,66,null,null,null,null,null,null,null,null,null,null,null,null,null,null,null,null,null,null,null,null,null,null,null,null,null,null,null,null,"","","","","",{"$f":"IF(J76=\"男\",data_kyogisha!A67,\"\")","v":""},"","","","","",{"$f":"IF(J76=\"女\",data_kyogisha!A67,\"\")","v":""},{"$f":"IF(AND(J76=\"男\",U76=\"○\"),AQ75+1,AQ75)","v":0},{"$f":"IF(AND(J76=\"男\",U76=\"○\"),D76,\"\")","v":""},{"$f":"IF(AND(J76=\"男\",W76=\"○\"),AS75+1,AS75)","v":0},{"$f":"IF(AND(J76=\"男\",W76=\"○\"),D76,\"\")","v":""},{"$f":"IF(AND(J76=\"女\",U76=\"○\"),AU75+1,AU75)","v":0},"",{"$f":"IF(AND(J76=\"女\",W76=\"○\"),AW75+1,AW75)","v":0},"",null,"GEO　グルジア共和国"]
[null,67,null,null,null,null,null,null,null,null,null,null,null,null,null,null,null,null,null,null,null,null,null,null,null,null,null,null,null,null,"","","","","",{"$f":"IF(J77=\"男\",data_kyogisha!A68,\"\")","v":""},"","","","","",{"$f":"IF(J77=\"女\",data_kyogisha!A68,\"\")","v":""},0,"",0,"",0,"",0,"",null,"GUF　仏領ギアナ"]
[null,68,null,null,null,null,null,null,null,null,null,null,null,null,null,null,null,null,null,null,null,null,null,null,null,null,null,null,null,null,"","","","","",{"$f":"IF(J78=\"男\",data_kyogisha!A69,\"\")","v":""},"","","","","",{"$f":"IF(J78=\"女\",data_kyogisha!A69,\"\")","v":""},0,"",0,"",0,"",0,"",null,"GHA　ガーナ共和国"]
[null,69,null,null,null,null,null,null,null,null,null,null,null,null,null,null,null,null,null,null,null,null,null,null,null,null,null,null,null,null,"","","","","",{"$f":"IF(J79=\"男\",data_kyogisha!A70,\"\")","v":""},"","","","","",{"$f":"IF(J79=\"女\",data_kyogisha!A70,\"\")","v":""},0,"",0,"",0,"",0,"",null,"GIB　ジブラルタル"]
[null,70,null,null,null,null,null,null,null,null,null,null,null,null,null,null,null,null,null,null,null,null,null,null,null,null,null,null,null,null,"","","","","",{"$f":"IF(J80=\"男\",data_kyogisha!A71,\"\")","v":""},"","","","","",{"$f":"IF(J80=\"女\",data_kyogisha!A71,\"\")","v":""},0,"",0,"",0,"",0,"",null,"GRL　グリーンランド"]
[null,71,null,null,null,null,null,null,null,null,null,null,null,null,null,null,null,null,null,null,null,null,null,null,null,null,null,null,null,null,"","","","","",{"$f":"IF(J81=\"男\",data_kyogisha!A72,\"\")","v":""},"","","","","",{"$f":"IF(J81=\"女\",data_kyogisha!A72,\"\")","v":""},0,"",0,"",0,"",0,"",null,"GMB　ガンビア共和国"]
[null,72,null,null,null,null,null,null,null,null,null,null,null,null,null,null,null,null,null,null,null,null,null,null,null,null,null,null,null,null,"","","","","",{"$f":"IF(J82=\"男\",data_kyogisha!A73,\"\")","v":""},"","","","","",{"$f":"IF(J82=\"女\",data_kyogisha!A73,\"\")","v":""},0,"",0,"",0,"",0,"",null,"GIN　ギニア共和国"]
[null,73,null,null,null,null,null,null,null,null,null,null,null,null,null,null,null,null,null,null,null,null,null,null,null,null,null,null,null,null,"","","","","",{"$f":"IF(J83=\"男\",data_kyogisha!A74,\"\")","v":""},"","","","","",{"$f":"IF(J83=\"女\",data_kyogisha!A74,\"\")","v":""},0,"",0,"",0,"",0,"",null,"GLP　グアドループ島"]
[null,74,null,null,null,null,null,null,null,null,null,null,null,null,null,null,null,null,null,null,null,null,null,null,null,null,null,null,null,null,"","","","","",{"$f":"IF(J84=\"男\",data_kyogisha!A75,\"\")","v":""},"","","","","",{"$f":"IF(J84=\"女\",data_kyogisha!A75,\"\")","v":""},0,"",0,"",0,"",0,"",null,"GNQ　赤道ギニア共和国"]
[null,75,null,null,null,null,null,null,null,null,null,null,null,null,null,null,null,null,null,null,null,null,null,null,null,null,null,{"$f":"IF(種目情報!A78=\"\",\"\",種目情報!A78)","v":""},{"$f":"IF(種目情報!E78=\"\",\"\",種目情報!E78)","v":""},null,"","","","","",{"$f":"IF(J85=\"男\",data_kyogisha!A76,\"\")","v":""},"","","","","",{"$f":"IF(J85=\"女\",data_kyogisha!A76,\"\")","v":""},0,"",0,"",0,"",0,"",null,"GRC　ギリシア共和国"]
[null,76,null,null,null,null,null,null,null,null,null,null,null,null,null,null,null,null,null,null,null,null,null,null,null,null,null,{"$f":"IF(種目情報!A79=\"\",\"\",種目情報!A79)","v":""},{"$f":"IF(種目情報!E79=\"\",\"\",種目情報!E79)","v":""},null,"","","","","",{"$f":"IF(J86=\"男\",data_kyogisha!A77,\"\")","v":""},"","","","","",{"$f":"IF(J86=\"女\",data_kyogisha!A77,\"\")","v":""},0,"",0,"",0,"",0,"",null,"SGS　南ジョージア島・南サンドイッチ諸島"]
[null,77,null,null,null,null,null,null,null,null,null,null,null,null,null,null,null,null,null,null,null,null,null,null,null,null,null,null,{"$f":"IF(種目情報!E80=\"\",\"\",種目情報!E80)","v":""},null,"","","","","",{"$f":"IF(J87=\"男\",data_kyogisha!A78,\"\")","v":""},"","","","","",{"$f":"IF(J87=\"女\",data_kyogisha!A78,\"\")","v":""},0,"",0,"",0,"",0,"",null,"GTM　グアテマラ共和国"]
[null,78,null,null,null,null,null,null,null,null,null,null,null,null,null,null,null,null,null,null,null,null,null,null,null,null,null,{"$f":"IF(種目情報!A81=\"\",\"\",種目情報!A81)","v":""},{"$f":"IF(種目情報!E81=\"\",\"\",種目情報!E81)","v":""},null,"","","","","",{"$f":"IF(J88=\"男\",data_kyogisha!A79,\"\")","v":""},"","","","","",{"$f":"IF(J88=\"女\",data_kyogisha!A79,\"\")","v":""},0,"",0,"",0,"",0,"",null,"GUM　グアム"]
[null,79,null,null,null,null,null,null,null,null,null,null,null,null,null,null,null,null,null,null,null,null,null,null,null,null,null,{"$f":"IF(種目情報!A82=\"\",\"\",種目情報!A82)","v":""},{"$f":"IF(種目情報!E82=\"\",\"\",種目情報!E82)","v":""},null,"","","","","",{"$f":"IF(J89=\"男\",data_kyogisha!A80,\"\")","v":""},"","","","","",{"$f":"IF(J89=\"女\",data_kyogisha!A80,\"\")","v":""},0,"",0,"",0,"",0,"",null,"GNB　ギニアビサオ共和国"]
[null,80,null,null,null,null,null,null,null,null,null,null,null,null,null,null,null,null,null,null,null,null,null,null,null,null,null,{"$f":"IF(種目情報!A83=\"\",\"\",種目情報!A83)","v":""},{"$f":"IF(種目情報!E83=\"\",\"\",種目情報!E83)","v":""},null,"","","","","",{"$f":"IF(J90=\"男\",data_kyogisha!A81,\"\")","v":""},"","","","","",{"$f":"IF(J90=\"女\",data_kyogisha!A81,\"\")","v":""},0,"",0,"",0,"",0,"",null,"GUY　ガイアナ協同共和国"]
[null,81,null,null,null,null,null,null,null,null,null,null,null,null,null,null,null,null,null,null,null,null,null,null,null,null,null,{"$f":"IF(種目情報!A84=\"\",\"\",種目情報!A84)","v":""},{"$f":"IF(種目情報!E84=\"\",\"\",種目情報!E84)","v":""},null,"","","","","",{"$f":"IF(J91=\"男\",data_kyogisha!A82,\"\")","v":""},"","","","","",{"$f":"IF(J91=\"女\",data_kyogisha!A82,\"\")","v":""},0,"",0,"",0,"",0,"",null,"HKG　ホンコン (香港)"]
[null,82,null,null,null,null,null,null,null,null,null,null,null,null,null,null,null,null,null,null,null,null,null,null,null,null,null,{"$f":"IF(種目情報!A85=\"\",\"\",種目情報!A85)","v":""},{"$f":"IF(種目情報!E85=\"\",\"\",種目情報!E85)","v":""},null,"","","","","",{"$f":"IF(J92=\"男\",data_kyogisha!A83,\"\")","v":""},"","","","","",{"$f":"IF(J92=\"女\",data_kyogisha!A83,\"\")","v":""},0,"",0,"",0,"",0,"",null,"HMD　ヘアド島・マクドナルド諸島"]
[null,83,null,null,null,null,null,null,null,null,null,null,null,null,null,null,null,null,null,null,null,null,null,null,null,null,null,{"$f":"IF(種目情報!A86=\"\",\"\",種目情報!A86)","v":""},{"$f":"IF(種目情報!E86=\"\",\"\",種目情報!E86)","v":""},null,"","","","","",{"$f":"IF(J93=\"男\",data_kyogisha!A84,\"\")","v":""},"","","","","",{"$f":"IF(J93=\"女\",data_kyogisha!A84,\"\")","v":""},0,"",0,"",0,"",0,"",null,"HND　ホンジュラス共和国"]
[null,84,null,null,null,null,null,null,null,null,null,null,null,null,null,null,null,null,null,null,null,null,null,null,null,null,null,null,null,null,"","","","","",{"$f":"IF(J94=\"男\",data_kyogisha!A85,\"\")","v":""},"","","","","",{"$f":"IF(J94=\"女\",data_kyogisha!A85,\"\")","v":""},0,"",0,"",0,"",0,"",null,"HRV　クロアチア共和国"]
[null,85,null,null,null,null,null,null,null,null,null,null,null,null,null,null,null,null,null,null,null,null,null,null,null,null,null,null,null,null,"","","","","",{"$f":"IF(J95=\"男\",data_kyogisha!A86,\"\")","v":""},"","","","","",{"$f":"IF(J95=\"女\",data_kyogisha!A86,\"\")","v":""},0,"",0,"",0,"",0,"",null,"HTI　ハイチ共和国"]
[null,86,null,null,null,null,null,null,null,null,null,null,null,null,null,null,null,null,null,null,null,null,null,null,null,null,null,null,null,null,"","","","","",{"$f":"IF(J96=\"男\",data_kyogisha!A87,\"\")","v":""},"","","","","",{"$f":"IF(J96=\"女\",data_kyogisha!A87,\"\")","v":""},0,"",0,"",0,"",0,"",null,"HUN　ハンガリー共和国"]
[null,87,null,null,null,null,null,null,null,null,null,null,null,null,null,null,null,null,null,null,null,null,null,null,null,null,null,null,null,null,"","","","","",{"$f":"IF(J97=\"男\",data_kyogisha!A88,\"\")","v":""},"","","","","",{"$f":"IF(J97=\"女\",data_kyogisha!A88,\"\")","v":""},0,"",0,"",0,"",0,"",null,"IDN　インドネシア共和国"]
[null,88,null,null,null,null,null,null,null,null,null,null,null,null,null,null,null,null,null,null,null,null,null,null,null,null,null,null,null,null,"","","","","",{"$f":"IF(J98=\"男\",data_kyogisha!A89,\"\")","v":""},"","","","","",{"$f":"IF(J98=\"女\",data_kyogisha!A89,\"\")","v":""},0,"",0,"",0,"",0,"",null,"IRL　アイルランド"]
[null,89,null,null,null,null,null,null,null,null,null,null,null,null,null,null,null,null,null,null,null,null,null,null,null,null,null,null,null,null,"","","","","",{"$f":"IF(J99=\"男\",data_kyogisha!A90,\"\")","v":""},"","","","","",{"$f":"IF(J99=\"女\",data_kyogisha!A90,\"\")","v":""},0,"",0,"",0,"",0,"",null,"ISR　イスラエル国"]
[null,90,null,null,null,null,null,null,null,null,null,null,null,null,null,null,null,null,null,null,null,null,null,null,null,null,null,null,null,null,"","","","","",{"$f":"IF(J100=\"男\",data_kyogisha!A91,\"\")","v":""},"","","","","",{"$f":"IF(J100=\"女\",data_kyogisha!A91,\"\")","v":""},0,"",0,"",0,"",0,"",null,"IND　インド"]
[null,null,null,null,null,null,null,"種目計",null,{"$f":"SUM(M101:S101)","v":0},null,null,{"$f":"COUNTA(M11:M100)","v":0},null,null,{"$f":"COUNTA(P11:P100)","v":0},null,null,{"$f":"COUNTA(S11:S100)","v":0},null,null,null,null,null,null,null,null,null,null,null,null,null,null,null,null,null,null,null,null,null,null,null,null,null,null,null,null,null,null,null,null,"IOT　英領インド洋地域"]
[null,null,null,null,null,null,null,"リレー計",null,{"$f":"' '!F14+' '!L14+' '!R14+' '!X14","v":0},null,null,null,null,null,null,null,null,null,null,null,null,null,null,null,null,null,null,null,null,null,null,null,null,null,null,null,null,null,null,null,null,null,null,null,null,null,null,null,null,null,"IRQ　イラク共和国"]
[null,null,null,null,null,null,null,"男",null,{"$f":"COUNTIF(J11:J100,\"男\")","v":0},null,null,null,null,null,null,null,null,null,null,null,null,null,null,null,null,null,null,null,null,null,null,null,null,null,null,null,null,null,null,null,null,null,null,null,null,null,null,null,null,null,"IRN　イラン・イスラム共和国"]
[null,null,null,null,null,null,null,"女",null,{"$f":"COUNTIF(J11:J100,\"女\")","v":0},null,null,null,null,null,null,null,null,null,null,null,null,null,null,null,null,null,null,null,null,null,null,null,null,null,null,null,null,null,null,null,null,null,null,null,null,null,null,null,null,null,"ISL　アイスランド共和国"]
[null,null,null,null,null,null,null,"男女計",null,{"$f":"SUM(J103:J104)","v":0},null,null,null,null,null,null,null,null,null,null,null,null,null,null,null,null,null,null,null,null,null,null,null,null,null,null,null,null,null,null,null,null,null,null,null,null,null,null,null,null,null,"ITA　イタリア共和国"]
[null,null,null,null,null,null,null,null,null,null,null,null,null,null,null,null,null,null,null,null,null,null,null,null,null,null,null,null,null,null,null,null,null,null,null,null,null,null,null,null,null,null,null,null,null,null,null,null,null,null,null,"JAM　ジャマイカ"]
[null,null,null,null,null,null,null,null,null,null,null,null,null,null,null,null,null,null,null,null,null,null,null,null,null,null,null,null,null,null,null,null,null,null,null,null,null,null,null,null,null,null,null,null,null,null,null,null,null,null,null,"JOR　ヨルダン・ハシミテ王国"]
[null,null,null,null,null,null,null,null,null,null,null,null,null,null,null,null,null,null,null,null,null,null,null,null,null,null,null,null,null,null,null,null,null,null,null,null,null,null,null,null,null,null,null,null,null,null,null,null,null,null,null,"JPN　日本国"]
[null,null,null,null,null,null,null,null,null,null,null,null,null,null,null,null,null,null,null,null,null,null,null,null,null,null,null,null,null,null,null,null,null,null,null,null,null,null,null,null,null,null,null,null,null,null,null,null,null,null,null,"KEN　ケニア共和国"]
[null,null,null,null,null,null,null,null,null,null,null,null,null,null,null,null,null,null,null,null,null,null,null,null,null,null,null,null,null,null,null,null,null,null,null,null,null,null,null,null,null,null,null,null,null,null,null,null,null,null,null,"KGZ　キルギスタン共和国"]
[null,null,null,null,null,null,null,null,null,null,null,null,null,null,null,null,null,null,null,null,null,null,null,null,null,null,null,null,null,null,null,null,null,null,null,null,null,null,null,null,null,null,null,null,null,null,null,null,null,null,null,"KHM　カンボディア王国"]
[null,null,null,null,null,null,null,null,null,null,null,null,null,null,null,null,null,null,null,null,null,null,null,null,null,null,null,null,null,null,null,null,null,null,null,null,null,null,null,null,null,null,null,null,null,null,null,null,null,null,null,"KIR　キリバス共和国"]
[null,null,null,null,null,null,null,null,null,null,null,null,null,null,null,null,null,null,null,null,null,null,null,null,null,null,null,null,null,null,null,null,null,null,null,null,null,null,null,null,null,null,null,null,null,null,null,null,null,null,null,"COM　コモロ・イスラム連邦共和国"]
[null,null,null,null,null,null,null,null,null,null,null,null,null,null,null,null,null,null,null,null,null,null,null,null,null,null,null,null,null,null,null,null,null,null,null,null,null,null,null,null,null,null,null,null,null,null,null,null,null,null,null,"KNA　セントクリストファー・ネイビス"]
[null,null,null,null,null,null,null,null,null,null,null,null,null,null,null,null,null,null,null,null,null,null,null,null,null,null,null,null,null,null,null,null,null,null,null,null,null,null,null,null,null,null,null,null,null,null,null,null,null,null,null,"PRK　(北朝鮮=朝鮮民主主義人民共和国)"]
[null,null,null,null,null,null,null,null,null,null,null,null,null,null,null,null,null,null,null,null,null,null,null,null,null,null,null,null,null,null,null,null,null,null,null,null,null,null,null,null,null,null,null,null,null,null,null,null,null,null,null,"KOR　大韓民国"]
[null,null,null,null,null,null,null,null,null,null,null,null,null,null,null,null,null,null,null,null,null,null,null,null,null,null,null,null,null,null,null,null,null,null,null,null,null,null,null,null,null,null,null,null,null,null,null,null,null,null,null,"KWT　クウェート国"]
[null,null,null,null,null,null,null,null,null,null,null,null,null,null,null,null,null,null,null,null,null,null,null,null,null,null,null,null,null,null,null,null,null,null,null,null,null,null,null,null,null,null,null,null,null,null,null,null,null,null,null,"CYM　ケイマン諸島"]
[null,null,null,null,null,null,null,null,null,null,null,null,null,null,null,null,null,null,null,null,null,null,null,null,null,null,null,null,null,null,null,null,null,null,null,null,null,null,null,null,null,null,null,null,null,null,null,null,null,null,null,"KAZ　カザフスタン共和国"]
[null,null,null,null,null,null,null,null,null,null,null,null,null,null,null,null,null,null,null,null,null,null,null,null,null,null,null,null,null,null,null,null,null,null,null,null,null,null,null,null,null,null,null,null,null,null,null,null,null,null,null,"LAO　ラオス人民民主共和国"]
[null,null,null,null,null,null,null,null,null,null,null,null,null,null,null,null,null,null,null,null,null,null,null,null,null,null,null,null,null,null,null,null,null,null,null,null,null,null,null,null,null,null,null,null,null,null,null,null,null,null,null,"LBN　レバノン共和国"]
[null,null,null,null,null,null,null,null,null,null,null,null,null,null,null,null,null,null,null,null,null,null,null,null,null,null,null,null,null,null,null,null,null,null,null,null,null,null,null,null,null,null,null,null,null,null,null,null,null,null,null,"LCA　セントルシア"]
[null,null,null,null,null,null,null,null,null,null,null,null,null,null,null,null,null,null,null,null,null,null,null,null,null,null,null,null,null,null,null,null,null,null,null,null,null,null,null,null,null,null,null,null,null,null,null,null,null,null,null,"LIE　リヒテンシュタイン公国"]
[null,null,null,null,null,null,null,null,null,null,null,null,null,null,null,null,null,null,null,null,null,null,null,null,null,null,null,null,null,null,null,null,null,null,null,null,null,null,null,null,null,null,null,null,null,null,null,null,null,null,null,"LKA　スリランカ民主社会主義共和国"]
[null,null,null,null,null,null,null,null,null,null,null,null,null,null,null,null,null,null,null,null,null,null,null,null,null,null,null,null,null,null,null,null,null,null,null,null,null,null,null,null,null,null,null,null,null,null,null,null,null,null,null,"LBR　リベリア共和国"]
[null,null,null,null,null,null,null,null,null,null,null,null,null,null,null,null,null,null,null,null,null,null,null,null,null,null,null,null,null,null,null,null,null,null,null,null,null,null,null,null,null,null,null,null,null,null,null,null,null,null,null,"LSO　レソト王国"]
[null,null,null,null,null,null,null,null,null,null,null,null,null,null,null,null,null,null,null,null,null,null,null,null,null,null,null,null,null,null,null,null,null,null,null,null,null,null,null,null,null,null,null,null,null,null,null,null,null,null,null,"LTU　リトアニア共和国"]
[null,null,null,null,null,null,null,null,null,null,null,null,null,null,null,null,null,null,null,null,null,null,null,null,null,null,null,null,null,null,null,null,null,null,null,null,null,null,null,null,null,null,null,null,null,null,null,null,null,null,null,"LUX　ルクセンブルク大公国"]
[null,null,null,null,null,null,null,null,null,null,null,null,null,null,null,null,null,null,null,null,null,null,null,null,null,null,null,null,null,null,null,null,null,null,null,null,null,null,null,null,null,null,null,null,null,null,null,null,null,null,null,"LVA　ラトビア共和国"]
[null,null,null,null,null,null,null,null,null,null,null,null,null,null,null,null,null,null,null,null,null,null,null,null,null,null,null,null,null,null,null,null,null,null,null,null,null,null,null,null,null,null,null,null,null,null,null,null,null,null,null,"LBY　社会主義人民リビア・アラブ国"]
[null,null,null,null,null,null,null,null,null,null,null,null,null,null,null,null,null,null,null,null,null,null,null,null,null,null,null,null,null,null,null,null,null,null,null,null,null,null,null,null,null,null,null,null,null,null,null,null,null,null,null,"MAR　モロッコ王国"]
[null,null,null,null,null,null,null,null,null,null,null,null,null,null,null,null,null,null,null,null,null,null,null,null,null,null,null,null,null,null,null,null,null,null,null,null,null,null,null,null,null,null,null,null,null,null,null,null,null,null,null,"MCO　モナコ公国"]
[null,null,null,null,null,null,null,null,null,null,null,null,null,null,null,null,null,null,null,null,null,null,null,null,null,null,null,null,null,null,null,null,null,null,null,null,null,null,null,null,null,null,null,null,null,null,null,null,null,null,null,"MDA　モルドバ共和国"]
[null,null,null,null,null,null,null,null,null,null,null,null,null,null,null,null,null,null,null,null,null,null,null,null,null,null,null,null,null,null,null,null,null,null,null,null,null,null,null,null,null,null,null,null,null,null,null,null,null,null,null,"MDG　マダガスカル共和国"]
[null,null,null,null,null,null,null,null,null,null,null,null,null,null,null,null,null,null,null,null,null,null,null,null,null,null,null,null,null,null,null,null,null,null,null,null,null,null,null,null,null,null,null,null,null,null,null,null,null,null,null,"MHL　マーシャル諸島共和国"]
[null,null,null,null,null,null,null,null,null,null,null,null,null,null,null,null,null,null,null,null,null,null,null,null,null,null,null,null,null,null,null,null,null,null,null,null,null,null,null,null,null,null,null,null,null,null,null,null,null,null,null,"MLI　マリ共和国"]
[null,null,null,null,null,null,null,null,null,null,null,null,null,null,null,null,null,null,null,null,null,null,null,null,null,null,null,null,null,null,null,null,null,null,null,null,null,null,null,null,null,null,null,null,null,null,null,null,null,null,null,"MMR　ミャンマー連邦"]
[null,null,null,null,null,null,null,null,null,null,null,null,null,null,null,null,null,null,null,null,null,null,null,null,null,null,null,null,null,null,null,null,null,null,null,null,null,null,null,null,null,null,null,null,null,null,null,null,null,null,null,"MNG　モンゴル国"]
[null,null,null,null,null,null,null,null,null,null,null,null,null,null,null,null,null,null,null,null,null,null,null,null,null,null,null,null,null,null,null,null,null,null,null,null,null,null,null,null,null,null,null,null,null,null,null,null,null,null,null,"MAC　マカオ(澳門)"]
[null,null,null,null,null,null,null,null,null,null,null,null,null,null,null,null,null,null,null,null,null,null,null,null,null,null,null,null,null,null,null,null,null,null,null,null,null,null,null,null,null,null,null,null,null,null,null,null,null,null,null,"MNP　北マリアナ諸島"]
[null,null,null,null,null,null,null,null,null,null,null,null,null,null,null,null,null,null,null,null,null,null,null,null,null,null,null,null,null,null,null,null,null,null,null,null,null,null,null,null,null,null,null,null,null,null,null,null,null,null,null,"MTQ　マルチニーク島"]
[null,null,null,null,null,null,null,null,null,null,null,null,null,null,null,null,null,null,null,null,null,null,null,null,null,null,null,null,null,null,null,null,null,null,null,null,null,null,null,null,null,null,null,null,null,null,null,null,null,null,null,"MRT　モーリタニア・イスラム共和国"]
[null,null,null,null,null,null,null,null,null,null,null,null,null,null,null,null,null,null,null,null,null,null,null,null,null,null,null,null,null,null,null,null,null,null,null,null,null,null,null,null,null,null,null,null,null,null,null,null,null,null,null,"MSR　モントセラト"]
[null,null,null,null,null,null,null,null,null,null,null,null,null,null,null,null,null,null,null,null,null,null,null,null,null,null,null,null,null,null,null,null,null,null,null,null,null,null,null,null,null,null,null,null,null,null,null,null,null,null,null,"MLT　マルタ共和国"]
[null,null,null,null,null,null,null,null,null,null,null,null,null,null,null,null,null,null,null,null,null,null,null,null,null,null,null,null,null,null,null,null,null,null,null,null,null,null,null,null,null,null,null,null,null,null,null,null,null,null,null,"MUS　モーリシャス共和国"]
[null,null,null,null,null,null,null,null,null,null,null,null,null,null,null,null,null,null,null,null,null,null,null,null,null,null,null,null,null,null,null,null,null,null,null,null,null,null,null,null,null,null,null,null,null,null,null,null,null,null,null,"MDV　モルジブ共和国"]
[null,null,null,null,null,null,null,null,null,null,null,null,null,null,null,null,null,null,null,null,null,null,null,null,null,null,null,null,null,null,null,null,null,null,null,null,null,null,null,null,null,null,null,null,null,null,null,null,null,null,null,"MWI　マラウイ共和国"]
[null,null,null,null,null,null,null,null,null,null,null,null,null,null,null,null,null,null,null,null,null,null,null,null,null,null,null,null,null,null,null,null,null,null,null,null,null,null,null,null,null,null,null,null,null,null,null,null,null,null,null,"MEX　メキシコ合衆国"]
[null,null,null,null,null,null,null,null,null,null,null,null,null,null,null,null,null,null,null,null,null,null,null,null,null,null,null,null,null,null,null,null,null,null,null,null,null,null,null,null,null,null,null,null,null,null,null,null,null,null,null,"MYS　マレーシア"]
[null,null,null,null,null,null,null,null,null,null,null,null,null,null,null,null,null,null,null,null,null,null,null,null,null,null,null,null,null,null,null,null,null,null,null,null,null,null,null,null,null,null,null,null,null,null,null,null,null,null,null,"MOZ　モザンビーク共和国"]
[null,null,null,null,null,null,null,null,null,null,null,null,null,null,null,null,null,null,null,null,null,null,null,null,null,null,null,null,null,null,null,null,null,null,null,null,null,null,null,null,null,null,null,null,null,null,null,null,null,null,null,"NAM　ナミビア共和国"]
[null,null,null,null,null,null,null,null,null,null,null,null,null,null,null,null,null,null,null,null,null,null,null,null,null,null,null,null,null,null,null,null,null,null,null,null,null,null,null,null,null,null,null,null,null,null,null,null,null,null,null,"NCL　ニューカレドニア"]
[null,null,null,null,null,null,null,null,null,null,null,null,null,null,null,null,null,null,null,null,null,null,null,null,null,null,null,null,null,null,null,null,null,null,null,null,null,null,null,null,null,null,null,null,null,null,null,null,null,null,null,"NER　ニジェール共和国"]
[null,null,null,null,null,null,null,null,null,null,null,null,null,null,null,null,null,null,null,null,null,null,null,null,null,null,null,null,null,null,null,null,null,null,null,null,null,null,null,null,null,null,null,null,null,null,null,null,null,null,null,"NFK　ノーフォーク島"]
[null,null,null,null,null,null,null,null,null,null,null,null,null,null,null,null,null,null,null,null,null,null,null,null,null,null,null,null,null,null,null,null,null,null,null,null,null,null,null,null,null,null,null,null,null,null,null,null,null,null,null,"NGA　ナイジェリア連邦共和国"]
[null,null,null,null,null,null,null,null,null,null,null,null,null,null,null,null,null,null,null,null,null,null,null,null,null,null,null,null,null,null,null,null,null,null,null,null,null,null,null,null,null,null,null,null,null,null,null,null,null,null,null,"NIC　ニカラグア共和国"]
[null,null,null,null,null,null,null,null,null,null,null,null,null,null,null,null,null,null,null,null,null,null,null,null,null,null,null,null,null,null,null,null,null,null,null,null,null,null,null,null,null,null,null,null,null,null,null,null,null,null,null,"NLD　オランダ王国"]
[null,null,null,null,null,null,null,null,null,null,null,null,null,null,null,null,null,null,null,null,null,null,null,null,null,null,null,null,null,null,null,null,null,null,null,null,null,null,null,null,null,null,null,null,null,null,null,null,null,null,null,"NOR　ノルウェー王国"]
[null,null,null,null,null,null,null,null,null,null,null,null,null,null,null,null,null,null,null,null,null,null,null,null,null,null,null,null,null,null,null,null,null,null,null,null,null,null,null,null,null,null,null,null,null,null,null,null,null,null,null,"NPL　ネパール王国"]
[null,null,null,null,null,null,null,null,null,null,null,null,null,null,null,null,null,null,null,null,null,null,null,null,null,null,null,null,null,null,null,null,null,null,null,null,null,null,null,null,null,null,null,null,null,null,null,null,null,null,null,"NRU　ナウル共和国"]
[null,null,null,null,null,null,null,null,null,null,null,null,null,null,null,null,null,null,null,null,null,null,null,null,null,null,null,null,null,null,null,null,null,null,null,null,null,null,null,null,null,null,null,null,null,null,null,null,null,null,null,"NIU　ニウエ"]
[null,null,null,null,null,null,null,null,null,null,null,null,null,null,null,null,null,null,null,null,null,null,null,null,null,null,null,null,null,null,null,null,null,null,null,null,null,null,null,null,null,null,null,null,null,null,null,null,null,null,null,"NZL　ニュージーランド"]
[null,null,null,null,null,null,null,null,null,null,null,null,null,null,null,null,null,null,null,null,null,null,null,null,null,null,null,null,null,null,null,null,null,null,null,null,null,null,null,null,null,null,null,null,null,null,null,null,null,null,null,"OMN　オマーン国"]
[null,null,null,null,null,null,null,null,null,null,null,null,null,null,null,null,null,null,null,null,null,null,null,null,null,null,null,null,null,null,null,null,null,null,null,null,null,null,null,null,null,null,null,null,null,null,null,null,null,null,null,"PAN　パナマ共和国"]
[null,null,null,null,null,null,null,null,null,null,null,null,null,null,null,null,null,null,null,null,null,null,null,null,null,null,null,null,null,null,null,null,null,null,null,null,null,null,null,null,null,null,null,null,null,null,null,null,null,null,null,"PER　ペルー共和国"]
[null,null,null,null,null,null,null,null,null,null,null,null,null,null,null,null,null,null,null,null,null,null,null,null,null,null,null,null,null,null,null,null,null,null,null,null,null,null,null,null,null,null,null,null,null,null,null,null,null,null,null,"PYF　仏領ポリネシア"]
[null,null,null,null,null,null,null,null,null,null,null,null,null,null,null,null,null,null,null,null,null,null,null,null,null,null,null,null,null,null,null,null,null,null,null,null,null,null,null,null,null,null,null,null,null,null,null,null,null,null,null,"PNG　パプアニューギニア"]
[null,null,null,null,null,null,null,null,null,null,null,null,null,null,null,null,null,null,null,null,null,null,null,null,null,null,null,null,null,null,null,null,null,null,null,null,null,null,null,null,null,null,null,null,null,null,null,null,null,null,null,"PHL　フィリピン共和国"]
[null,null,null,null,null,null,null,null,null,null,null,null,null,null,null,null,null,null,null,null,null,null,null,null,null,null,null,null,null,null,null,null,null,null,null,null,null,null,null,null,null,null,null,null,null,null,null,null,null,null,null,"PAK　パキスタン・イスラム共和国"]
[null,null,null,null,null,null,null,null,null,null,null,null,null,null,null,null,null,null,null,null,null,null,null,null,null,null,null,null,null,null,null,null,null,null,null,null,null,null,null,null,null,null,null,null,null,null,null,null,null,null,null,"POL　ポーランド共和国"]
[null,null,null,null,null,null,null,null,null,null,null,null,null,null,null,null,null,null,null,null,null,null,null,null,null,null,null,null,null,null,null,null,null,null,null,null,null,null,null,null,null,null,null,null,null,null,null,null,null,null,null,"SPM　サンピエール島・ミクロン島"]
[null,null,null,null,null,null,null,null,null,null,null,null,null,null,null,null,null,null,null,null,null,null,null,null,null,null,null,null,null,null,null,null,null,null,null,null,null,null,null,null,null,null,null,null,null,null,null,null,null,null,null,"PCN　ピトケアン島"]
[null,null,null,null,null,null,null,null,null,null,null,null,null,null,null,null,null,null,null,null,null,null,null,null,null,null,null,null,null,null,null,null,null,null,null,null,null,null,null,null,null,null,null,null,null,null,null,null,null,null,null,"PRI　プエルトリコ"]
[null,null,null,null,null,null,null,null,null,null,null,null,null,null,null,null,null,null,null,null,null,null,null,null,null,null,null,null,null,null,null,null,null,null,null,null,null,null,null,null,null,null,null,null,null,null,null,null,null,null,null,"PRT　ポルトガル共和国"]
[null,null,null,null,null,null,null,null,null,null,null,null,null,null,null,null,null,null,null,null,null,null,null,null,null,null,null,null,null,null,null,null,null,null,null,null,null,null,null,null,null,null,null,null,null,null,null,null,null,null,null,"PLW　パラオ"]
[null,null,null,null,null,null,null,null,null,null,null,null,null,null,null,null,null,null,null,null,null,null,null,null,null,null,null,null,null,null,null,null,null,null,null,null,null,null,null,null,null,null,null,null,null,null,null,null,null,null,null,"PRY　パラグアイ共和国"]
[null,null,null,null,null,null,null,null,null,null,null,null,null,null,null,null,null,null,null,null,null,null,null,null,null,null,null,null,null,null,null,null,null,null,null,null,null,null,null,null,null,null,null,null,null,null,null,null,null,null,null,"QAT　カタール国"]
[null,null,null,null,null,null,null,null,null,null,null,null,null,null,null,null,null,null,null,null,null,null,null,null,null,null,null,null,null,null,null,null,null,null,null,null,null,null,null,null,null,null,null,null,null,null,null,null,null,null,null,"REU　レユニオン"]
[null,null,null,null,null,null,null,null,null,null,null,null,null,null,null,null,null,null,null,null,null,null,null,null,null,null,null,null,null,null,null,null,null,null,null,null,null,null,null,null,null,null,null,null,null,null,null,null,null,null,null,"ROM　ルーマニア"]
[null,null,null,null,null,null,null,null,null,null,null,null,null,null,null,null,null,null,null,null,null,null,null,null,null,null,null,null,null,null,null,null,null,null,null,null,null,null,null,null,null,null,null,null,null,null,null,null,null,null,null,"RUS　ロシア連邦"]
[null,null,null,null,null,null,null,null,null,null,null,null,null,null,null,null,null,null,null,null,null,null,null,null,null,null,null,null,null,null,null,null,null,null,null,null,null,null,null,null,null,null,null,null,null,null,null,null,null,null,null,"RWA　ルワンダ共和国"]
[null,null,null,null,null,null,null,null,null,null,null,null,null,null,null,null,null,null,null,null,null,null,null,null,null,null,null,null,null,null,null,null,null,null,null,null,null,null,null,null,null,null,null,null,null,null,null,null,null,null,null,"SAU　サウジアラビア王国"]
[null,null,null,null,null,null,null,null,null,null,null,null,null,null,null,null,null,null,null,null,null,null,null,null,null,null,null,null,null,null,null,null,null,null,null,null,null,null,null,null,null,null,null,null,null,null,null,null,null,null,null,"SLB　ソロモン諸島"]
[null,null,null,null,null,null,null,null,null,null,null,null,null,null,null,null,null,null,null,null,null,null,null,null,null,null,null,null,null,null,null,null,null,null,null,null,null,null,null,null,null,null,null,null,null,null,null,null,null,null,null,"SYC　セイシェル共和国"]
[null,null,null,null,null,null,null,null,null,null,null,null,null,null,null,null,null,null,null,null,null,null,null,null,null,null,null,null,null,null,null,null,null,null,null,null,null,null,null,null,null,null,null,null,null,null,null,null,null,null,null,"SDN　スーダン共和国"]
[null,null,null,null,null,null,null,null,null,null,null,null,null,null,null,null,null,null,null,null,null,null,null,null,null,null,null,null,null,null,null,null,null,null,null,null,null,null,null,null,null,null,null,null,null,null,null,null,null,null,null,"SWE　スウェーデン王国"]
[null,null,null,null,null,null,null,null,null,null,null,null,null,null,null,null,null,null,null,null,null,null,null,null,null,null,null,null,null,null,null,null,null,null,null,null,null,null,null,null,null,null,null,null,null,null,null,null,null,null,null,"SGP　シンガポール共和国"]
[null,null,null,null,null,null,null,null,null,null,null,null,null,null,null,null,null,null,null,null,null,null,null,null,null,null,null,null,null,null,null,null,null,null,null,null,null,null,null,null,null,null,null,null,null,null,null,null,null,null,null,"SHN　セントヘレナ島"]
[null,null,null,null,null,null,null,null,null,null,null,null,null,null,null,null,null,null,null,null,null,null,null,null,null,null,null,null,null,null,null,null,null,null,null,null,null,null,null,null,null,null,null,null,null,null,null,null,null,null,null,"SVN　スロベニア共和国"]
[null,null,null,null,null,null,null,null,null,null,null,null,null,null,null,null,null,null,null,null,null,null,null,null,null,null,null,null,null,null,null,null,null,null,null,null,null,null,null,null,null,null,null,null,null,null,null,null,null,null,null,"SJM　スバールバル諸島・ヤンマイエン島"]
[null,null,null,null,null,null,null,null,null,null,null,null,null,null,null,null,null,null,null,null,null,null,null,null,null,null,null,null,null,null,null,null,null,null,null,null,null,null,null,null,null,null,null,null,null,null,null,null,null,null,null,"SVK　スロバキア共和国"]
[null,null,null,null,null,null,null,null,null,null,null,null,null,null,null,null,null,null,null,null,null,null,null,null,null,null,null,null,null,null,null,null,null,null,null,null,null,null,null,null,null,null,null,null,null,null,null,null,null,null,null,"SLE　シエラレオネ共和国"]
[null,null,null,null,null,null,null,null,null,null,null,null,null,null,null,null,null,null,null,null,null,null,null,null,null,null,null,null,null,null,null,null,null,null,null,null,null,null,null,null,null,null,null,null,null,null,null,null,null,null,null,"SMR　サンマリノ共和国"]
[null,null,null,null,null,null,null,null,null,null,null,null,null,null,null,null,null,null,null,null,null,null,null,null,null,null,null,null,null,null,null,null,null,null,null,null,null,null,null,null,null,null,null,null,null,null,null,null,null,null,null,"SEN　セネガル共和国"]
[null,null,null,null,null,null,null,null,null,null,null,null,null,null,null,null,null,null,null,null,null,null,null,null,null,null,null,null,null,null,null,null,null,null,null,null,null,null,null,null,null,null,null,null,null,null,null,null,null,null,null,"SOM　ソマリア民主共和国"]
[null,null,null,null,null,null,null,null,null,null,null,null,null,null,null,null,null,null,null,null,null,null,null,null,null,null,null,null,null,null,null,null,null,null,null,null,null,null,null,null,null,null,null,null,null,null,null,null,null,null,null,"SUR　スリナム共和国"]
[null,null,null,null,null,null,null,null,null,null,null,null,null,null,null,null,null,null,null,null,null,null,null,null,null,null,null,null,null,null,null,null,null,null,null,null,null,null,null,null,null,null,null,null,null,null,null,null,null,null,null,"STP　サントメ・プリンシペ民主共和国"]
[null,null,null,null,null,null,null,null,null,null,null,null,null,null,null,null,null,null,null,null,null,null,null,null,null,null,null,null,null,null,null,null,null,null,null,null,null,null,null,null,null,null,null,null,null,null,null,null,null,null,null,"SLV　エルサルバドル共和国"]
[null,null,null,null,null,null,null,null,null,null,null,null,null,null,null,null,null,null,null,null,null,null,null,null,null,null,null,null,null,null,null,null,null,null,null,null,null,null,null,null,null,null,null,null,null,null,null,null,null,null,null,"SYR　シリア・アラブ共和国"]
[null,null,null,null,null,null,null,null,null,null,null,null,null,null,null,null,null,null,null,null,null,null,null,null,null,null,null,null,null,null,null,null,null,null,null,null,null,null,null,null,null,null,null,null,null,null,null,null,null,null,null,"SWZ　スワジランド王国"]
[null,null,null,null,null,null,null,null,null,null,null,null,null,null,null,null,null,null,null,null,null,null,null,null,null,null,null,null,null,null,null,null,null,null,null,null,null,null,null,null,null,null,null,null,null,null,null,null,null,null,null,"TCA　タークス諸島・カイコス諸島"]
[null,null,null,null,null,null,null,null,null,null,null,null,null,null,null,null,null,null,null,null,null,null,null,null,null,null,null,null,null,null,null,null,null,null,null,null,null,null,null,null,null,null,null,null,null,null,null,null,null,null,null,"TCD　チャド共和国"]
[null,null,null,null,null,null,null,null,null,null,null,null,null,null,null,null,null,null,null,null,null,null,null,null,null,null,null,null,null,null,null,null,null,null,null,null,null,null,null,null,null,null,null,null,null,null,null,null,null,null,null,"ATF　仏領極南諸島"]
[null,null,null,null,null,null,null,null,null,null,null,null,null,null,null,null,null,null,null,null,null,null,null,null,null,null,null,null,null,null,null,null,null,null,null,null,null,null,null,null,null,null,null,null,null,null,null,null,null,null,null,"TGO　トーゴ共和国"]
[null,null,null,null,null,null,null,null,null,null,null,null,null,null,null,null,null,null,null,null,null,null,null,null,null,null,null,null,null,null,null,null,null,null,null,null,null,null,null,null,null,null,null,null,null,null,null,null,null,null,null,"THA　タイ王国"]
[null,null,null,null,null,null,null,null,null,null,null,null,null,null,null,null,null,null,null,null,null,null,null,null,null,null,null,null,null,null,null,null,null,null,null,null,null,null,null,null,null,null,null,null,null,null,null,null,null,null,null,"TJK　タジキスタン共和国"]
[null,null,null,null,null,null,null,null,null,null,null,null,null,null,null,null,null,null,null,null,null,null,null,null,null,null,null,null,null,null,null,null,null,null,null,null,null,null,null,null,null,null,null,null,null,null,null,null,null,null,null,"TKL　トケラウ諸島"]
[null,null,null,null,null,null,null,null,null,null,null,null,null,null,null,null,null,null,null,null,null,null,null,null,null,null,null,null,null,null,null,null,null,null,null,null,null,null,null,null,null,null,null,null,null,null,null,null,null,null,null,"TKM　トルクメニスタン"]
[null,null,null,null,null,null,null,null,null,null,null,null,null,null,null,null,null,null,null,null,null,null,null,null,null,null,null,null,null,null,null,null,null,null,null,null,null,null,null,null,null,null,null,null,null,null,null,null,null,null,null,"TUN　チュニジア共和国"]
[null,null,null,null,null,null,null,null,null,null,null,null,null,null,null,null,null,null,null,null,null,null,null,null,null,null,null,null,null,null,null,null,null,null,null,null,null,null,null,null,null,null,null,null,null,null,null,null,null,null,null,"TON　トンガ王国"]
[null,null,null,null,null,null,null,null,null,null,null,null,null,null,null,null,null,null,null,null,null,null,null,null,null,null,null,null,null,null,null,null,null,null,null,null,null,null,null,null,null,null,null,null,null,null,null,null,null,null,null,"TMP　東チモール"]
[null,null,null,null,null,null,null,null,null,null,null,null,null,null,null,null,null,null,null,null,null,null,null,null,null,null,null,null,null,null,null,null,null,null,null,null,null,null,null,null,null,null,null,null,null,null,null,null,null,null,null,"TUR　トルコ共和国"]
[null,null,null,null,null,null,null,null,null,null,null,null,null,null,null,null,null,null,null,null,null,null,null,null,null,null,null,null,null,null,null,null,null,null,null,null,null,null,null,null,null,null,null,null,null,null,null,null,null,null,null,"TTO　トリニダード・トバゴ共和国"]
[null,null,null,null,null,null,null,null,null,null,null,null,null,null,null,null,null,null,null,null,null,null,null,null,null,null,null,null,null,null,null,null,null,null,null,null,null,null,null,null,null,null,null,null,null,null,null,null,null,null,null,"TUV　ツバル"]
[null,null,null,null,null,null,null,null,null,null,null,null,null,null,null,null,null,null,null,null,null,null,null,null,null,null,null,null,null,null,null,null,null,null,null,null,null,null,null,null,null,null,null,null,null,null,null,null,null,null,null,"TWN　台湾"]
[null,null,null,null,null,null,null,null,null,null,null,null,null,null,null,null,null,null,null,null,null,null,null,null,null,null,null,null,null,null,null,null,null,null,null,null,null,null,null,null,null,null,null,null,null,null,null,null,null,null,null,"TZA　タンザニア連合共和国"]
[null,null,null,null,null,null,null,null,null,null,null,null,null,null,null,null,null,null,null,null,null,null,null,null,null,null,null,null,null,null,null,null,null,null,null,null,null,null,null,null,null,null,null,null,null,null,null,null,null,null,null,"UKR　ウクライナ"]
[null,null,null,null,null,null,null,null,null,null,null,null,null,null,null,null,null,null,null,null,null,null,null,null,null,null,null,null,null,null,null,null,null,null,null,null,null,null,null,null,null,null,null,null,null,null,null,null,null,null,null,"UGA　ウガンダ共和国"]
[null,null,null,null,null,null,null,null,null,null,null,null,null,null,null,null,null,null,null,null,null,null,null,null,null,null,null,null,null,null,null,null,null,null,null,null,null,null,null,null,null,null,null,null,null,null,null,null,null,null,null,"UMI　米領太平洋諸島"]
[null,null,null,null,null,null,null,null,null,null,null,null,null,null,null,null,null,null,null,null,null,null,null,null,null,null,null,null,null,null,null,null,null,null,null,null,null,null,null,null,null,null,null,null,null,null,null,null,null,null,null,"USA　アメリカ合衆国(米国)"]
[null,null,null,null,null,null,null,null,null,null,null,null,null,null,null,null,null,null,null,null,null,null,null,null,null,null,null,null,null,null,null,null,null,null,null,null,null,null,null,null,null,null,null,null,null,null,null,null,null,null,null,"URY　ウルグアイ東方共和国"]
[null,null,null,null,null,null,null,null,null,null,null,null,null,null,null,null,null,null,null,null,null,null,null,null,null,null,null,null,null,null,null,null,null,null,null,null,null,null,null,null,null,null,null,null,null,null,null,null,null,null,null,"UZB　ウズベキスタン共和国"]
[null,null,null,null,null,null,null,null,null,null,null,null,null,null,null,null,null,null,null,null,null,null,null,null,null,null,null,null,null,null,null,null,null,null,null,null,null,null,null,null,null,null,null,null,null,null,null,null,null,null,null,"VAT　バチカン市国"]
[null,null,null,null,null,null,null,null,null,null,null,null,null,null,null,null,null,null,null,null,null,null,null,null,null,null,null,null,null,null,null,null,null,null,null,null,null,null,null,null,null,null,null,null,null,null,null,null,null,null,null,"VCT　セントビンセント及びグレナディーン諸島"]
[null,null,null,null,null,null,null,null,null,null,null,null,null,null,null,null,null,null,null,null,null,null,null,null,null,null,null,null,null,null,null,null,null,null,null,null,null,null,null,null,null,null,null,null,null,null,null,null,null,null,null,"VEN　ベネズエラ共和国"]
[null,null,null,null,null,null,null,null,null,null,null,null,null,null,null,null,null,null,null,null,null,null,null,null,null,null,null,null,null,null,null,null,null,null,null,null,null,null,null,null,null,null,null,null,null,null,null,null,null,null,null,"VGB　英領バージン諸島"]
[null,null,null,null,null,null,null,null,null,null,null,null,null,null,null,null,null,null,null,null,null,null,null,null,null,null,null,null,null,null,null,null,null,null,null,null,null,null,null,null,null,null,null,null,null,null,null,null,null,null,null,"VIR　米領バージン諸島"]
[null,null,null,null,null,null,null,null,null,null,null,null,null,null,null,null,null,null,null,null,null,null,null,null,null,null,null,null,null,null,null,null,null,null,null,null,null,null,null,null,null,null,null,null,null,null,null,null,null,null,null,"VNM　ベトナム社会主義共和国"]
[null,null,null,null,null,null,null,null,null,null,null,null,null,null,null,null,null,null,null,null,null,null,null,null,null,null,null,null,null,null,null,null,null,null,null,null,null,null,null,null,null,null,null,null,null,null,null,null,null,null,null,"VUT　バヌアツ共和国"]
[null,null,null,null,null,null,null,null,null,null,null,null,null,null,null,null,null,null,null,null,null,null,null,null,null,null,null,null,null,null,null,null,null,null,null,null,null,null,null,null,null,null,null,null,null,null,null,null,null,null,null,"WLF　ワリス・フテュナ諸島"]
[null,null,null,null,null,null,null,null,null,null,null,null,null,null,null,null,null,null,null,null,null,null,null,null,null,null,null,null,null,null,null,null,null,null,null,null,null,null,null,null,null,null,null,null,null,null,null,null,null,null,null,"WSM　西サモア"]
[null,null,null,null,null,null,null,null,null,null,null,null,null,null,null,null,null,null,null,null,null,null,null,null,null,null,null,null,null,null,null,null,null,null,null,null,null,null,null,null,null,null,null,null,null,null,null,null,null,null,null,"YEM　イエメン共和国"]
[null,null,null,null,null,null,null,null,null,null,null,null,null,null,null,null,null,null,null,null,null,null,null,null,null,null,null,null,null,null,null,null,null,null,null,null,null,null,null,null,null,null,null,null,null,null,null,null,null,null,null,"MYT　マイヨット島"]
[null,null,null,null,null,null,null,null,null,null,null,null,null,null,null,null,null,null,null,null,null,null,null,null,null,null,null,null,null,null,null,null,null,null,null,null,null,null,null,null,null,null,null,null,null,null,null,null,null,null,null,"YUG　(ユーゴスラビア連邦共和国)"]
[null,null,null,null,null,null,null,null,null,null,null,null,null,null,null,null,null,null,null,null,null,null,null,null,null,null,null,null,null,null,null,null,null,null,null,null,null,null,null,null,null,null,null,null,null,null,null,null,null,null,null,"ZAF　南アフリカ共和国"]
[null,null,null,null,null,null,null,null,null,null,null,null,null,null,null,null,null,null,null,null,null,null,null,null,null,null,null,null,null,null,null,null,null,null,null,null,null,null,null,null,null,null,null,null,null,null,null,null,null,null,null,"ZMB　ザンビア共和国"]
[null,null,null,null,null,null,null,null,null,null,null,null,null,null,null,null,null,null,null,null,null,null,null,null,null,null,null,null,null,null,null,null,null,null,null,null,null,null,null,null,null,null,null,null,null,null,null,null,null,null,null,"ZAR　ザイール共和国"]
[null,null,null,null,null,null,null,null,null,null,null,null,null,null,null,null,null,null,null,null,null,null,null,null,null,null,null,null,null,null,null,null,null,null,null,null,null,null,null,null,null,null,null,null,null,null,null,null,null,null,null,"ZWE　ジンバブエ共和国"]

{"sheet":" ","index":4,"n_rows":14,"n_cols":24,"rows_kept":14,"cut":false,"hidden":false,"merged":[[0,9,0,11],[7,17,12,17],[7,5,12,5],[5,1,5,5],[7,23,12,23],[5,13,5,17],[5,19,5,23],[5,7,5,11],[7,11,12,11],[0,15,0,17]]}
["④リレー情報確認",null,null,null,null,null,null,null,"チーム名 ",{"$f":"IF(①団体情報入力!C6=\"\",\"\",①団体情報入力!C6)","v":"愛知陸協"},null,null,null,null,"ｶﾅ",{"$f":"IF(①団体情報入力!C7=\"\",\"\",①団体情報入力!C7)","v":"アイチリッキョウ"}]
[]
[null,null,"※リレーにエントリーをする選手とチームの記録を確認してください。"]
[null,null,"※修正をする場合は「②選手情報入力」で修正してください。"]
[null,null,"※リレーエントリーに○を付けても、データが反映されない場合、「②選手権情報入力」のナンバーのセルが文字列になっていますので数値に変換してください。"]
[null,"男4X100mR",null,null,null,null,null,"男4X400mR",null,null,null,null,null,"女4X100mR",null,null,null,null,null,"女4X400mR"]
[null,"Ord","ﾅﾝﾊﾞｰ","氏　名","競技者NO","記録",null,"Ord","ﾅﾝﾊﾞｰ","氏　名","競技者NO","記録",null,"Ord","ﾅﾝﾊﾞｰ","氏　名","競技者NO","記録",null,"Ord","ﾅﾝﾊﾞｰ","氏　名","競技者NO","記録"]
[null,1,{"$f":"IF(②選手情報入力!$AR$10<1,\"\",VLOOKUP(B8,②選手情報入力!$AQ$11:$AR$100,2,FALSE))","v":""},{"$f":"IF(C8=\"\",\"\",VLOOKUP(C8,②選手情報入力!$AE$11:$AF$100,2,FALSE))","v":""},{"$f":"IF(C8=\"\",\"\",VLOOKUP(C8,②選手情報入力!$AE$11:$AK$100,6,FALSE))","v":""},{"$f":"IF(②選手情報入力!V7=\"\",\"\",②選手情報入力!V7)","v":""},null,1,{"$f":"IF(②選手情報入力!$AT$10<1,\"\",VLOOKUP(H8,②選手情報入力!$AS$11:$AT$100,2,FALSE))","v":""},{"$f":"IF(I8=\"\",\"\",VLOOKUP(I8,②選手情報入力!$AE$11:$AF$100,2,FALSE))","v":""},{"$f":"IF(I8=\"\",\"\",VLOOKUP(I8,②選手情報入力!$AE$11:$AK$100,6,FALSE))","v":""},{"$f":"IF(②選手情報入力!X7=\"\",\"\",②選手情報入力!X7)","v":""},null,1,{"$f":"IF(②選手情報入力!$AV$10<1,\"\",VLOOKUP(N8,②選手情報入力!$AU$11:$AV$100,2,FALSE))","v":""},{"$f":"IF(O8=\"\",\"\",VLOOKUP(O8,②選手情報入力!$AK$11:$AL$100,2,FALSE))","v":""},{"$f":"IF(O8=\"\",\"\",VLOOKUP(O8,②選手情報入力!$AK$11:$AR$100,6,FALSE))","v":""},{"$f":"IF(②選手情報入力!V8=\"\",\"\",②選手情報入力!V8)","v":""},null,1,{"$f":"IF(②選手情報入力!$AX$10<1,\"\",VLOOKUP(T8,②選手情報入力!$AW$11:$AX$100,2,FALSE))","v":""},{"$f":"IF(U8=\"\",\"\",VLOOKUP(U8,②選手情報入力!$AK$11:$AL$100,2,FALSE))","v":""},{"$f":"IF(U8=\"\",\"\",VLOOKUP(U8,②選手情報入力!$AK$11:$AR$100,6,FALSE))","v":""},{"$f":"IF(②選手情報入力!X8=\"\",\"\",②選手情報入力!X8)","v":""}]
[null,2,{"$f":"IF(②選手情報入力!$AR$10<2,\"\",VLOOKUP(B9,②選手情報入力!$AQ$11:$AR$100,2,FALSE))","v":""},{"$f":"IF(C9=\"\",\"\",VLOOKUP(C9,②選手情報入力!$AE$11:$AF$100,2,FALSE))","v":""},{"$f":"IF(C9=\"\",\"\",VLOOKUP(C9,②選手情報入力!$AE$11:$AK$100,6,FALSE))","v":""},null,null,2,{"$f":"IF(②選手情報入力!$AT$10<2,\"\",VLOOKUP(H9,②選手情報入力!$AS$11:$AT$100,2,FALSE))","v":""},{"$f":"IF(I9=\"\",\"\",VLOOKUP(I9,②選手情報入力!$AE$11:$AF$100,2,FALSE))","v":""},{"$f":"IF(I9=\"\",\"\",VLOOKUP(I9,②選手情報入力!$AE$11:$AK$100,6,FALSE))","v":""},null,null,2,{"$f":"IF(②選手情報入力!$AV$10<2,\"\",VLOOKUP(N9,②選手情報入力!$AU$11:$AV$100,2,FALSE))","v":""},{"$f":"IF(O9=\"\",\"\",VLOOKUP(O9,②選手情報入力!$AK$11:$AL$100,2,FALSE))","v":""},{"$f":"IF(O9=\"\",\"\",VLOOKUP(O9,②選手情報入力!$AK$11:$AR$100,6,FALSE))","v":""},null,null,2,{"$f":"IF(②選手情報入力!$AX$10<2,\"\",VLOOKUP(T9,②選手情報入力!$AW$11:$AX$100,2,FALSE))","v":""},{"$f":"IF(U9=\"\",\"\",VLOOKUP(U9,②選手情報入力!$AK$11:$AL$100,2,FALSE))","v":""},{"$f":"IF(U9=\"\",\"\",VLOOKUP(U9,②選手情報入力!$AK$11:$AR$100,6,FALSE))","v":""}]
[null,3,{"$f":"IF(②選手情報入力!$AR$10<3,\"\",VLOOKUP(B10,②選手情報入力!$AQ$11:$AR$100,2,FALSE))","v":""},{"$f":"IF(C10=\"\",\"\",VLOOKUP(C10,②選手情報入力!$AE$11:$AF$100,2,FALSE))","v":""},{"$f":"IF(C10=\"\",\"\",VLOOKUP(C10,②選手情報入力!$AE$11:$AK$100,6,FALSE))","v":""},null,null,3,{"$f":"IF(②選手情報入力!$AT$10<3,\"\",VLOOKUP(H10,②選手情報入力!$AS$11:$AT$100,2,FALSE))","v":""},{"$f":"IF(I10=\"\",\"\",VLOOKUP(I10,②選手情報入力!$AE$11:$AF$100,2,FALSE))","v":""},{"$f":"IF(I10=\"\",\"\",VLOOKUP(I10,②選手情報入力!$AE$11:$AK$100,6,FALSE))","v":""},null,null,3,{"$f":"IF(②選手情報入力!$AV$10<3,\"\",VLOOKUP(N10,②選手情報入力!$AU$11:$AV$100,2,FALSE))","v":""},{"$f":"IF(O10=\"\",\"\",VLOOKUP(O10,②選手情報入力!$AK$11:$AL$100,2,FALSE))","v":""},{"$f":"IF(O10=\"\",\"\",VLOOKUP(O10,②選手情報入力!$AK$11:$AR$100,6,FALSE))","v":""},null,null,3,{"$f":"IF(②選手情報入力!$AX$10<3,\"\",VLOOKUP(T10,②選手情報入力!$AW$11:$AX$100,2,FALSE))","v":""},{"$f":"IF(U10=\"\",\"\",VLOOKUP(U10,②選手情報入力!$AK$11:$AL$100,2,FALSE))","v":""},{"$f":"IF(U10=\"\",\"\",VLOOKUP(U10,②選手情報入力!$AK$11:$AR$100,6,FALSE))","v":""}]
[null,4,{"$f":"IF(②選手情報入力!$AR$10<4,\"\",VLOOKUP(B11,②選手情報入力!$AQ$11:$AR$100,2,FALSE))","v":""},{"$f":"IF(C11=\"\",\"\",VLOOKUP(C11,②選手情報入力!$AE$11:$AF$100,2,FALSE))","v":""},{"$f":"IF(C11=\"\",\"\",VLOOKUP(C11,②選手情報入力!$AE$11:$AK$100,6,FALSE))","v":""},null,null,4,{"$f":"IF(②選手情報入力!$AT$10<4,\"\",VLOOKUP(H11,②選手情報入力!$AS$11:$AT$100,2,FALSE))","v":""},{"$f":"IF(I11=\"\",\"\",VLOOKUP(I11,②選手情報入力!$AE$11:$AF$100,2,FALSE))","v":""},{"$f":"IF(I11=\"\",\"\",VLOOKUP(I11,②選手情報入力!$AE$11:$AK$100,6,FALSE))","v":""},null,null,4,{"$f":"IF(②選手情報入力!$AV$10<4,\"\",VLOOKUP(N11,②選手情報入力!$AU$11:$AV$100,2,FALSE))","v":""},{"$f":"IF(O11=\"\",\"\",VLOOKUP(O11,②選手情報入力!$AK$11:$AL$100,2,FALSE))","v":""},{"$f":"IF(O11=\"\",\"\",VLOOKUP(O11,②選手情報入力!$AK$11:$AR$100,6,FALSE))","v":""},null,null,4,{"$f":"IF(②選手情報入力!$AX$10<4,\"\",VLOOKUP(T11,②選手情報入力!$AW$11:$AX$100,2,FALSE))","v":""},{"$f":"IF(U11=\"\",\"\",VLOOKUP(U11,②選手情報入力!$AK$11:$AL$100,2,FALSE))","v":""},{"$f":"IF(U11=\"\",\"\",VLOOKUP(U11,②選手情報入力!$AK$11:$AR$100,6,FALSE))","v":""}]
[null,5,{"$f":"IF(②選手情報入力!$AR$10<5,\"\",VLOOKUP(B12,②選手情報入力!$AQ$11:$AR$100,2,FALSE))","v":""},{"$f":"IF(C12=\"\",\"\",VLOOKUP(C12,②選手情報入力!$AE$11:$AF$100,2,FALSE))","v":""},{"$f":"IF(C12=\"\",\"\",VLOOKUP(C12,②選手情報入力!$AE$11:$AK$100,6,FALSE))","v":""},null,null,5,{"$f":"IF(②選手情報入力!$AT$10<5,\"\",VLOOKUP(H12,②選手情報入力!$AS$11:$AT$100,2,FALSE))","v":""},{"$f":"IF(I12=\"\",\"\",VLOOKUP(I12,②選手情報入力!$AE$11:$AF$100,2,FALSE))","v":""},{"$f":"IF(I12=\"\",\"\",VLOOKUP(I12,②選手情報入力!$AE$11:$AK$100,6,FALSE))","v":""},null,null,5,{"$f":"IF(②選手情報入力!$AV$10<5,\"\",VLOOKUP(N12,②選手情報入力!$AU$11:$AV$100,2,FALSE))","v":""},{"$f":"IF(O12=\"\",\"\",VLOOKUP(O12,②選手情報入力!$AK$11:$AL$100,2,FALSE))","v":""},{"$f":"IF(O12=\"\",\"\",VLOOKUP(O12,②選手情報入力!$AK$11:$AR$100,6,FALSE))","v":""},null,null,5,{"$f":"IF(②選手情報入力!$AX$10<5,\"\",VLOOKUP(T12,②選手情報入力!$AW$11:$AX$100,2,FALSE))","v":""},{"$f":"IF(U12=\"\",\"\",VLOOKUP(U12,②選手情報入力!$AK$11:$AL$100,2,FALSE))","v":""},{"$f":"IF(U12=\"\",\"\",VLOOKUP(U12,②選手情報入力!$AK$11:$AR$100,6,FALSE))","v":""}]
[null,6,{"$f":"IF(②選手情報入力!$AR$10<6,\"\",VLOOKUP(B13,②選手情報入力!$AQ$11:$AR$100,2,FALSE))","v":""},{"$f":"IF(C13=\"\",\"\",VLOOKUP(C13,②選手情報入力!$AE$11:$AF$100,2,FALSE))","v":""},{"$f":"IF(C13=\"\",\"\",VLOOKUP(C13,②選手情報入力!$AE$11:$AK$100,6,FALSE))","v":""},null,null,6,{"$f":"IF(②選手情報入力!$AT$10<6,\"\",VLOOKUP(H13,②選手情報入力!$AS$11:$AT$100,2,FALSE))","v":""},{"$f":"IF(I13=\"\",\"\",VLOOKUP(I13,②選手情報入力!$AE$11:$AF$100,2,FALSE))","v":""},{"$f":"IF(I13=\"\",\"\",VLOOKUP(I13,②選手情報入力!$AE$11:$AK$100,6,FALSE))","v":""},null,null,6,{"$f":"IF(②選手情報入力!$AV$10<6,\"\",VLOOKUP(N13,②選手情報入力!$AU$11:$AV$100,2,FALSE))","v":""},{"$f":"IF(O13=\"\",\"\",VLOOKUP(O13,②選手情報入力!$AK$11:$AL$100,2,FALSE))","v":""},{"$f":"IF(O13=\"\",\"\",VLOOKUP(O13,②選手情報入力!$AK$11:$AR$100,6,FALSE))","v":""},null,null,6,{"$f":"IF(②選手情報入力!$AX$10<6,\"\",VLOOKUP(T13,②選手情報入力!$AW$11:$AX$100,2,FALSE))","v":""},{"$f":"IF(U13=\"\",\"\",VLOOKUP(U13,②選手情報入力!$AK$11:$AL$100,2,FALSE))","v":""},{"$f":"IF(U13=\"\",\"\",VLOOKUP(U13,②選手情報入力!$AK$11:$AR$100,6,FALSE))","v":""}]
[null,null,null,"申込チーム数",null,{"$f":"IF(②選手情報入力!AR10>=4,1,0)","v":0},null,null,null,"申込チーム数",null,{"$f":"IF(②選手情報入力!AT10>=4,1,0)","v":0},null,null,null,"申込チーム数",null,{"$f":"IF(②選手情報入力!AV10>=4,1,0)","v":0},null,null,null,"申込チーム数",null,{"$f":"IF(②選手情報入力!AX10>=4,1,0)","v":0}]

{"sheet":"④種目別人数","index":5,"n_rows":14,"n_cols":10,"rows_kept":14,"cut":false,"hidden":false,"merged":[[0,2,0,5],[6,9,8,14],[13,5,13,6],[6,1,6,2],[7,2,7,3],[8,2,8,3],[1,0,1,7],[3,0,3,7],[5,3,5,6],[4,2,4,5],[2,0,2,6]]}
["⑤種目別人数一覧表",null,"団体用"]
["※種目数・参加料等を確認してから印刷をしてください。"]
[{"$f":"注意事項!C3","v":"２０２１　名古屋市民スポーツ祭陸上競技大会"}]
["種目別申込人数一覧表"]
[null,"申込責任者",{"$f":"IF(①団体情報入力!C8=\"\",\"\",①団体情報入力!C8)","v":""},null,null,null,"A4サイズ"]
[null,{"$f":"IF(①団体情報入力!C9=\"\",\"\",①団体情報入力!C9)","v":""},"団体名",{"$f":"IF(①団体情報入力!C6=\"\",\"\",①団体情報入力!C6&\"　\"&②選手情報入力!E11)","v":"愛知陸協　"}]
[null,"種　目　数",null,null,null,{"$f":"①団体情報入力!C2","v":"中学"},"参　加　料",null,"⬅","中学生と一般で参加料が異なります。①団体情報入力で正しいカテゴリーが選択されているか確認願います。"]
[null,"種目数",{"$f":"②選手情報入力!J101","v":0},null,null,{"$f":"IF(①団体情報入力!C2=\"一般大学高校\",\"参加数✕500円\",\"参加数✕400円\")","v":"参加数✕400円"},{"$f":"IF(①団体情報入力!C2=\"一般大学高校\",C8*500,C8*400)","v":0},null,"⬅"]
[null,"リレー",{"$f":"②選手情報入力!J102","v":0}]
[null,"プログラム購入部数",{"$f":"IF(①団体情報入力!C11=\"\",0,①団体情報入力!C11)","v":0},"部",null,"プログラム部数✕880円",{"$f":"C10*800","v":0}]
[null,null,null,null,null,"振込金額",{"$f":"SUM(G8:G10)","v":0}]
[null,null,null,null,null,"参加人数",{"$f":"IF(②選手情報入力!J105=0,\"\",②選手情報入力!J105)","v":""}]
[]
[null,"振込明細書のコピーを余白に添付してください",null,null,null,{"$f":"TODAY()","v":"2021-07-26"}]

{"sheet":"⑤大会前 提出用","index":6,"n_rows":23,"n_cols":11,"rows_kept":23,"cut":false,"hidden":false,"merged":[[22,0,22,1],[0,0,0,10],[1,0,1,10],[2,0,2,10],[4,0,4,10],[20,0,20,1],[19,9,19,10]]}
[]
["【大会前／提出用】新型コロナウイルス感染症についての体調管理チェックシート【名古屋市民スポーツ祭用】"]
["本チェックシートは各種⼤会において新型コロナウイルス感染症の拡⼤を防⽌するため、参加者の健康状態を確認することを⽬的としています。本チェックシートに記⼊いただいた個⼈情報については、厳正なる管理のもとに保管し、健康状態の把握、来場可否の判断および必要なご連絡のためにのみ利⽤します。また、個⼈情報保護法等の法令において認められる場合を除きご本⼈の同意を得ずに第三者に提供いたしません。但し、⼤会会場にて感染症患者またはその疑いのある⽅が発⾒された場合に必要な範囲で保健所等に提供することがあります。　                                                                                                       🔲個人情報の取得・利用・提供に同意する"]
["※大会1週間前から記入し、大会当日、主催者の指示に従い指定の場所に提出すること"]
["※該当しない場合は✔を入れ、該当する場合は〇を記入すること（体温0.1℃単位の数字を記入）"]
[null,null,null,null,null,null,null,null,null,"１日目","２日め"]
["No.","チェックリスト","2021-08-21","2021-08-22","2021-08-23","2021-08-24","2021-08-25","2021-08-26","2021-08-27","2021-08-28","2021-08-29"]
[1,"のどの痛みがある"]
[2,"咳（せき）が出る"]
[3,"痰（たん）がでたり、からんだりする"]
[4,"鼻水（はなみず）、鼻づまりがある　※アレルギーを除く"]
[5,"頭が痛い"]
[6,"体のだるさなどがある"]
[7,"発熱の症状がある"]
[8,"息苦しさがある"]
[9,"味覚異常(味がしない)"]
[10,"嗅覚異常(匂いがしない)"]
[11,"体温","℃","℃","℃","℃","℃","℃","℃","℃","℃"]
[12,"薬剤の服用(解熱剤を含む上記症状を緩和させる薬剤)"]
[null,null,null,null,null,null,null,null,null,"リレー"]
["氏名　　　　　　　　　　　　　　　　　　　　　",null,"所属（学校名など）　　　　　　　　　　　　　　　　　　　　　"]
[null,null,"※参加者が未成年の場合"]
["連絡先（電話番号）　　　　　　　　　　　   　　",null,"保護者氏名　　　　　　　　　　　　　　　　　　　　　　　　　"]

{"sheet":"⑥大会後 個人管理用","index":7,"n_rows":22,"n_cols":17,"rows_kept":22,"cut":false,"hidden":false,"merged":[[12,5,12,6],[7,5,7,6],[8,5,8,6],[9,5,9,6],[10,5,10,6],[11,5,11,6],[19,2,19,4],[19,5,19,16],[13,5,13,6],[14,5,14,6],[15,5,15,6],[16,5,16,6],[17,5,17,6],[18,5,18,6]]}
[null,"①団体情報入力を行ってから、⑤大会前提出用⑥大会後個人管理用を必要数印刷してお使いください。"]
[]
[null,null,null,null,null,null,"]ＡＡＦ"]
["　【大会後／個人管理用】新型コロナウイルス感染症についての体調管理チェツクシート"]
["※犬会終了後２週間は健康チェックをすること。"]
["※該当しない場合は☓を入れ、該当する場合は○を記入すること［体温は0.1℃単位の数字を記入］"]
[]
["N0.","チェックリスト"]
["１","のどの痛みがある"]
["２","咳（せき）が出る"]
["３","痰（たん）がでたり、からんだりする"]
["４","鼻水、鼻づまりがある　ﾒｱﾚﾉﾚｷﾞｰを匹"]
["５","頭が痛い"]
["６","体のだるさなどがある"]
["７","発熱の症状がある"]
["８","息苦しさがある"]
["９","味覚異常(味がしない)"]
[10,"嗅覚異常(匂いがしない)"]
[11,"体温","゜ Ｃ","゜ Ｃ","゜ Ｃ","゜ Ｃ",null,"゜ Ｃ","゜ Ｃ","゜ Ｃ","゜ Ｃ","゜ Ｃ","゜ Ｃ","゜ Ｃ","゜ Ｃ","゜ Ｃ","゜ Ｃ"]
["氏名",null,"所属（学校名など）",null,null,{"$f":"IF(①団体情報入力!C4=\"\",\"\",①団体情報入力!C4)","v":"愛知陸協"}]
["※症状が４日以上続く場合は必ず最寄りの保健所、医師会、診療所等に報告してください。症状には個人差がありますので、強い症状と思う場合にはすぐに報告してください。"]
["※保健所、医師会、診療所等に相談後、必ず大会主催者に報告してください。"]

{"sheet":"⑦入場許可申請","index":8,"n_rows":41,"n_cols":7,"rows_kept":41,"cut":false,"hidden":false,"merged":[[33,0,33,1],[36,0,36,8],[37,0,37,8],[11,3,12,5],[14,0,14,8],[16,6,16,8],[22,0,22,1],[28,0,28,1],[31,0,31,1],[25,0,25,1],[21,2,23,8],[24,2,26,8],[27,2,29,8],[30,2,32,8],[33,2,33,8]]}
[]
[]
["当面の間、名古屋地区の競技会は無観客で実施します。"]
[]
["個人参加者の引率などについて、選手1名に付き1名の帯同を認めます。"]
["学校等の引率で、審判をされない方も１団体１名の帯同を認めます。"]
["ただし、事前申請に限ります。当日の発行はいたしませんのでご注意ください。"]
["選手同様、大会前後の検温等の実施・体調管理シートの提出も合わせてお願い致します。"]
[]
["この用紙にデータ入力の上、④種目別人数と共に印刷し一緒に郵送してください"]
[]
[null,null,null,"キ　　　リ　　　ト　　リ"]
[]
[]
["入場許可証申請書"]
[]
[null,null,null,null,null,"申請日","令和　　年　　　　月　　　　日"]
[]
["名古屋地区陸上競技協会　会長　坂井田　酵三殿"]
[]
[]
[]
["団　体　名"]
[]
[]
["選手との続柄"]
[]
[]
["申請者 氏名"]
[]
[]
["申請者住所"]
[]
["電話番号\n（携帯が望ましい）"]
[]
[]
["大会要項・競技注意事項等に記されている注意事項を厳守し引率します。"]
["これらの項目が守られない場合には退場して頂く場合があります。、"]
[]
[]
[null,null,null,null,"本人自署"]

{"sheet":"⑧リレーの選手が反映されない","index":9,"n_rows":23,"n_cols":2,"rows_kept":23,"cut":false,"hidden":false,"merged":[]}
[]
[null,"文字列を数値に変換する"]
[null,"エクセルでは数値と判断できる文字列を数式に使用したとき、自動で数値に変換されます。"]
[]
[]
[]
[]
[]
[]
[]
[]
[]
[null,"これらの文字列を数値に変換するには、[セル] をクリックしてエラーチェックの機能から [数値に変換する] をクリックします。変換したいセルを範囲選択してから行うと一括で変換できます。"]
[]
[]
[]
[]
[]
[]
[]
[]
[]
[null,"文字列が数値に変換されます。"]

{"sheet":"⑨日付が数字になる","index":10,"n_rows":5,"n_cols":1,"rows_kept":5,"cut":false,"hidden":false,"merged":[]}
["表示形式を日付に戻す"]
[]
["日付の表示形式が失われてシリアル値になったデータは、簡単に日付の形に戻すことができます。"]
[]
["操作方法は対象のセル（例ではB5:B14）をアクティブにし、「ホーム」タブの「表示形式」の▼をクリックし、一覧から「短い日付形式」もしくは「長い日付形式」をクリックします。"]

{"sheet":"　　　　　","index":11,"n_rows":0,"n_cols":0,"rows_kept":0,"cut":false,"hidden":false,"merged":[]}

{"sheet":"種目情報","index":12,"n_rows":55,"n_cols":15,"rows_kept":55,"cut":false,"hidden":false,"merged":[[0,0,0,2],[0,4,0,6],[0,8,0,10],[1,0,2,0],[1,4,2,4],[1,8,2,8]]}
["男子",null,null,null,"女子",null,null,null,"リレー",null,null,null,null,null,"第６３回市民スポーツ祭　募集要項　"]
["種目","種目","記録",null,"種目","種目","記録",null,"種目","種目","記録"]
[null,"No","FLAG",null,null,"No","FLAG",null,null,"No","FLAG",null,null,"部　門","種目、実施方法及び参加条件等"]
[null,null,null,null,null,null,null,null,"中男4X100mR",35,2,null,null,"一般","1名1種目(リレーは除く) 社会人・大学生"]
["一男１００ｍ",1,2,null,"一女１００ｍ",6,2,null,null,null,null,null,null,"1日目","【公認の部】"]
["一男２０００ｍ",2,2,null,"一女２０００ｍ",7,2,null,"中女4X100mR",42,2,null,null,"　8月28日（土）","愛知陸協名古屋地区登録者で名古屋市在住、在勤、在学の方"]
["一男走幅跳",4,0,null,"一女走幅跳",9,0,null,null,null,null,null,null,null,"男女　100m・2000m・4×100mR・走幅跳・男子砲丸投(7.260kg)、女子砲丸投(4.000kg)"]
["一男砲丸投(7.260kg)",5,0,null,"一女砲丸投(4.000kg)",10,0,null,null,null,null,null,null,null,"【非公認の部】"]
["高男１００ｍ",11,2,null,"高女１００ｍ",21,2,null,null,null,null,null,null,null,"陸協非登録者で名古屋市在住、在勤、在学の方"]
["高男４００m",12,2,null,"高女４００m",22,2,null,null,null,null,null,null,null,"男女　100m・走幅跳・男子砲丸投(7.260kg)・女子砲丸投(4.000kg)"]
["高男１５００ｍ",13,2,null,"高女１５００ｍ",23,2,null,null,null,null,null,null,null,"男女　2000m(39歳以下・40歳代・50歳代・60歳代・70歳以上)　"]
["高男１１０ｍH(1.067m)",14,2,null,"高女１００ｍH(0.840m)",24,2,null,null,null,null,null,null,"　"," ☆メールでの申込先：Shisupo.moushikomi@gmail.com　"]
["高男走高跳",17,0,null,"高女走高跳",27,0,null,null,null,null,null,null,"高校","１校1種目2名まで・1名1種目(リレーは除く)　100m,400m,1500mは３名まで可"]
["高男走幅跳",18,0,null,"高女走幅跳",28,0,null,null,null,null,null,null,null,"(名古屋市内の高校に在学中の生徒に限る)"]
["高男砲丸投",19,0,null,"高女砲丸投",29,0,null,null,null,null,null,null,null,"1日目　　　　　　　　　8月28日（土）"]
["高男やり投",20,0,null,"高女やり投",30,0,null,null,null,null,null,null,null,"男子　100m・4×100mR・走幅跳・砲丸投(6.000kg)"]
["中男１００ｍ",31,2,null,"中女１００ｍ",39,2,null,null,null,null,null,null,null,"女子　100m・4×100mR・走幅跳・砲丸投(４.000kg)"]
["中男４００ｍ",32,2,null,"中女２００ｍ",40,2,null,null,null,null,null,null,null,"2日目　　　　　　8月29日（日）"]
["中男１５００ｍ",33,2,null,"中女８００ｍ",41,2,null,null,null,null,null,null,null,"男子　400m・1500m・110mH(1.067m)・4×400mR・走高跳・やり投(0.800kg)"]
["中男110mH(0.914m)",34,2,null,"中女100mH(0.762mm)",42,2,null,null,null,null,null,null,null,"女子　400m・1500m・100mH(0.840m)・4×400mR・走高跳・やり投(0.600kg)"]
["中男走高跳",36,0,null,"中女走高跳",44,0,null,null,null,null,null,null,null," ☆メールでの申込先：Shisupo.moushikomi@gmail.com　"]
["中男走幅跳",37,0,null,"中女走幅跳",45,0,null,null,null,null,null,null,"中学校","１校1種目2名まで・1名1種目(リレーは除く)　100m,200m,400m,800m,1500mは３名まで可"]
["中男砲丸投",38,0,null,"中女砲丸投",46,0,null,null,null,null,null,null,null,"フィールドは2名まで　(名古屋市内の中学校に在学中の生徒に限る)"]
["小4男50m",47,2,null,"小4女50m",60,2,null,null,null,null,null,null,null,"1日目　　　　　　8月28日（土）"]
["小5男100m",48,2,null,"小5女100m",61,2,null,null,null,null,null,null,null,"男子　100m・4×100mR・走高跳"]
["小6男100m",49,2,null,"小4女1000m",62,2,null,null,null,null,null,null,null,"女子　100m・4×100mR・走高跳"]
["小4男1000m",50,2,null,"小5女1000m",63,2,null,null,null,null,null,null,null,"2日目　　　　　　8月29日（日）"]
["小5男1000m",51,2,null,"小6女1000m",64,2,null,null,null,null,null,null,null,"男子　400m・1500m・110mH(0.914m)・走幅跳・砲丸投(5.000kg)"]
["小6男1000m",52,2,null,"小6女1000m",65,2,null,null,null,null,null,null,null,"女子　400m・1500m・100mH(0.762m)・走幅跳・砲丸投(2.721kg)"]
["小4男走高跳",54,0,null,"小4女走高跳",67,0,null,null,null,null,null,null,null,"混合　4×400mR"]
["小5男走高跳",55,0,null,"小5女走高跳",68,0,null,null,null,null,null,null,null," ☆メールでの申込先：kashihara1109@nagoya-c.ed.jp"]
["小6男走高跳",56,0,null,"小6女走高跳",69,0,null,null,null,null,null,null,"小学校","4～６年生の男女　1名1日1種目(1000m、リレーは除く)　"]
["小4男走幅跳",57,0,null,"小4女走幅跳",70,0,null,null,null,null,null,null,null,"(名古屋市内の小学校に在学中の児童に限る)"]
["小5男走幅跳",58,0,null,"小5女走幅跳",71,0,null,null,null,null,null,null," ","1日目　　　　　　8月28日（土）"]
["小6男走幅跳",59,0,null,"小6女走幅跳",72,0,null,null,null,null,null,null,null,"男子　50m(4年)・100m(5年.6年)・４×100mR（学年別廃止：４～６年生でチームを作る）"]
["一男非１００ｍ",null,2,null,"一女非１００ｍ",null,2,null,null,null,null,null,null,null,"女子　50m(4年)・100m(5年.6年)・４×100mR（学年別廃止：４～６年生でチームを作る）"]
["一男非39歳以下2000m",null,2,null,"一女非39歳以下2000m",null,2,null,null,null,null,null,null,null,"2日目　　　　　　8月29日（日）"]
["一男非40歳代2000m",null,2,null,"一女非40歳代2000m",null,2,null,null,null,null,null,null,null,"男子　1000m・走高跳・走幅跳"]
["一男非50歳代2000m",null,2,null,"一女非50歳代2000m",null,2,null,null,null,null,null,null,null,"女子　1000m・走高跳・走幅跳"]
["一男非60歳代2000m",null,2,null,"一女非60歳代2000m",null,2,null,null,null,null,null,null,null," ☆メールでの申込先：nagoya.k5610018@gmail.com　"]
["一男非70歳以上2000m",null,2,null,"一女非70歳以上2000m",null,2]
["一男非走幅跳",null,0,null,"一女非走幅跳",null,0,null,null,null,null,null,null,null,"※　今年度から参加料が必要になりました。リレーも同一料金としました。"]
["一男非砲丸投(7.260kg)",null,0,null,"一女非砲丸投(4.000kg)",null,0,null,null,null,null,null,null,null," 　　　高校生以上：1種目５００円（リレー：５００円）"]
[null,null,null,null,null,null,null,null,null,null,null,null,null,null," 　　　中学生以上：1種目４００円（リレー：４００円）"]
["一男１００ｍ",1,2,null,"一女１００ｍ",6,2,null,null,null,null,null,null,null," 　　　小学生以上：1種目３００円（リレー：３００円）"]
["一男２０００ｍ",2,2,null,"一女２０００ｍ",7,2,null,null,null,null,null,null,null,"　　プログラムは1部８００円で事前予約のみで販売します。"]
["一男走幅跳",4,0,null,"一女走幅跳",9,0]
["一男砲丸投(7.260kg)",5,0,null,"一女砲丸投(4.000kg)",10,0,null,null,null,null,null,null,null,"※　参加料・プログラム購入代振込先（ゆうちょ銀行・普通預金口座）"]
["中男１００ｍ",31,2,null,"中女１００ｍ",39,2,null,null,null,null,null,null,null,"　☆ ゆうちょ銀行口座からの振込み"]
["中男４００ｍ",32,2,null,"中女２００ｍ",40,2,null,null,null,null,null,null,null,"　　   記号：12050　　番号：12823231　　口座名義：名古屋市陸上競技協会  "]
["中男１５００ｍ",33,2,null,"中女８００ｍ",41,2,null,null,null,null,null,null,null,"　☆ ゆうちょ銀行以外の金融機関からの振込み"]
["中男110mH(0.914m)",34,2,null,"中女100mH(0.762mm)",42,2,null,null,null,null,null,null,null,"　　　店名：二〇八　　店番：208"]
["中男走高跳",36,0,null,"中女走高跳",44,0,null,null,null,null,null,null,null,"              ﾆｾﾞﾛﾊﾁ"]
["中男走幅跳",37,0,null,"中女走幅跳",45,0,null,null,null,null,null,null,null,"　　　預金種目：普通預金　　口座番号：1282323　　口座名義：名古屋市陸上競技協会 "]
["中男砲丸投",38,0,null,"中女砲丸投",46,0]

{"sheet":"data_kyogisha","index":13,"n_rows":91,"n_cols":40,"rows_kept":91,"cut":false,"hidden":false,"merged":[]}
["競技者NO","所属コード1","所属コード2","ナンバー","ナンバー2","競技者名","競技者名カナ","競技者名略称","競技者名英字","国籍","性別","学年","生年","月日","個人所属地名","陸連コード","参加競技-競技コード1","参加競技-自己記録1","参加競技-オープン参加FLG1","参加競技-記録FLG1","参加競技-競技コード2","参加競技-自己記録2","参加競技-オープン参加FLG2","参加競技-記録FLG2","参加競技-競技コード3","参加競技-自己記録3","参加競技-オープン参加FLG3","参加競技-記録FLG3","参加競技-競技コード4","参加競技-自己記録4","参加競技-オープン参加FLG4","参加競技-記録FLG4","参加競技-競技コード5","参加競技-自己記録5","参加競技-オープン参加FLG5","参加競技-記録FLG5"]
[{"$f":"IF(E2=\"\",\"\",B2+10000000+E2)","v":""},{"$f":"IF(E2=\"\",\"\",①団体情報入力!$C$5)","v":""},null,{"$f":"IF(E2=\"\",\"\",IF(①団体情報入力!C10=\"\",\"\",①団体情報入力!C10))","v":""},{"$f":"IF(②選手情報入力!D11=\"\",\"\",②選手情報入力!D11)","v":""},{"$f":"IF(E2=\"\",\"\",②選手情報入力!E11)","v":""},{"$f":"IF(E2=\"\",\"\",ASC(②選手情報入力!F11))","v":""},{"$f":"IF(E2=\"\",\"\",F2)","v":""},{"$f":"IF(E2=\"\",\"\",AM2&\"　\"&AN2)","v":""},{"$f":"IF(E2=\"\",\"\",IF(②選手情報入力!I11=\"\",\"JPN\",LEFT(②選手情報入力!I11,3)))","v":""},{"$f":"IF(E2=\"\",\"\",IF(②選手情報入力!J11=\"男\",1,2))","v":""},{"$f":"IF(E2=\"\",\"\",IF(②選手情報入力!K11=\"\",\"\",②選手情報入力!K11))","v":""},{"$f":"IF(E2=\"\",\"\",LEFT(②選手情報入力!L11,4))","v":""},{"$f":"IF(E2=\"\",\"\",RIGHT(②選手情報入力!L11,4))","v":""},{"$f":"IF(E2=\"\",\"\",\"愛知\")","v":""},null,{"$f":"IF(E2=\"\",\"\",IF(②選手情報入力!M11=\"\",\"\",IF(K2=1,VLOOKUP(②選手情報入力!M11,種目情報!$A$5:$B$167,2,FALSE),VLOOKUP(②選手情報入力!M11,種目情報!$E$5:$F$142,2,FALSE))))","v":""},{"$f":"IF(E2=\"\",\"\",IF(②選手情報入力!N11=\"\",\"\",②選手情報入力!N11))","v":""},null,{"$f":"IF(E2=\"\",\"\",IF(②選手情報入力!M11=\"\",\"\",IF(K2=1,VLOOKUP(②選手情報入力!M11,種目情報!$A$5:$C$135,3,FALSE),VLOOKUP(②選手情報入力!M11,種目情報!$E$5:$G$135,3,FALSE))))","v":""},{"$f":"IF(E2=\"\",\"\",IF(②選手情報入力!P11=\"\",\"\",IF(K2=1,VLOOKUP(②選手情報入力!P11,種目情報!$A$5:$B$151,2,FALSE),VLOOKUP(②選手情報入力!P11,種目情報!$E$5:$F$135,2,FALSE))))","v":""},{"$f":"IF(E2=\"\",\"\",IF(②選手情報入力!Q11=\"\",\"\",②選手情報入力!Q11))","v":""},{"$f":"IF(E2=\"\",\"\",IF(②選手情報入力!O11=\"\",\"\",1))","v":""},{"$f":"IF(E2=\"\",\"\",IF(②選手情報入力!P11=\"\",\"\",IF(K2=1,VLOOKUP(②選手情報入力!P11,種目情報!$A$5:$C$135,3,FALSE),VLOOKUP(②選手情報入力!P11,種目情報!$E$5:$G$135,3,FALSE))))","v":""},{"$f":"IF(E2=\"\",\"\",IF(②選手情報入力!S11=\"\",\"\",IF(K2=1,VLOOKUP(②選手情報入力!S11,種目情報!$A$5:$B$151,2,FALSE),VLOOKUP(②選手情報入力!S11,種目情報!$E$5:$F$135,2,FALSE))))","v":""},{"$f":"IF(E2=\"\",\"\",IF(②選手情報入力!T11=\"\",\"\",②選手情報入力!T11))","v":""},{"$f":"IF(E2=\"\",\"\",IF(②選手情報入力!R11=\"\",\"\",1))","v":""},{"$f":"IF(E2=\"\",\"\",IF(②選手情報入力!S11=\"\",\"\",IF(K2=1,VLOOKUP(②選手情報入力!S11,種目情報!$A$5:$C$135,3,FALSE),VLOOKUP(②選手情報入力!S11,種目情報!$E$5:$G$135,3,FALSE))))","v":""},{"$f":"IF(E2=\"\",\"\",IF(②選手情報入力!U11=\"\",\"\",IF(K2=1,種目情報!$J$4,種目情報!$J$6)))","v":""},{"$f":"IF(E2=\"\",\"\",IF(②選手情報入力!U11=\"\",\"\",IF(K2=1,IF(②選手情報入力!$V$7=\"\",\"\",②選手情報入力!$V$7),IF(②選手情報入力!$V$8=\"\",\"\",②選手情報入力!$V$8))))","v":""},{"$f":"IF(E2=\"\",\"\",IF(②選手情報入力!U11=\"\",\"\",IF(K2=1,IF(②選手情報入力!$U$7=\"\",0,1),IF(②選手情報入力!$U$8=\"\",0,1))))","v":""},{"$f":"IF(E2=\"\",\"\",IF(②選手情報入力!U11=\"\",\"\",2))","v":""},{"$f":"IF(E2=\"\",\"\",IF(②選手情報入力!W11=\"\",\"\",IF(K2=1,種目情報!$J$5,種目情報!$J$7)))","v":""},{"$f":"IF(E2=\"\",\"\",IF(②選手情報入力!W11=\"\",\"\",IF(K2=1,IF(②選手情報入力!$X$7=\"\",\"\",②選手情報入力!$X$7),IF(②選手情報入力!$X$8=\"\",\"\",②選手情報入力!$X$8))))","v":""},{"$f":"IF(E2=\"\",\"\",IF(②選手情報入力!W11=\"\",\"\",IF(K2=1,IF(②選手情報入力!$W$7=\"\",0,1),IF(②選手情報入力!$W$8=\"\",0,1))))","v":""},{"$f":"IF(E2=\"\",\"\",IF(②選手情報入力!W11=\"\",\"\",2))","v":""},null,null,{"$f":"IF(②選手情報入力!G11=\"\",\"\",ASC(②選手情報入力!G11))","v":""},{"$f":"IF(②選手情報入力!G11=\"\",\"\",ASC(②選手情報入力!H11))","v":""}]
[{"$f":"IF(E3=\"\",\"\",B3+10000000+E3)","v":""},{"$f":"IF(E3=\"\",\"\",①団体情報入力!$C$5)","v":""},null,{"$f":"IF(E3=\"\",\"\",IF(①団体情報入力!C11=\"\",\"\",①団体情報入力!C11))","v":""},{"$f":"IF(②選手情報入力!D12=\"\",\"\",②選手情報入力!D12)","v":""},{"$f":"IF(E3=\"\",\"\",②選手情報入力!E12)","v":""},{"$f":"IF(E3=\"\",\"\",ASC(②選手情報入力!F12))","v":""},{"$f":"IF(E3=\"\",\"\",F3)","v":""},{"$f":"IF(E3=\"\",\"\",AM3&\"　\"&AN3)","v":""},{"$f":"IF(E3=\"\",\"\",IF(②選手情報入力!I12=\"\",\"JPN\",LEFT(②選手情報入力!I12,3)))","v":""},{"$f":"IF(E3=\"\",\"\",IF(②選手情報入力!J12=\"男\",1,2))","v":""},{"$f":"IF(E3=\"\",\"\",IF(②選手情報入力!K12=\"\",\"\",②選手情報入力!K12))","v":""},{"$f":"IF(E3=\"\",\"\",LEFT(②選手情報入力!L12,4))","v":""},{"$f":"IF(E3=\"\",\"\",RIGHT(②選手情報入力!L12,4))","v":""},{"$f":"IF(E3=\"\",\"\",\"愛知\")","v":""},null,{"$f":"IF(E3=\"\",\"\",IF(②選手情報入力!M12=\"\",\"\",IF(K3=1,VLOOKUP(②選手情報入力!M12,種目情報!$A$5:$B$167,2,FALSE),VLOOKUP(②選手情報入力!M12,種目情報!$E$5:$F$142,2,FALSE))))","v":""},{"$f":"IF(E3=\"\",\"\",IF(②選手情報入力!N12=\"\",\"\",②選手情報入力!N12))","v":""},null,{"$f":"IF(E3=\"\",\"\",IF(②選手情報入力!M12=\"\",\"\",IF(K3=1,VLOOKUP(②選手情報入力!M12,種目情報!$A$5:$C$135,3,FALSE),VLOOKUP(②選手情報入力!M12,種目情報!$E$5:$G$135,3,FALSE))))","v":""},{"$f":"IF(E3=\"\",\"\",IF(②選手情報入力!P12=\"\",\"\",IF(K3=1,VLOOKUP(②選手情報入力!P12,種目情報!$A$5:$B$151,2,FALSE),VLOOKUP(②選手情報入力!P12,種目情報!$E$5:$F$135,2,FALSE))))","v":""},{"$f":"IF(E3=\"\",\"\",IF(②選手情報入力!Q12=\"\",\"\",②選手情報入力!Q12))","v":""},{"$f":"IF(E3=\"\",\"\",IF(②選手情報入力!O12=\"\",\"\",1))","v":""},{"$f":"IF(E3=\"\",\"\",IF(②選手情報入力!P12=\"\",\"\",IF(K3=1,VLOOKUP(②選手情報入力!P12,種目情報!$A$5:$C$135,3,FALSE),VLOOKUP(②選手情報入力!P12,種目情報!$E$5:$G$135,3,FALSE))))","v":""},{"$f":"IF(E3=\"\",\"\",IF(②選手情報入力!S12=\"\",\"\",IF(K3=1,VLOOKUP(②選手情報入力!S12,種目情報!$A$5:$B$151,2,FALSE),VLOOKUP(②選手情報入力!S12,種目情報!$E$5:$F$135,2,FALSE))))","v":""},{"$f":"IF(E3=\"\",\"\",IF(②選手情報入力!T12=\"\",\"\",②選手情報入力!T12))","v":""},{"$f":"IF(E3=\"\",\"\",IF(②選手情報入力!R12=\"\",\"\",1))","v":""},{"$f":"IF(E3=\"\",\"\",IF(②選手情報入力!S12=\"\",\"\",IF(K3=1,VLOOKUP(②選手情報入力!S12,種目情報!$A$5:$C$135,3,FALSE),VLOOKUP(②選手情報入力!S12,種目情報!$E$5:$G$135,3,FALSE))))","v":""},{"$f":"IF(E3=\"\",\"\",IF(②選手情報入力!U12=\"\",\"\",IF(K3=1,種目情報!$J$4,種目情報!$J$6)))","v":""},{"$f":"IF(E3=\"\",\"\",IF(②選手情報入力!U12=\"\",\"\",IF(K3=1,IF(②選手情報入力!$V$7=\"\",\"\",②選手情報入力!$V$7),IF(②選手情報入力!$V$8=\"\",\"\",②選手情報入力!$V$8))))","v":""},{"$f":"IF(E3=\"\",\"\",IF(②選手情報入力!U12=\"\",\"\",IF(K3=1,IF(②選手情報入力!$U$7=\"\",0,1),IF(②選手情報入力!$U$8=\"\",0,1))))","v":""},{"$f":"IF(E3=\"\",\"\",IF(②選手情報入力!U12=\"\",\"\",2))","v":""},{"$f":"IF(E3=\"\",\"\",IF(②選手情報入力!W12=\"\",\"\",IF(K3=1,種目情報!$J$5,種目情報!$J$7)))","v":""},{"$f":"IF(E3=\"\",\"\",IF(②選手情報入力!W12=\"\",\"\",IF(K3=1,IF(②選手情報入力!$X$7=\"\",\"\",②選手情報入力!$X$7),IF(②選手情報入力!$X$8=\"\",\"\",②選手情報入力!$X$8))))","v":""},{"$f":"IF(E3=\"\",\"\",IF(②選手情報入力!W12=\"\",\"\",IF(K3=1,IF(②選手情報入力!$W$7=\"\",0,1),IF(②選手情報入力!$W$8=\"\",0,1))))","v":""},{"$f":"IF(E3=\"\",\"\",IF(②選手情報入力!W12=\"\",\"\",2))","v":""},null,null,{"$f":"IF(②選手情報入力!G12=\"\",\"\",ASC(②選手情報入力!G12))","v":""},{"$f":"IF(②選手情報入力!G12=\"\",\"\",ASC(②選手情報入力!H12))","v":""}]
["",{"$f":"IF(E4=\"\",\"\",①団体情報入力!$C$5)","v":""},null,{"$f":"IF(E4=\"\",\"\",IF(①団体情報入力!#REF!=\"\",\"\",①団体情報入力!#REF!))","v":""},{"$f":"IF(②選手情報入力!D13=\"\",\"\",②選手情報入力!D13)","v":""},{"$f":"IF(E4=\"\",\"\",②選手情報入力!E13)","v":""},{"$f":"IF(E4=\"\",\"\",ASC(②選手情報入力!F13))","v":""},"","",{"$f":"IF(E4=\"\",\"\",IF(②選手情報入力!I13=\"\",\"JPN\",LEFT(②選手情報入力!I13,3)))","v":""},{"$f":"IF(E4=\"\",\"\",IF(②選手情報入力!J13=\"男\",1,2))","v":""},{"$f":"IF(E4=\"\",\"\",IF(②選手情報入力!K13=\"\",\"\",②選手情報入力!K13))","v":""},{"$f":"IF(E4=\"\",\"\",LEFT(②選手情報入力!L13,4))","v":""},{"$f":"IF(E4=\"\",\"\",RIGHT(②選手情報入力!L13,4))","v":""},"",null,{"$f":"IF(E4=\"\",\"\",IF(②選手情報入力!M13=\"\",\"\",IF(K4=1,VLOOKUP(②選手情報入力!M13,種目情報!$A$5:$B$167,2,FALSE),VLOOKUP(②選手情報入力!M13,種目情報!$E$5:$F$142,2,FALSE))))","v":""},{"$f":"IF(E4=\"\",\"\",IF(②選手情報入力!N13=\"\",\"\",②選手情報入力!N13))","v":""},null,{"$f":"IF(E4=\"\",\"\",IF(②選手情報入力!M13=\"\",\"\",IF(K4=1,VLOOKUP(②選手情報入力!M13,種目情報!$A$5:$C$135,3,FALSE),VLOOKUP(②選手情報入力!M13,種目情報!$E$5:$G$135,3,FALSE))))","v":""},{"$f":"IF(E4=\"\",\"\",IF(②選手情報入力!P13=\"\",\"\",IF(K4=1,VLOOKUP(②選手情報入力!P13,種目情報!$A$5:$B$151,2,FALSE),VLOOKUP(②選手情報入力!P13,種目情報!$E$5:$F$135,2,FALSE))))","v":""},{"$f":"IF(E4=\"\",\"\",IF(②選手情報入力!Q13=\"\",\"\",②選手情報入力!Q13))","v":""},{"$f":"IF(E4=\"\",\"\",IF(②選手情報入力!O13=\"\",\"\",1))","v":""},{"$f":"IF(E4=\"\",\"\",IF(②選手情報入力!P13=\"\",\"\",IF(K4=1,VLOOKUP(②選手情報入力!P13,種目情報!$A$5:$C$135,3,FALSE),VLOOKUP(②選手情報入力!P13,種目情報!$E$5:$G$135,3,FALSE))))","v":""},{"$f":"IF(E4=\"\",\"\",IF(②選手情報入力!S13=\"\",\"\",IF(K4=1,VLOOKUP(②選手情報入力!S13,種目情報!$A$5:$B$151,2,FALSE),VLOOKUP(②選手情報入力!S13,種目情報!$E$5:$F$135,2,FALSE))))","v":""},{"$f":"IF(E4=\"\",\"\",IF(②選手情報入力!T13=\"\",\"\",②選手情報入力!T13))","v":""},{"$f":"IF(E4=\"\",\"\",IF(②選手情報入力!R13=\"\",\"\",1))","v":""},{"$f":"IF(E4=\"\",\"\",IF(②選手情報入力!S13=\"\",\"\",IF(K4=1,VLOOKUP(②選手情報入力!S13,種目情報!$A$5:$C$135,3,FALSE),VLOOKUP(②選手情報入力!S13,種目情報!$E$5:$G$135,3,FALSE))))","v":""},{"$f":"IF(E4=\"\",\"\",IF(②選手情報入力!U13=\"\",\"\",IF(K4=1,種目情報!$J$4,種目情報!$J$6)))","v":""},{"$f":"IF(E4=\"\",\"\",IF(②選手情報入力!U13=\"\",\"\",IF(K4=1,IF(②選手情報入力!$V$7=\"\",\"\",②選手情報入力!$V$7),IF(②選手情報入力!$V$8=\"\",\"\",②選手情報入力!$V$8))))","v":""},{"$f":"IF(E4=\"\",\"\",IF(②選手情報入力!U13=\"\",\"\",IF(K4=1,IF(②選手情報入力!$U$7=\"\",0,1),IF(②選手情報入力!$U$8=\"\",0,1))))","v":""},{"$f":"IF(E4=\"\",\"\",IF(②選手情報入力!U13=\"\",\"\",2))","v":""},{"$f":"IF(E4=\"\",\"\",IF(②選手情報入力!W13=\"\",\"\",IF(K4=1,種目情報!$J$5,種目情報!$J$7)))","v":""},{"$f":"IF(E4=\"\",\"\",IF(②選手情報入力!W13=\"\",\"\",IF(K4=1,IF(②選手情報入力!$X$7=\"\",\"\",②選手情報入力!$X$7),IF(②選手情報入力!$X$8=\"\",\"\",②選手情報入力!$X$8))))","v":""},{"$f":"IF(E4=\"\",\"\",IF(②選手情報入力!W13=\"\",\"\",IF(K4=1,IF(②選手情報入力!$W$7=\"\",0,1),IF(②選手情報入力!$W$8=\"\",0,1))))","v":""},{"$f":"IF(E4=\"\",\"\",IF(②選手情報入力!W13=\"\",\"\",2))","v":""},null,null,{"$f":"IF(②選手情報入力!G13=\"\",\"\",ASC(②選手情報入力!G13))","v":""},{"$f":"IF(②選手情報入力!G13=\"\",\"\",ASC(②選手情報入力!H13))","v":""}]
["",{"$f":"IF(E5=\"\",\"\",①団体情報入力!$C$5)","v":""},null,{"$f":"IF(E5=\"\",\"\",IF(①団体情報入力!#REF!=\"\",\"\",①団体情報入力!#REF!))","v":""},{"$f":"IF(②選手情報入力!D14=\"\",\"\",②選手情報入力!D14)","v":""},{"$f":"IF(E5=\"\",\"\",②選手情報入力!E14)","v":""},{"$f":"IF(E5=\"\",\"\",ASC(②選手情報入力!F14))","v":""},"","",{"$f":"IF(E5=\"\",\"\",IF(②選手情報入力!I14=\"\",\"JPN\",LEFT(②選手情報入力!I14,3)))","v":""},{"$f":"IF(E5=\"\",\"\",IF(②選手情報入力!J14=\"男\",1,2))","v":""},{"$f":"IF(E5=\"\",\"\",IF(②選手情報入力!K14=\"\",\"\",②選手情報入力!K14))","v":""},{"$f":"IF(E5=\"\",\"\",LEFT(②選手情報入力!L14,4))","v":""},{"$f":"IF(E5=\"\",\"\",RIGHT(②選手情報入力!L14,4))","v":""},"",null,{"$f":"IF(E5=\"\",\"\",IF(②選手情報入力!M14=\"\",\"\",IF(K5=1,VLOOKUP(②選手情報入力!M14,種目情報!$A$5:$B$167,2,FALSE),VLOOKUP(②選手情報入力!M14,種目情報!$E$5:$F$142,2,FALSE))))","v":""},{"$f":"IF(E5=\"\",\"\",IF(②選手情報入力!N14=\"\",\"\",②選手情報入力!N14))","v":""},null,{"$f":"IF(E5=\"\",\"\",IF(②選手情報入力!M14=\"\",\"\",IF(K5=1,VLOOKUP(②選手情報入力!M14,種目情報!$A$5:$C$135,3,FALSE),VLOOKUP(②選手情報入力!M14,種目情報!$E$5:$G$135,3,FALSE))))","v":""},{"$f":"IF(E5=\"\",\"\",IF(②選手情報入力!P14=\"\",\"\",IF(K5=1,VLOOKUP(②選手情報入力!P14,種目情報!$A$5:$B$151,2,FALSE),VLOOKUP(②選手情報入力!P14,種目情報!$E$5:$F$135,2,FALSE))))","v":""},{"$f":"IF(E5=\"\",\"\",IF(②選手情報入力!Q14=\"\",\"\",②選手情報入力!Q14))","v":""},{"$f":"IF(E5=\"\",\"\",IF(②選手情報入力!O14=\"\",\"\",1))","v":""},{"$f":"IF(E5=\"\",\"\",IF(②選手情報入力!P14=\"\",\"\",IF(K5=1,VLOOKUP(②選手情報入力!P14,種目情報!$A$5:$C$135,3,FALSE),VLOOKUP(②選手情報入力!P14,種目情報!$E$5:$G$135,3,FALSE))))","v":""},{"$f":"IF(E5=\"\",\"\",IF(②選手情報入力!S14=\"\",\"\",IF(K5=1,VLOOKUP(②選手情報入力!S14,種目情報!$A$5:$B$151,2,FALSE),VLOOKUP(②選手情報入力!S14,種目情報!$E$5:$F$135,2,FALSE))))","v":""},{"$f":"IF(E5=\"\",\"\",IF(②選手情報入力!T14=\"\",\"\",②選手情報入力!T14))","v":""},{"$f":"IF(E5=\"\",\"\",IF(②選手情報入力!R14=\"\",\"\",1))","v":""},{"$f":"IF(E5=\"\",\"\",IF(②選手情報入力!S14=\"\",\"\",IF(K5=1,VLOOKUP(②選手情報入力!S14,種目情報!$A$5:$C$135,3,FALSE),VLOOKUP(②選手情報入力!S14,種目情報!$E$5:$G$135,3,FALSE))))","v":""},{"$f":"IF(E5=\"\",\"\",IF(②選手情報入力!U14=\"\",\"\",IF(K5=1,種目情報!$J$4,種目情報!$J$6)))","v":""},{"$f":"IF(E5=\"\",\"\",IF(②選手情報入力!U14=\"\",\"\",IF(K5=1,IF(②選手情報入力!$V$7=\"\",\"\",②選手情報入力!$V$7),IF(②選手情報入力!$V$8=\"\",\"\",②選手情報入力!$V$8))))","v":""},{"$f":"IF(E5=\"\",\"\",IF(②選手情報入力!U14=\"\",\"\",IF(K5=1,IF(②選手情報入力!$U$7=\"\",0,1),IF(②選手情報入力!$U$8=\"\",0,1))))","v":""},{"$f":"IF(E5=\"\",\"\",IF(②選手情報入力!U14=\"\",\"\",2))","v":""},{"$f":"IF(E5=\"\",\"\",IF(②選手情報入力!W14=\"\",\"\",IF(K5=1,種目情報!$J$5,種目情報!$J$7)))","v":""},{"$f":"IF(E5=\"\",\"\",IF(②選手情報入力!W14=\"\",\"\",IF(K5=1,IF(②選手情報入力!$X$7=\"\",\"\",②選手情報入力!$X$7),IF(②選手情報入力!$X$8=\"\",\"\",②選手情報入力!$X$8))))","v":""},{"$f":"IF(E5=\"\",\"\",IF(②選手情報入力!W14=\"\",\"\",IF(K5=1,IF(②選手情報入力!$W$7=\"\",0,1),IF(②選手情報入力!$W$8=\"\",0,1))))","v":""},{"$f":"IF(E5=\"\",\"\",IF(②選手情報入力!W14=\"\",\"\",2))","v":""},null,null,{"$f":"IF(②選手情報入力!G14=\"\",\"\",ASC(②選手情報入力!G14))","v":""},{"$f":"IF(②選手情報入力!G14=\"\",\"\",ASC(②選手情報入力!H14))","v":""}]
["",{"$f":"IF(E6=\"\",\"\",①団体情報入力!$C$5)","v":""},null,{"$f":"IF(E6=\"\",\"\",IF(①団体情報入力!#REF!=\"\",\"\",①団体情報入力!#REF!))","v":""},{"$f":"IF(②選手情報入力!D15=\"\",\"\",②選手情報入力!D15)","v":""},{"$f":"IF(E6=\"\",\"\",②選手情報入力!E15)","v":""},{"$f":"IF(E6=\"\",\"\",ASC(②選手情報入力!F15))","v":""},"","",{"$f":"IF(E6=\"\",\"\",IF(②選手情報入力!I15=\"\",\"JPN\",LEFT(②選手情報入力!I15,3)))","v":""},{"$f":"IF(E6=\"\",\"\",IF(②選手情報入力!J15=\"男\",1,2))","v":""},{"$f":"IF(E6=\"\",\"\",IF(②選手情報入力!K15=\"\",\"\",②選手情報入力!K15))","v":""},{"$f":"IF(E6=\"\",\"\",LEFT(②選手情報入力!L15,4))","v":""},{"$f":"IF(E6=\"\",\"\",RIGHT(②選手情報入力!L15,4))","v":""},"",null,{"$f":"IF(E6=\"\",\"\",IF(②選手情報入力!M15=\"\",\"\",IF(K6=1,VLOOKUP(②選手情報入力!M15,種目情報!$A$5:$B$167,2,FALSE),VLOOKUP(②選手情報入力!M15,種目情報!$E$5:$F$142,2,FALSE))))","v":""},{"$f":"IF(E6=\"\",\"\",IF(②選手情報入力!N15=\"\",\"\",②選手情報入力!N15))","v":""},null,{"$f":"IF(E6=\"\",\"\",IF(②選手情報入力!M15=\"\",\"\",IF(K6=1,VLOOKUP(②選手情報入力!M15,種目情報!$A$5:$C$135,3,FALSE),VLOOKUP(②選手情報入力!M15,種目情報!$E$5:$G$135,3,FALSE))))","v":""},{"$f":"IF(E6=\"\",\"\",IF(②選手情報入力!P15=\"\",\"\",IF(K6=1,VLOOKUP(②選手情報入力!P15,種目情報!$A$5:$B$151,2,FALSE),VLOOKUP(②選手情報入力!P15,種目情報!$E$5:$F$135,2,FALSE))))","v":""},{"$f":"IF(E6=\"\",\"\",IF(②選手情報入力!Q15=\"\",\"\",②選手情報入力!Q15))","v":""},{"$f":"IF(E6=\"\",\"\",IF(②選手情報入力!O15=\"\",\"\",1))","v":""},{"$f":"IF(E6=\"\",\"\",IF(②選手情報入力!P15=\"\",\"\",IF(K6=1,VLOOKUP(②選手情報入力!P15,種目情報!$A$5:$C$135,3,FALSE),VLOOKUP(②選手情報入力!P15,種目情報!$E$5:$G$135,3,FALSE))))","v":""},{"$f":"IF(E6=\"\",\"\",IF(②選手情報入力!S15=\"\",\"\",IF(K6=1,VLOOKUP(②選手情報入力!S15,種目情報!$A$5:$B$151,2,FALSE),VLOOKUP(②選手情報入力!S15,種目情報!$E$5:$F$135,2,FALSE))))","v":""},{"$f":"IF(E6=\"\",\"\",IF(②選手情報入力!T15=\"\",\"\",②選手情報入力!T15))","v":""},{"$f":"IF(E6=\"\",\"\",IF(②選手情報入力!R15=\"\",\"\",1))","v":""},{"$f":"IF(E6=\"\",\"\",IF(②選手情報入力!S15=\"\",\"\",IF(K6=1,VLOOKUP(②選手情報入力!S15,種目情報!$A$5:$C$135,3,FALSE),VLOOKUP(②選手情報入力!S15,種目情報!$E$5:$G$135,3,FALSE))))","v":""},{"$f":"IF(E6=\"\",\"\",IF(②選手情報入力!U15=\"\",\"\",IF(K6=1,種目情報!$J$4,種目情報!$J$6)))","v":""},{"$f":"IF(E6=\"\",\"\",IF(②選手情報入力!U15=\"\",\"\",IF(K6=1,IF(②選手情報入力!$V$7=\"\",\"\",②選手情報入力!$V$7),IF(②選手情報入力!$V$8=\"\",\"\",②選手情報入力!$V$8))))","v":""},{"$f":"IF(E6=\"\",\"\",IF(②選手情報入力!U15=\"\",\"\",IF(K6=1,IF(②選手情報入力!$U$7=\"\",0,1),IF(②選手情報入力!$U$8=\"\",0,1))))","v":""},{"$f":"IF(E6=\"\",\"\",IF(②選手情報入力!U15=\"\",\"\",2))","v":""},{"$f":"IF(E6=\"\",\"\",IF(②選手情報入力!W15=\"\",\"\",IF(K6=1,種目情報!$J$5,種目情報!$J$7)))","v":""},{"$f":"IF(E6=\"\",\"\",IF(②選手情報入力!W15=\"\",\"\",IF(K6=1,IF(②選手情報入力!$X$7=\"\",\"\",②選手情報入力!$X$7),IF(②選手情報入力!$X$8=\"\",\"\",②選手情報入力!$X$8))))","v":""},{"$f":"IF(E6=\"\",\"\",IF(②選手情報入力!W15=\"\",\"\",IF(K6=1,IF(②選手情報入力!$W$7=\"\",0,1),IF(②選手情報入力!$W$8=\"\",0,1))))","v":""},{"$f":"IF(E6=\"\",\"\",IF(②選手情報入力!W15=\"\",\"\",2))","v":""},null,null,{"$f":"IF(②選手情報入力!G15=\"\",\"\",ASC(②選手情報入力!G15))","v":""},{"$f":"IF(②選手情報入力!G15=\"\",\"\",ASC(②選手情報入力!H15))","v":""}]
["",{"$f":"IF(E7=\"\",\"\",①団体情報入力!$C$5)","v":""},null,{"$f":"IF(E7=\"\",\"\",IF(①団体情報入力!C12=\"\",\"\",①団体情報入力!C12))","v":""},{"$f":"IF(②選手情報入力!D16=\"\",\"\",②選手情報入力!D16)","v":""},{"$f":"IF(E7=\"\",\"\",②選手情報入力!E16)","v":""},{"$f":"IF(E7=\"\",\"\",ASC(②選手情報入力!F16))","v":""},"","",{"$f":"IF(E7=\"\",\"\",IF(②選手情報入力!I16=\"\",\"JPN\",LEFT(②選手情報入力!I16,3)))","v":""},{"$f":"IF(E7=\"\",\"\",IF(②選手情報入力!J16=\"男\",1,2))","v":""},{"$f":"IF(E7=\"\",\"\",IF(②選手情報入力!K16=\"\",\"\",②選手情報入力!K16))","v":""},{"$f":"IF(E7=\"\",\"\",LEFT(②選手情報入力!L16,4))","v":""},{"$f":"IF(E7=\"\",\"\",RIGHT(②選手情報入力!L16,4))","v":""},"",null,{"$f":"IF(E7=\"\",\"\",IF(②選手情報入力!M16=\"\",\"\",IF(K7=1,VLOOKUP(②選手情報入力!M16,種目情報!$A$5:$B$167,2,FALSE),VLOOKUP(②選手情報入力!M16,種目情報!$E$5:$F$142,2,FALSE))))","v":""},{"$f":"IF(E7=\"\",\"\",IF(②選手情報入力!N16=\"\",\"\",②選手情報入力!N16))","v":""},null,{"$f":"IF(E7=\"\",\"\",IF(②選手情報入力!M16=\"\",\"\",IF(K7=1,VLOOKUP(②選手情報入力!M16,種目情報!$A$5:$C$135,3,FALSE),VLOOKUP(②選手情報入力!M16,種目情報!$E$5:$G$135,3,FALSE))))","v":""},{"$f":"IF(E7=\"\",\"\",IF(②選手情報入力!P16=\"\",\"\",IF(K7=1,VLOOKUP(②選手情報入力!P16,種目情報!$A$5:$B$151,2,FALSE),VLOOKUP(②選手情報入力!P16,種目情報!$E$5:$F$135,2,FALSE))))","v":""},{"$f":"IF(E7=\"\",\"\",IF(②選手情報入力!Q16=\"\",\"\",②選手情報入力!Q16))","v":""},{"$f":"IF(E7=\"\",\"\",IF(②選手情報入力!O16=\"\",\"\",1))","v":""},{"$f":"IF(E7=\"\",\"\",IF(②選手情報入力!P16=\"\",\"\",IF(K7=1,VLOOKUP(②選手情報入力!P16,種目情報!$A$5:$C$135,3,FALSE),VLOOKUP(②選手情報入力!P16,種目情報!$E$5:$G$135,3,FALSE))))","v":""},{"$f":"IF(E7=\"\",\"\",IF(②選手情報入力!S16=\"\",\"\",IF(K7=1,VLOOKUP(②選手情報入力!S16,種目情報!$A$5:$B$151,2,FALSE),VLOOKUP(②選手情報入力!S16,種目情報!$E$5:$F$135,2,FALSE))))","v":""},{"$f":"IF(E7=\"\",\"\",IF(②選手情報入力!T16=\"\",\"\",②選手情報入力!T16))","v":""},{"$f":"IF(E7=\"\",\"\",IF(②選手情報入力!R16=\"\",\"\",1))","v":""},{"$f":"IF(E7=\"\",\"\",IF(②選手情報入力!S16=\"\",\"\",IF(K7=1,VLOOKUP(②選手情報入力!S16,種目情報!$A$5:$C$135,3,FALSE),VLOOKUP(②選手情報入力!S16,種目情報!$E$5:$G$135,3,FALSE))))","v":""},{"$f":"IF(E7=\"\",\"\",IF(②選手情報入力!U16=\"\",\"\",IF(K7=1,種目情報!$J$4,種目情報!$J$6)))","v":""},{"$f":"IF(E7=\"\",\"\",IF(②選手情報入力!U16=\"\",\"\",IF(K7=1,IF(②選手情報入力!$V$7=\"\",\"\",②選手情報入力!$V$7),IF(②選手情報入力!$V$8=\"\",\"\",②選手情報入力!$V$8))))","v":""},{"$f":"IF(E7=\"\",\"\",IF(②選手情報入力!U16=\"\",\"\",IF(K7=1,IF(②選手情報入力!$U$7=\"\",0,1),IF(②選手情報入力!$U$8=\"\",0,1))))","v":""},{"$f":"IF(E7=\"\",\"\",IF(②選手情報入力!U16=\"\",\"\",2))","v":""},{"$f":"IF(E7=\"\",\"\",IF(②選手情報入力!W16=\"\",\"\",IF(K7=1,種目情報!$J$5,種目情報!$J$7)))","v":""},{"$f":"IF(E7=\"\",\"\",IF(②選手情報入力!W16=\"\",\"\",IF(K7=1,IF(②選手情報入力!$X$7=\"\",\"\",②選手情報入力!$X$7),IF(②選手情報入力!$X$8=\"\",\"\",②選手情報入力!$X$8))))","v":""},{"$f":"IF(E7=\"\",\"\",IF(②選手情報入力!W16=\"\",\"\",IF(K7=1,IF(②選手情報入力!$W$7=\"\",0,1),IF(②選手情報入力!$W$8=\"\",0,1))))","v":""},{"$f":"IF(E7=\"\",\"\",IF(②選手情報入力!W16=\"\",\"\",2))","v":""},null,null,{"$f":"IF(②選手情報入力!G16=\"\",\"\",ASC(②選手情報入力!G16))","v":""},{"$f":"IF(②選手情報入力!G16=\"\",\"\",ASC(②選手情報入力!H16))","v":""}]
["",{"$f":"IF(E8=\"\",\"\",①団体情報入力!$C$5)","v":""},null,{"$f":"IF(E8=\"\",\"\",IF(①団体情報入力!C13=\"\",\"\",①団体情報入力!C13))","v":""},{"$f":"IF(②選手情報入力!D17=\"\",\"\",②選手情報入力!D17)","v":""},{"$f":"IF(E8=\"\",\"\",②選手情報入力!E17)","v":""},{"$f":"IF(E8=\"\",\"\",ASC(②選手情報入力!F17))","v":""},"","",{"$f":"IF(E8=\"\",\"\",IF(②選手情報入力!I17=\"\",\"JPN\",LEFT(②選手情報入力!I17,3)))","v":""},{"$f":"IF(E8=\"\",\"\",IF(②選手情報入力!J17=\"男\",1,2))","v":""},{"$f":"IF(E8=\"\",\"\",IF(②選手情報入力!K17=\"\",\"\",②選手情報入力!K17))","v":""},{"$f":"IF(E8=\"\",\"\",LEFT(②選手情報入力!L17,4))","v":""},{"$f":"IF(E8=\"\",\"\",RIGHT(②選手情報入力!L17,4))","v":""},"",null,{"$f":"IF(E8=\"\",\"\",IF(②選手情報入力!M17=\"\",\"\",IF(K8=1,VLOOKUP(②選手情報入力!M17,種目情報!$A$5:$B$167,2,FALSE),VLOOKUP(②選手情報入力!M17,種目情報!$E$5:$F$142,2,FALSE))))","v":""},{"$f":"IF(E8=\"\",\"\",IF(②選手情報入力!N17=\"\",\"\",②選手情報入力!N17))","v":""},null,{"$f":"IF(E8=\"\",\"\",IF(②選手情報入力!M17=\"\",\"\",IF(K8=1,VLOOKUP(②選手情報入力!M17,種目情報!$A$5:$C$135,3,FALSE),VLOOKUP(②選手情報入力!M17,種目情報!$E$5:$G$135,3,FALSE))))","v":""},{"$f":"IF(E8=\"\",\"\",IF(②選手情報入力!P17=\"\",\"\",IF(K8=1,VLOOKUP(②選手情報入力!P17,種目情報!$A$5:$B$151,2,FALSE),VLOOKUP(②選手情報入力!P17,種目情報!$E$5:$F$135,2,FALSE))))","v":""},{"$f":"IF(E8=\"\",\"\",IF(②選手情報入力!Q17=\"\",\"\",②選手情報入力!Q17))","v":""},{"$f":"IF(E8=\"\",\"\",IF(②選手情報入力!O17=\"\",\"\",1))","v":""},{"$f":"IF(E8=\"\",\"\",IF(②選手情報入力!P17=\"\",\"\",IF(K8=1,VLOOKUP(②選手情報入力!P17,種目情報!$A$5:$C$135,3,FALSE),VLOOKUP(②選手情報入力!P17,種目情報!$E$5:$G$135,3,FALSE))))","v":""},{"$f":"IF(E8=\"\",\"\",IF(②選手情報入力!S17=\"\",\"\",IF(K8=1,VLOOKUP(②選手情報入力!S17,種目情報!$A$5:$B$151,2,FALSE),VLOOKUP(②選手情報入力!S17,種目情報!$E$5:$F$135,2,FALSE))))","v":""},{"$f":"IF(E8=\"\",\"\",IF(②選手情報入力!T17=\"\",\"\",②選手情報入力!T17))","v":""},{"$f":"IF(E8=\"\",\"\",IF(②選手情報入力!R17=\"\",\"\",1))","v":""},{"$f":"IF(E8=\"\",\"\",IF(②選手情報入力!S17=\"\",\"\",IF(K8=1,VLOOKUP(②選手情報入力!S17,種目情報!$A$5:$C$135,3,FALSE),VLOOKUP(②選手情報入力!S17,種目情報!$E$5:$G$135,3,FALSE))))","v":""},{"$f":"IF(E8=\"\",\"\",IF(②選手情報入力!U17=\"\",\"\",IF(K8=1,種目情報!$J$4,種目情報!$J$6)))","v":""},{"$f":"IF(E8=\"\",\"\",IF(②選手情報入力!U17=\"\",\"\",IF(K8=1,IF(②選手情報入力!$V$7=\"\",\"\",②選手情報入力!$V$7),IF(②選手情報入力!$V$8=\"\",\"\",②選手情報入力!$V$8))))","v":""},{"$f":"IF(E8=\"\",\"\",IF(②選手情報入力!U17=\"\",\"\",IF(K8=1,IF(②選手情報入力!$U$7=\"\",0,1),IF(②選手情報入力!$U$8=\"\",0,1))))","v":""},{"$f":"IF(E8=\"\",\"\",IF(②選手情報入力!U17=\"\",\"\",2))","v":""},{"$f":"IF(E8=\"\",\"\",IF(②選手情報入力!W17=\"\",\"\",IF(K8=1,種目情報!$J$5,種目情報!$J$7)))","v":""},{"$f":"IF(E8=\"\",\"\",IF(②選手情報入力!W17=\"\",\"\",IF(K8=1,IF(②選手情報入力!$X$7=\"\",\"\",②選手情報入力!$X$7),IF(②選手情報入力!$X$8=\"\",\"\",②選手情報入力!$X$8))))","v":""},{"$f":"IF(E8=\"\",\"\",IF(②選手情報入力!W17=\"\",\"\",IF(K8=1,IF(②選手情報入力!$W$7=\"\",0,1),IF(②選手情報入力!$W$8=\"\",0,1))))","v":""},{"$f":"IF(E8=\"\",\"\",IF(②選手情報入力!W17=\"\",\"\",2))","v":""},null,null,{"$f":"IF(②選手情報入力!G17=\"\",\"\",ASC(②選手情報入力!G17))","v":""},{"$f":"IF(②選手情報入力!G17=\"\",\"\",ASC(②選手情報入力!H17))","v":""}]
["",{"$f":"IF(E9=\"\",\"\",①団体情報入力!$C$5)","v":""},null,{"$f":"IF(E9=\"\",\"\",IF(①団体情報入力!C14=\"\",\"\",①団体情報入力!C14))","v":""},{"$f":"IF(②選手情報入力!D18=\"\",\"\",②選手情報入力!D18)","v":""},{"$f":"IF(E9=\"\",\"\",②選手情報入力!E18)","v":""},{"$f":"IF(E9=\"\",\"\",ASC(②選手情報入力!F18))","v":""},"","",{"$f":"IF(E9=\"\",\"\",IF(②選手情報入力!I18=\"\",\"JPN\",LEFT(②選手情報入力!I18,3)))","v":""},{"$f":"IF(E9=\"\",\"\",IF(②選手情報入力!J18=\"男\",1,2))","v":""},{"$f":"IF(E9=\"\",\"\",IF(②選手情報入力!K18=\"\",\"\",②選手情報入力!K18))","v":""},{"$f":"IF(E9=\"\",\"\",LEFT(②選手情報入力!L18,4))","v":""},{"$f":"IF(E9=\"\",\"\",RIGHT(②選手情報入力!L18,4))","v":""},"",null,{"$f":"IF(E9=\"\",\"\",IF(②選手情報入力!M18=\"\",\"\",IF(K9=1,VLOOKUP(②選手情報入力!M18,種目情報!$A$5:$B$167,2,FALSE),VLOOKUP(②選手情報入力!M18,種目情報!$E$5:$F$142,2,FALSE))))","v":""},{"$f":"IF(E9=\"\",\"\",IF(②選手情報入力!N18=\"\",\"\",②選手情報入力!N18))","v":""},null,{"$f":"IF(E9=\"\",\"\",IF(②選手情報入力!M18=\"\",\"\",IF(K9=1,VLOOKUP(②選手情報入力!M18,種目情報!$A$5:$C$135,3,FALSE),VLOOKUP(②選手情報入力!M18,種目情報!$E$5:$G$135,3,FALSE))))","v":""},{"$f":"IF(E9=\"\",\"\",IF(②選手情報入力!P18=\"\",\"\",IF(K9=1,VLOOKUP(②選手情報入力!P18,種目情報!$A$5:$B$151,2,FALSE),VLOOKUP(②選手情報入力!P18,種目情報!$E$5:$F$135,2,FALSE))))","v":""},{"$f":"IF(E9=\"\",\"\",IF(②選手情報入力!Q18=\"\",\"\",②選手情報入力!Q18))","v":""},{"$f":"IF(E9=\"\",\"\",IF(②選手情報入力!O18=\"\",\"\",1))","v":""},{"$f":"IF(E9=\"\",\"\",IF(②選手情報入力!P18=\"\",\"\",IF(K9=1,VLOOKUP(②選手情報入力!P18,種目情報!$A$5:$C$135,3,FALSE),VLOOKUP(②選手情報入力!P18,種目情報!$E$5:$G$135,3,FALSE))))","v":""},{"$f":"IF(E9=\"\",\"\",IF(②選手情報入力!S18=\"\",\"\",IF(K9=1,VLOOKUP(②選手情報入力!S18,種目情報!$A$5:$B$151,2,FALSE),VLOOKUP(②選手情報入力!S18,種目情報!$E$5:$F$135,2,FALSE))))","v":""},{"$f":"IF(E9=\"\",\"\",IF(②選手情報入力!T18=\"\",\"\",②選手情報入力!T18))","v":""},{"$f":"IF(E9=\"\",\"\",IF(②選手情報入力!R18=\"\",\"\",1))","v":""},{"$f":"IF(E9=\"\",\"\",IF(②選手情報入力!S18=\"\",\"\",IF(K9=1,VLOOKUP(②選手情報入力!S18,種目情報!$A$5:$C$135,3,FALSE),VLOOKUP(②選手情報入力!S18,種目情報!$E$5:$G$135,3,FALSE))))","v":""},{"$f":"IF(E9=\"\",\"\",IF(②選手情報入力!U18=\"\",\"\",IF(K9=1,種目情報!$J$4,種目情報!$J$6)))","v":""},{"$f":"IF(E9=\"\",\"\",IF(②選手情報入力!U18=\"\",\"\",IF(K9=1,IF(②選手情報入力!$V$7=\"\",\"\",②選手情報入力!$V$7),IF(②選手情報入力!$V$8=\"\",\"\",②選手情報入力!$V$8))))","v":""},{"$f":"IF(E9=\"\",\"\",IF(②選手情報入力!U18=\"\",\"\",IF(K9=1,IF(②選手情報入力!$U$7=\"\",0,1),IF(②選手情報入力!$U$8=\"\",0,1))))","v":""},{"$f":"IF(E9=\"\",\"\",IF(②選手情報入力!U18=\"\",\"\",2))","v":""},{"$f":"IF(E9=\"\",\"\",IF(②選手情報入力!W18=\"\",\"\",IF(K9=1,種目情報!$J$5,種目情報!$J$7)))","v":""},{"$f":"IF(E9=\"\",\"\",IF(②選手情報入力!W18=\"\",\"\",IF(K9=1,IF(②選手情報入力!$X$7=\"\",\"\",②選手情報入力!$X$7),IF(②選手情報入力!$X$8=\"\",\"\",②選手情報入力!$X$8))))","v":""},{"$f":"IF(E9=\"\",\"\",IF(②選手情報入力!W18=\"\",\"\",IF(K9=1,IF(②選手情報入力!$W$7=\"\",0,1),IF(②選手情報入力!$W$8=\"\",0,1))))","v":""},{"$f":"IF(E9=\"\",\"\",IF(②選手情報入力!W18=\"\",\"\",2))","v":""},null,null,{"$f":"IF(②選手情報入力!G18=\"\",\"\",ASC(②選手情報入力!G18))","v":""},{"$f":"IF(②選手情報入力!G18=\"\",\"\",ASC(②選手情報入力!H18))","v":""}]
["",{"$f":"IF(E10=\"\",\"\",①団体情報入力!$C$5)","v":""},null,{"$f":"IF(E10=\"\",\"\",IF(①団体情報入力!C15=\"\",\"\",①団体情報入力!C15))","v":""},{"$f":"IF(②選手情報入力!D19=\"\",\"\",②選手情報入力!D19)","v":""},{"$f":"IF(E10=\"\",\"\",②選手情報入力!E19)","v":""},{"$f":"IF(E10=\"\",\"\",ASC(②選手情報入力!F19))","v":""},"","",{"$f":"IF(E10=\"\",\"\",IF(②選手情報入力!I19=\"\",\"JPN\",LEFT(②選手情報入力!I19,3)))","v":""},{"$f":"IF(E10=\"\",\"\",IF(②選手情報入力!J19=\"男\",1,2))","v":""},{"$f":"IF(E10=\"\",\"\",IF(②選手情報入力!K19=\"\",\"\",②選手情報入力!K19))","v":""},{"$f":"IF(E10=\"\",\"\",LEFT(②選手情報入力!L19,4))","v":""},{"$f":"IF(E10=\"\",\"\",RIGHT(②選手情報入力!L19,4))","v":""},"",null,{"$f":"IF(E10=\"\",\"\",IF(②選手情報入力!M19=\"\",\"\",IF(K10=1,VLOOKUP(②選手情報入力!M19,種目情報!$A$5:$B$167,2,FALSE),VLOOKUP(②選手情報入力!M19,種目情報!$E$5:$F$142,2,FALSE))))","v":""},{"$f":"IF(E10=\"\",\"\",IF(②選手情報入力!N19=\"\",\"\",②選手情報入力!N19))","v":""},null,{"$f":"IF(E10=\"\",\"\",IF(②選手情報入力!M19=\"\",\"\",IF(K10=1,VLOOKUP(②選手情報入力!M19,種目情報!$A$5:$C$135,3,FALSE),VLOOKUP(②選手情報入力!M19,種目情報!$E$5:$G$135,3,FALSE))))","v":""},{"$f":"IF(E10=\"\",\"\",IF(②選手情報入力!P19=\"\",\"\",IF(K10=1,VLOOKUP(②選手情報入力!P19,種目情報!$A$5:$B$151,2,FALSE),VLOOKUP(②選手情報入力!P19,種目情報!$E$5:$F$135,2,FALSE))))","v":""},{"$f":"IF(E10=\"\",\"\",IF(②選手情報入力!Q19=\"\",\"\",②選手情報入力!Q19))","v":""},{"$f":"IF(E10=\"\",\"\",IF(②選手情報入力!O19=\"\",\"\",1))","v":""},{"$f":"IF(E10=\"\",\"\",IF(②選手情報入力!P19=\"\",\"\",IF(K10=1,VLOOKUP(②選手情報入力!P19,種目情報!$A$5:$C$135,3,FALSE),VLOOKUP(②選手情報入力!P19,種目情報!$E$5:$G$135,3,FALSE))))","v":""},{"$f":"IF(E10=\"\",\"\",IF(②選手情報入力!S19=\"\",\"\",IF(K10=1,VLOOKUP(②選手情報入力!S19,種目情報!$A$5:$B$151,2,FALSE),VLOOKUP(②選手情報入力!S19,種目情報!$E$5:$F$135,2,FALSE))))","v":""},{"$f":"IF(E10=\"\",\"\",IF(②選手情報入力!T19=\"\",\"\",②選手情報入力!T19))","v":""},{"$f":"IF(E10=\"\",\"\",IF(②選手情報入力!R19=\"\",\"\",1))","v":""},{"$f":"IF(E10=\"\",\"\",IF(②選手情報入力!S19=\"\",\"\",IF(K10=1,VLOOKUP(②選手情報入力!S19,種目情報!$A$5:$C$135,3,FALSE),VLOOKUP(②選手情報入力!S19,種目情報!$E$5:$G$135,3,FALSE))))","v":""},{"$f":"IF(E10=\"\",\"\",IF(②選手情報入力!U19=\"\",\"\",IF(K10=1,種目情報!$J$4,種目情報!$J$6)))","v":""},{"$f":"IF(E10=\"\",\"\",IF(②選手情報入力!U19=\"\",\"\",IF(K10=1,IF(②選手情報入力!$V$7=\"\",\"\",②選手情報入力!$V$7),IF(②選手情報入力!$V$8=\"\",\"\",②選手情報入力!$V$8))))","v":""},{"$f":"IF(E10=\"\",\"\",IF(②選手情報入力!U19=\"\",\"\",IF(K10=1,IF(②選手情報入力!$U$7=\"\",0,1),IF(②選手情報入力!$U$8=\"\",0,1))))","v":""},{"$f":"IF(E10=\"\",\"\",IF(②選手情報入力!U19=\"\",\"\",2))","v":""},{"$f":"IF(E10=\"\",\"\",IF(②選手情報入力!W19=\"\",\"\",IF(K10=1,種目情報!$J$5,種目情報!$J$7)))","v":""},{"$f":"IF(E10=\"\",\"\",IF(②選手情報入力!W19=\"\",\"\",IF(K10=1,IF(②選手情報入力!$X$7=\"\",\"\",②選手情報入力!$X$7),IF(②選手情報入力!$X$8=\"\",\"\",②選手情報入力!$X$8))))","v":""},{"$f":"IF(E10=\"\",\"\",IF(②選手情報入力!W19=\"\",\"\",IF(K10=1,IF(②選手情報入力!$W$7=\"\",0,1),IF(②選手情報入力!$W$8=\"\",0,1))))","v":""},{"$f":"IF(E10=\"\",\"\",IF(②選手情報入力!W19=\"\",\"\",2))","v":""},null,null,{"$f":"IF(②選手情報入力!G19=\"\",\"\",ASC(②選手情報入力!G19))","v":""},{"$f":"IF(②選手情報入力!G19=\"\",\"\",ASC(②選手情報入力!H19))","v":""}]
["",{"$f":"IF(E11=\"\",\"\",①団体情報入力!$C$5)","v":""},null,{"$f":"IF(E11=\"\",\"\",IF(①団体情報入力!C16=\"\",\"\",①団体情報入力!C16))","v":""},{"$f":"IF(②選手情報入力!D20=\"\",\"\",②選手情報入力!D20)","v":""},{"$f":"IF(E11=\"\",\"\",②選手情報入力!E20)","v":""},{"$f":"IF(E11=\"\",\"\",ASC(②選手情報入力!F20))","v":""},"","",{"$f":"IF(E11=\"\",\"\",IF(②選手情報入力!I20=\"\",\"JPN\",LEFT(②選手情報入力!I20,3)))","v":""},{"$f":"IF(E11=\"\",\"\",IF(②選手情報入力!J20=\"男\",1,2))","v":""},{"$f":"IF(E11=\"\",\"\",IF(②選手情報入力!K20=\"\",\"\",②選手情報入力!K20))","v":""},{"$f":"IF(E11=\"\",\"\",LEFT(②選手情報入力!L20,4))","v":""},{"$f":"IF(E11=\"\",\"\",RIGHT(②選手情報入力!L20,4))","v":""},"",null,{"$f":"IF(E11=\"\",\"\",IF(②選手情報入力!M20=\"\",\"\",IF(K11=1,VLOOKUP(②選手情報入力!M20,種目情報!$A$5:$B$167,2,FALSE),VLOOKUP(②選手情報入力!M20,種目情報!$E$5:$F$142,2,FALSE))))","v":""},{"$f":"IF(E11=\"\",\"\",IF(②選手情報入力!N20=\"\",\"\",②選手情報入力!N20))","v":""},null,{"$f":"IF(E11=\"\",\"\",IF(②選手情報入力!M20=\"\",\"\",IF(K11=1,VLOOKUP(②選手情報入力!M20,種目情報!$A$5:$C$135,3,FALSE),VLOOKUP(②選手情報入力!M20,種目情報!$E$5:$G$135,3,FALSE))))","v":""},{"$f":"IF(E11=\"\",\"\",IF(②選手情報入力!P20=\"\",\"\",IF(K11=1,VLOOKUP(②選手情報入力!P20,種目情報!$A$5:$B$151,2,FALSE),VLOOKUP(②選手情報入力!P20,種目情報!$E$5:$F$135,2,FALSE))))","v":""},{"$f":"IF(E11=\"\",\"\",IF(②選手情報入力!Q20=\"\",\"\",②選手情報入力!Q20))","v":""},{"$f":"IF(E11=\"\",\"\",IF(②選手情報入力!O20=\"\",\"\",1))","v":""},{"$f":"IF(E11=\"\",\"\",IF(②選手情報入力!P20=\"\",\"\",IF(K11=1,VLOOKUP(②選手情報入力!P20,種目情報!$A$5:$C$135,3,FALSE),VLOOKUP(②選手情報入力!P20,種目情報!$E$5:$G$135,3,FALSE))))","v":""},{"$f":"IF(E11=\"\",\"\",IF(②選手情報入力!S20=\"\",\"\",IF(K11=1,VLOOKUP(②選手情報入力!S20,種目情報!$A$5:$B$151,2,FALSE),VLOOKUP(②選手情報入力!S20,種目情報!$E$5:$F$135,2,FALSE))))","v":""},{"$f":"IF(E11=\"\",\"\",IF(②選手情報入力!T20=\"\",\"\",②選手情報入力!T20))","v":""},{"$f":"IF(E11=\"\",\"\",IF(②選手情報入力!R20=\"\",\"\",1))","v":""},{"$f":"IF(E11=\"\",\"\",IF(②選手情報入力!S20=\"\",\"\",IF(K11=1,VLOOKUP(②選手情報入力!S20,種目情報!$A$5:$C$135,3,FALSE),VLOOKUP(②選手情報入力!S20,種目情報!$E$5:$G$135,3,FALSE))))","v":""},{"$f":"IF(E11=\"\",\"\",IF(②選手情報入力!U20=\"\",\"\",IF(K11=1,種目情報!$J$4,種目情報!$J$6)))","v":""},{"$f":"IF(E11=\"\",\"\",IF(②選手情報入力!U20=\"\",\"\",IF(K11=1,IF(②選手情報入力!$V$7=\"\",\"\",②選手情報入力!$V$7),IF(②選手情報入力!$V$8=\"\",\"\",②選手情報入力!$V$8))))","v":""},{"$f":"IF(E11=\"\",\"\",IF(②選手情報入力!U20=\"\",\"\",IF(K11=1,IF(②選手情報入力!$U$7=\"\",0,1),IF(②選手情報入力!$U$8=\"\",0,1))))","v":""},{"$f":"IF(E11=\"\",\"\",IF(②選手情報入力!U20=\"\",\"\",2))","v":""},{"$f":"IF(E11=\"\",\"\",IF(②選手情報入力!W20=\"\",\"\",IF(K11=1,種目情報!$J$5,種目情報!$J$7)))","v":""},{"$f":"IF(E11=\"\",\"\",IF(②選手情報入力!W20=\"\",\"\",IF(K11=1,IF(②選手情報入力!$X$7=\"\",\"\",②選手情報入力!$X$7),IF(②選手情報入力!$X$8=\"\",\"\",②選手情報入力!$X$8))))","v":""},{"$f":"IF(E11=\"\",\"\",IF(②選手情報入力!W20=\"\",\"\",IF(K11=1,IF(②選手情報入力!$W$7=\"\",0,1),IF(②選手情報入力!$W$8=\"\",0,1))))","v":""},{"$f":"IF(E11=\"\",\"\",IF(②選手情報入力!W20=\"\",\"\",2))","v":""},null,null,{"$f":"IF(②選手情報入力!G20=\"\",\"\",ASC(②選手情報入力!G20))","v":""},{"$f":"IF(②選手情報入力!G20=\"\",\"\",ASC(②選手情報入力!H20))","v":""}]
["",{"$f":"IF(E12=\"\",\"\",①団体情報入力!$C$5)","v":""},null,{"$f":"IF(E12=\"\",\"\",IF(①団体情報入力!C17=\"\",\"\",①団体情報入力!C17))","v":""},{"$f":"IF(②選手情報入力!D21=\"\",\"\",②選手情報入力!D21)","v":""},{"$f":"IF(E12=\"\",\"\",②選手情報入力!E21)","v":""},{"$f":"IF(E12=\"\",\"\",ASC(②選手情報入力!F21))","v":""},"","",{"$f":"IF(E12=\"\",\"\",IF(②選手情報入力!I21=\"\",\"JPN\",LEFT(②選手情報入力!I21,3)))","v":""},{"$f":"IF(E12=\"\",\"\",IF(②選手情報入力!J21=\"男\",1,2))","v":""},{"$f":"IF(E12=\"\",\"\",IF(②選手情報入力!K21=\"\",\"\",②選手情報入力!K21))","v":""},{"$f":"IF(E12=\"\",\"\",LEFT(②選手情報入力!L21,4))","v":""},{"$f":"IF(E12=\"\",\"\",RIGHT(②選手情報入力!L21,4))","v":""},"",null,{"$f":"IF(E12=\"\",\"\",IF(②選手情報入力!M21=\"\",\"\",IF(K12=1,VLOOKUP(②選手情報入力!M21,種目情報!$A$5:$B$167,2,FALSE),VLOOKUP(②選手情報入力!M21,種目情報!$E$5:$F$142,2,FALSE))))","v":""},{"$f":"IF(E12=\"\",\"\",IF(②選手情報入力!N21=\"\",\"\",②選手情報入力!N21))","v":""},null,{"$f":"IF(E12=\"\",\"\",IF(②選手情報入力!M21=\"\",\"\",IF(K12=1,VLOOKUP(②選手情報入力!M21,種目情報!$A$5:$C$135,3,FALSE),VLOOKUP(②選手情報入力!M21,種目情報!$E$5:$G$135,3,FALSE))))","v":""},{"$f":"IF(E12=\"\",\"\",IF(②選手情報入力!P21=\"\",\"\",IF(K12=1,VLOOKUP(②選手情報入力!P21,種目情報!$A$5:$B$151,2,FALSE),VLOOKUP(②選手情報入力!P21,種目情報!$E$5:$F$135,2,FALSE))))","v":""},{"$f":"IF(E12=\"\",\"\",IF(②選手情報入力!Q21=\"\",\"\",②選手情報入力!Q21))","v":""},{"$f":"IF(E12=\"\",\"\",IF(②選手情報入力!O21=\"\",\"\",1))","v":""},{"$f":"IF(E12=\"\",\"\",IF(②選手情報入力!P21=\"\",\"\",IF(K12=1,VLOOKUP(②選手情報入力!P21,種目情報!$A$5:$C$135,3,FALSE),VLOOKUP(②選手情報入力!P21,種目情報!$E$5:$G$135,3,FALSE))))","v":""},{"$f":"IF(E12=\"\",\"\",IF(②選手情報入力!S21=\"\",\"\",IF(K12=1,VLOOKUP(②選手情報入力!S21,種目情報!$A$5:$B$151,2,FALSE),VLOOKUP(②選手情報入力!S21,種目情報!$E$5:$F$135,2,FALSE))))","v":""},{"$f":"IF(E12=\"\",\"\",IF(②選手情報入力!T21=\"\",\"\",②選手情報入力!T21))","v":""},{"$f":"IF(E12=\"\",\"\",IF(②選手情報入力!R21=\"\",\"\",1))","v":""},{"$f":"IF(E12=\"\",\"\",IF(②選手情報入力!S21=\"\",\"\",IF(K12=1,VLOOKUP(②選手情報入力!S21,種目情報!$A$5:$C$135,3,FALSE),VLOOKUP(②選手情報入力!S21,種目情報!$E$5:$G$135,3,FALSE))))","v":""},{"$f":"IF(E12=\"\",\"\",IF(②選手情報入力!U21=\"\",\"\",IF(K12=1,種目情報!$J$4,種目情報!$J$6)))","v":""},{"$f":"IF(E12=\"\",\"\",IF(②選手情報入力!U21=\"\",\"\",IF(K12=1,IF(②選手情報入力!$V$7=\"\",\"\",②選手情報入力!$V$7),IF(②選手情報入力!$V$8=\"\",\"\",②選手情報入力!$V$8))))","v":""},{"$f":"IF(E12=\"\",\"\",IF(②選手情報入力!U21=\"\",\"\",IF(K12=1,IF(②選手情報入力!$U$7=\"\",0,1),IF(②選手情報入力!$U$8=\"\",0,1))))","v":""},{"$f":"IF(E12=\"\",\"\",IF(②選手情報入力!U21=\"\",\"\",2))","v":""},{"$f":"IF(E12=\"\",\"\",IF(②選手情報入力!W21=\"\",\"\",IF(K12=1,種目情報!$J$5,種目情報!$J$7)))","v":""},{"$f":"IF(E12=\"\",\"\",IF(②選手情報入力!W21=\"\",\"\",IF(K12=1,IF(②選手情報入力!$X$7=\"\",\"\",②選手情報入力!$X$7),IF(②選手情報入力!$X$8=\"\",\"\",②選手情報入力!$X$8))))","v":""},{"$f":"IF(E12=\"\",\"\",IF(②選手情報入力!W21=\"\",\"\",IF(K12=1,IF(②選手情報入力!$W$7=\"\",0,1),IF(②選手情報入力!$W$8=\"\",0,1))))","v":""},{"$f":"IF(E12=\"\",\"\",IF(②選手情報入力!W21=\"\",\"\",2))","v":""},null,null,{"$f":"IF(②選手情報入力!G21=\"\",\"\",ASC(②選手情報入力!G21))","v":""},{"$f":"IF(②選手情報入力!G21=\"\",\"\",ASC(②選手情報入力!H21))","v":""}]
["",{"$f":"IF(E13=\"\",\"\",①団体情報入力!$C$5)","v":""},null,{"$f":"IF(E13=\"\",\"\",IF(①団体情報入力!C18=\"\",\"\",①団体情報入力!C18))","v":""},{"$f":"IF(②選手情報入力!D22=\"\",\"\",②選手情報入力!D22)","v":""},{"$f":"IF(E13=\"\",\"\",②選手情報入力!E22)","v":""},{"$f":"IF(E13=\"\",\"\",ASC(②選手情報入力!F22))","v":""},"","",{"$f":"IF(E13=\"\",\"\",IF(②選手情報入力!I22=\"\",\"JPN\",LEFT(②選手情報入力!I22,3)))","v":""},{"$f":"IF(E13=\"\",\"\",IF(②選手情報入力!J22=\"男\",1,2))","v":""},{"$f":"IF(E13=\"\",\"\",IF(②選手情報入力!K22=\"\",\"\",②選手情報入力!K22))","v":""},{"$f":"IF(E13=\"\",\"\",LEFT(②選手情報入力!L22,4))","v":""},{"$f":"IF(E13=\"\",\"\",RIGHT(②選手情報入力!L22,4))","v":""},"",null,{"$f":"IF(E13=\"\",\"\",IF(②選手情報入力!M22=\"\",\"\",IF(K13=1,VLOOKUP(②選手情報入力!M22,種目情報!$A$5:$B$167,2,FALSE),VLOOKUP(②選手情報入力!M22,種目情報!$E$5:$F$142,2,FALSE))))","v":""},{"$f":"IF(E13=\"\",\"\",IF(②選手情報入力!N22=\"\",\"\",②選手情報入力!N22))","v":""},null,{"$f":"IF(E13=\"\",\"\",IF(②選手情報入力!M22=\"\",\"\",IF(K13=1,VLOOKUP(②選手情報入力!M22,種目情報!$A$5:$C$135,3,FALSE),VLOOKUP(②選手情報入力!M22,種目情報!$E$5:$G$135,3,FALSE))))","v":""},{"$f":"IF(E13=\"\",\"\",IF(②選手情報入力!P22=\"\",\"\",IF(K13=1,VLOOKUP(②選手情報入力!P22,種目情報!$A$5:$B$151,2,FALSE),VLOOKUP(②選手情報入力!P22,種目情報!$E$5:$F$135,2,FALSE))))","v":""},{"$f":"IF(E13=\"\",\"\",IF(②選手情報入力!Q22=\"\",\"\",②選手情報入力!Q22))","v":""},{"$f":"IF(E13=\"\",\"\",IF(②選手情報入力!O22=\"\",\"\",1))","v":""},{"$f":"IF(E13=\"\",\"\",IF(②選手情報入力!P22=\"\",\"\",IF(K13=1,VLOOKUP(②選手情報入力!P22,種目情報!$A$5:$C$135,3,FALSE),VLOOKUP(②選手情報入力!P22,種目情報!$E$5:$G$135,3,FALSE))))","v":""},{"$f":"IF(E13=\"\",\"\",IF(②選手情報入力!S22=\"\",\"\",IF(K13=1,VLOOKUP(②選手情報入力!S22,種目情報!$A$5:$B$151,2,FALSE),VLOOKUP(②選手情報入力!S22,種目情報!$E$5:$F$135,2,FALSE))))","v":""},{"$f":"IF(E13=\"\",\"\",IF(②選手情報入力!T22=\"\",\"\",②選手情報入力!T22))","v":""},{"$f":"IF(E13=\"\",\"\",IF(②選手情報入力!R22=\"\",\"\",1))","v":""},{"$f":"IF(E13=\"\",\"\",IF(②選手情報入力!S22=\"\",\"\",IF(K13=1,VLOOKUP(②選手情報入力!S22,種目情報!$A$5:$C$135,3,FALSE),VLOOKUP(②選手情報入力!S22,種目情報!$E$5:$G$135,3,FALSE))))","v":""},{"$f":"IF(E13=\"\",\"\",IF(②選手情報入力!U22=\"\",\"\",IF(K13=1,種目情報!$J$4,種目情報!$J$6)))","v":""},{"$f":"IF(E13=\"\",\"\",IF(②選手情報入力!U22=\"\",\"\",IF(K13=1,IF(②選手情報入力!$V$7=\"\",\"\",②選手情報入力!$V$7),IF(②選手情報入力!$V$8=\"\",\"\",②選手情報入力!$V$8))))","v":""},{"$f":"IF(E13=\"\",\"\",IF(②選手情報入力!U22=\"\",\"\",IF(K13=1,IF(②選手情報入力!$U$7=\"\",0,1),IF(②選手情報入力!$U$8=\"\",0,1))))","v":""},{"$f":"IF(E13=\"\",\"\",IF(②選手情報入力!U22=\"\",\"\",2))","v":""},{"$f":"IF(E13=\"\",\"\",IF(②選手情報入力!W22=\"\",\"\",IF(K13=1,種目情報!$J$5,種目情報!$J$7)))","v":""},{"$f":"IF(E13=\"\",\"\",IF(②選手情報入力!W22=\"\",\"\",IF(K13=1,IF(②選手情報入力!$X$7=\"\",\"\",②選手情報入力!$X$7),IF(②選手情報入力!$X$8=\"\",\"\",②選手情報入力!$X$8))))","v":""},{"$f":"IF(E13=\"\",\"\",IF(②選手情報入力!W22=\"\",\"\",IF(K13=1,IF(②選手情報入力!$W$7=\"\",0,1),IF(②選手情報入力!$W$8=\"\",0,1))))","v":""},{"$f":"IF(E13=\"\",\"\",IF(②選手情報入力!W22=\"\",\"\",2))","v":""},null,null,{"$f":"IF(②選手情報入力!G22=\"\",\"\",ASC(②選手情報入力!G22))","v":""},{"$f":"IF(②選手情報入力!G22=\"\",\"\",ASC(②選手情報入力!H22))","v":""}]
["",{"$f":"IF(E14=\"\",\"\",①団体情報入力!$C$5)","v":""},null,{"$f":"IF(E14=\"\",\"\",IF(①団体情報入力!C19=\"\",\"\",①団体情報入力!C19))","v":""},{"$f":"IF(②選手情報入力!D23=\"\",\"\",②選手情報入力!D23)","v":""},{"$f":"IF(E14=\"\",\"\",②選手情報入力!E23)","v":""},{"$f":"IF(E14=\"\",\"\",ASC(②選手情報入力!F23))","v":""},"","",{"$f":"IF(E14=\"\",\"\",IF(②選手情報入力!I23=\"\",\"JPN\",LEFT(②選手情報入力!I23,3)))","v":""},{"$f":"IF(E14=\"\",\"\",IF(②選手情報入力!J23=\"男\",1,2))","v":""},{"$f":"IF(E14=\"\",\"\",IF(②選手情報入力!K23=\"\",\"\",②選手情報入力!K23))","v":""},{"$f":"IF(E14=\"\",\"\",LEFT(②選手情報入力!L23,4))","v":""},{"$f":"IF(E14=\"\",\"\",RIGHT(②選手情報入力!L23,4))","v":""},"",null,{"$f":"IF(E14=\"\",\"\",IF(②選手情報入力!M23=\"\",\"\",IF(K14=1,VLOOKUP(②選手情報入力!M23,種目情報!$A$5:$B$167,2,FALSE),VLOOKUP(②選手情報入力!M23,種目情報!$E$5:$F$142,2,FALSE))))","v":""},{"$f":"IF(E14=\"\",\"\",IF(②選手情報入力!N23=\"\",\"\",②選手情報入力!N23))","v":""},null,{"$f":"IF(E14=\"\",\"\",IF(②選手情報入力!M23=\"\",\"\",IF(K14=1,VLOOKUP(②選手情報入力!M23,種目情報!$A$5:$C$135,3,FALSE),VLOOKUP(②選手情報入力!M23,種目情報!$E$5:$G$135,3,FALSE))))","v":""},{"$f":"IF(E14=\"\",\"\",IF(②選手情報入力!P23=\"\",\"\",IF(K14=1,VLOOKUP(②選手情報入力!P23,種目情報!$A$5:$B$151,2,FALSE),VLOOKUP(②選手情報入力!P23,種目情報!$E$5:$F$135,2,FALSE))))","v":""},{"$f":"IF(E14=\"\",\"\",IF(②選手情報入力!Q23=\"\",\"\",②選手情報入力!Q23))","v":""},{"$f":"IF(E14=\"\",\"\",IF(②選手情報入力!O23=\"\",\"\",1))","v":""},{"$f":"IF(E14=\"\",\"\",IF(②選手情報入力!P23=\"\",\"\",IF(K14=1,VLOOKUP(②選手情報入力!P23,種目情報!$A$5:$C$135,3,FALSE),VLOOKUP(②選手情報入力!P23,種目情報!$E$5:$G$135,3,FALSE))))","v":""},{"$f":"IF(E14=\"\",\"\",IF(②選手情報入力!S23=\"\",\"\",IF(K14=1,VLOOKUP(②選手情報入力!S23,種目情報!$A$5:$B$151,2,FALSE),VLOOKUP(②選手情報入力!S23,種目情報!$E$5:$F$135,2,FALSE))))","v":""},{"$f":"IF(E14=\"\",\"\",IF(②選手情報入力!T23=\"\",\"\",②選手情報入力!T23))","v":""},{"$f":"IF(E14=\"\",\"\",IF(②選手情報入力!R23=\"\",\"\",1))","v":""},{"$f":"IF(E14=\"\",\"\",IF(②選手情報入力!S23=\"\",\"\",IF(K14=1,VLOOKUP(②選手情報入力!S23,種目情報!$A$5:$C$135,3,FALSE),VLOOKUP(②選手情報入力!S23,種目情報!$E$5:$G$135,3,FALSE))))","v":""},{"$f":"IF(E14=\"\",\"\",IF(②選手情報入力!U23=\"\",\"\",IF(K14=1,種目情報!$J$4,種目情報!$J$6)))","v":""},{"$f":"IF(E14=\"\",\"\",IF(②選手情報入力!U23=\"\",\"\",IF(K14=1,IF(②選手情報入力!$V$7=\"\",\"\",②選手情報入力!$V$7),IF(②選手情報入力!$V$8=\"\",\"\",②選手情報入力!$V$8))))","v":""},{"$f":"IF(E14=\"\",\"\",IF(②選手情報入力!U23=\"\",\"\",IF(K14=1,IF(②選手情報入力!$U$7=\"\",0,1),IF(②選手情報入力!$U$8=\"\",0,1))))","v":""},{"$f":"IF(E14=\"\",\"\",IF(②選手情報入力!U23=\"\",\"\",2))","v":""},{"$f":"IF(E14=\"\",\"\",IF(②選手情報入力!W23=\"\",\"\",IF(K14=1,種目情報!$J$5,種目情報!$J$7)))","v":""},{"$f":"IF(E14=\"\",\"\",IF(②選手情報入力!W23=\"\",\"\",IF(K14=1,IF(②選手情報入力!$X$7=\"\",\"\",②選手情報入力!$X$7),IF(②選手情報入力!$X$8=\"\",\"\",②選手情報入力!$X$8))))","v":""},{"$f":"IF(E14=\"\",\"\",IF(②選手情報入力!W23=\"\",\"\",IF(K14=1,IF(②選手情報入力!$W$7=\"\",0,1),IF(②選手情報入力!$W$8=\"\",0,1))))","v":""},{"$f":"IF(E14=\"\",\"\",IF(②選手情報入力!W23=\"\",\"\",2))","v":""},null,null,{"$f":"IF(②選手情報入力!G23=\"\",\"\",ASC(②選手情報入力!G23))","v":""},{"$f":"IF(②選手情報入力!G23=\"\",\"\",ASC(②選手情報入力!H23))","v":""}]
["",{"$f":"IF(E15=\"\",\"\",①団体情報入力!$C$5)","v":""},null,{"$f":"IF(E15=\"\",\"\",IF(①団体情報入力!C20=\"\",\"\",①団体情報入力!C20))","v":""},{"$f":"IF(②選手情報入力!D24=\"\",\"\",②選手情報入力!D24)","v":""},{"$f":"IF(E15=\"\",\"\",②選手情報入力!E24)","v":""},{"$f":"IF(E15=\"\",\"\",ASC(②選手情報入力!F24))","v":""},"","",{"$f":"IF(E15=\"\",\"\",IF(②選手情報入力!I24=\"\",\"JPN\",LEFT(②選手情報入力!I24,3)))","v":""},{"$f":"IF(E15=\"\",\"\",IF(②選手情報入力!J24=\"男\",1,2))","v":""},{"$f":"IF(E15=\"\",\"\",IF(②選手情報入力!K24=\"\",\"\",②選手情報入力!K24))","v":""},{"$f":"IF(E15=\"\",\"\",LEFT(②選手情報入力!L24,4))","v":""},{"$f":"IF(E15=\"\",\"\",RIGHT(②選手情報入力!L24,4))","v":""},"",null,{"$f":"IF(E15=\"\",\"\",IF(②選手情報入力!M24=\"\",\"\",IF(K15=1,VLOOKUP(②選手情報入力!M24,種目情報!$A$5:$B$167,2,FALSE),VLOOKUP(②選手情報入力!M24,種目情報!$E$5:$F$142,2,FALSE))))","v":""},{"$f":"IF(E15=\"\",\"\",IF(②選手情報入力!N24=\"\",\"\",②選手情報入力!N24))","v":""},null,{"$f":"IF(E15=\"\",\"\",IF(②選手情報入力!M24=\"\",\"\",IF(K15=1,VLOOKUP(②選手情報入力!M24,種目情報!$A$5:$C$135,3,FALSE),VLOOKUP(②選手情報入力!M24,種目情報!$E$5:$G$135,3,FALSE))))","v":""},{"$f":"IF(E15=\"\",\"\",IF(②選手情報入力!P24=\"\",\"\",IF(K15=1,VLOOKUP(②選手情報入力!P24,種目情報!$A$5:$B$151,2,FALSE),VLOOKUP(②選手情報入力!P24,種目情報!$E$5:$F$135,2,FALSE))))","v":""},{"$f":"IF(E15=\"\",\"\",IF(②選手情報入力!Q24=\"\",\"\",②選手情報入力!Q24))","v":""},{"$f":"IF(E15=\"\",\"\",IF(②選手情報入力!O24=\"\",\"\",1))","v":""},{"$f":"IF(E15=\"\",\"\",IF(②選手情報入力!P24=\"\",\"\",IF(K15=1,VLOOKUP(②選手情報入力!P24,種目情報!$A$5:$C$135,3,FALSE),VLOOKUP(②選手情報入力!P24,種目情報!$E$5:$G$135,3,FALSE))))","v":""},{"$f":"IF(E15=\"\",\"\",IF(②選手情報入力!S24=\"\",\"\",IF(K15=1,VLOOKUP(②選手情報入力!S24,種目情報!$A$5:$B$151,2,FALSE),VLOOKUP(②選手情報入力!S24,種目情報!$E$5:$F$135,2,FALSE))))","v":""},{"$f":"IF(E15=\"\",\"\",IF(②選手情報入力!T24=\"\",\"\",②選手情報入力!T24))","v":""},{"$f":"IF(E15=\"\",\"\",IF(②選手情報入力!R24=\"\",\"\",1))","v":""},{"$f":"IF(E15=\"\",\"\",IF(②選手情報入力!S24=\"\",\"\",IF(K15=1,VLOOKUP(②選手情報入力!S24,種目情報!$A$5:$C$135,3,FALSE),VLOOKUP(②選手情報入力!S24,種目情報!$E$5:$G$135,3,FALSE))))","v":""},{"$f":"IF(E15=\"\",\"\",IF(②選手情報入力!U24=\"\",\"\",IF(K15=1,種目情報!$J$4,種目情報!$J$6)))","v":""},{"$f":"IF(E15=\"\",\"\",IF(②選手情報入力!U24=\"\",\"\",IF(K15=1,IF(②選手情報入力!$V$7=\"\",\"\",②選手情報入力!$V$7),IF(②選手情報入力!$V$8=\"\",\"\",②選手情報入力!$V$8))))","v":""},{"$f":"IF(E15=\"\",\"\",IF(②選手情報入力!U24=\"\",\"\",IF(K15=1,IF(②選手情報入力!$U$7=\"\",0,1),IF(②選手情報入力!$U$8=\"\",0,1))))","v":""},{"$f":"IF(E15=\"\",\"\",IF(②選手情報入力!U24=\"\",\"\",2))","v":""},{"$f":"IF(E15=\"\",\"\",IF(②選手情報入力!W24=\"\",\"\",IF(K15=1,種目情報!$J$5,種目情報!$J$7)))","v":""},{"$f":"IF(E15=\"\",\"\",IF(②選手情報入力!W24=\"\",\"\",IF(K15=1,IF(②選手情報入力!$X$7=\"\",\"\",②選手情報入力!$X$7),IF(②選手情報入力!$X$8=\"\",\"\",②選手情報入力!$X$8))))","v":""},{"$f":"IF(E15=\"\",\"\",IF(②選手情報入力!W24=\"\",\"\",IF(K15=1,IF(②選手情報入力!$W$7=\"\",0,1),IF(②選手情報入力!$W$8=\"\",0,1))))","v":""},{"$f":"IF(E15=\"\",\"\",IF(②選手情報入力!W24=\"\",\"\",2))","v":""},null,null,{"$f":"IF(②選手情報入力!G24=\"\",\"\",ASC(②選手情報入力!G24))","v":""},{"$f":"IF(②選手情報入力!G24=\"\",\"\",ASC(②選手情報入力!H24))","v":""}]
["",{"$f":"IF(E16=\"\",\"\",①団体情報入力!$C$5)","v":""},null,{"$f":"IF(E16=\"\",\"\",IF(①団体情報入力!C21=\"\",\"\",①団体情報入力!C21))","v":""},{"$f":"IF(②選手情報入力!D25=\"\",\"\",②選手情報入力!D25)","v":""},{"$f":"IF(E16=\"\",\"\",②選手情報入力!E25)","v":""},{"$f":"IF(E16=\"\",\"\",ASC(②選手情報入力!F25))","v":""},"","",{"$f":"IF(E16=\"\",\"\",IF(②選手情報入力!I25=\"\",\"JPN\",LEFT(②選手情報入力!I25,3)))","v":""},{"$f":"IF(E16=\"\",\"\",IF(②選手情報入力!J25=\"男\",1,2))","v":""},{"$f":"IF(E16=\"\",\"\",IF(②選手情報入力!K25=\"\",\"\",②選手情報入力!K25))","v":""},{"$f":"IF(E16=\"\",\"\",LEFT(②選手情報入力!L25,4))","v":""},{"$f":"IF(E16=\"\",\"\",RIGHT(②選手情報入力!L25,4))","v":""},"",null,{"$f":"IF(E16=\"\",\"\",IF(②選手情報入力!M25=\"\",\"\",IF(K16=1,VLOOKUP(②選手情報入力!M25,種目情報!$A$5:$B$167,2,FALSE),VLOOKUP(②選手情報入力!M25,種目情報!$E$5:$F$142,2,FALSE))))","v":""},{"$f":"IF(E16=\"\",\"\",IF(②選手情報入力!N25=\"\",\"\",②選手情報入力!N25))","v":""},null,{"$f":"IF(E16=\"\",\"\",IF(②選手情報入力!M25=\"\",\"\",IF(K16=1,VLOOKUP(②選手情報入力!M25,種目情報!$A$5:$C$135,3,FALSE),VLOOKUP(②選手情報入力!M25,種目情報!$E$5:$G$135,3,FALSE))))","v":""},{"$f":"IF(E16=\"\",\"\",IF(②選手情報入力!P25=\"\",\"\",IF(K16=1,VLOOKUP(②選手情報入力!P25,種目情報!$A$5:$B$151,2,FALSE),VLOOKUP(②選手情報入力!P25,種目情報!$E$5:$F$135,2,FALSE))))","v":""},{"$f":"IF(E16=\"\",\"\",IF(②選手情報入力!Q25=\"\",\"\",②選手情報入力!Q25))","v":""},{"$f":"IF(E16=\"\",\"\",IF(②選手情報入力!O25=\"\",\"\",1))","v":""},{"$f":"IF(E16=\"\",\"\",IF(②選手情報入力!P25=\"\",\"\",IF(K16=1,VLOOKUP(②選手情報入力!P25,種目情報!$A$5:$C$135,3,FALSE),VLOOKUP(②選手情報入力!P25,種目情報!$E$5:$G$135,3,FALSE))))","v":""},{"$f":"IF(E16=\"\",\"\",IF(②選手情報入力!S25=\"\",\"\",IF(K16=1,VLOOKUP(②選手情報入力!S25,種目情報!$A$5:$B$151,2,FALSE),VLOOKUP(②選手情報入力!S25,種目情報!$E$5:$F$135,2,FALSE))))","v":""},{"$f":"IF(E16=\"\",\"\",IF(②選手情報入力!T25=\"\",\"\",②選手情報入力!T25))","v":""},{"$f":"IF(E16=\"\",\"\",IF(②選手情報入力!R25=\"\",\"\",1))","v":""},{"$f":"IF(E16=\"\",\"\",IF(②選手情報入力!S25=\"\",\"\",IF(K16=1,VLOOKUP(②選手情報入力!S25,種目情報!$A$5:$C$135,3,FALSE),VLOOKUP(②選手情報入力!S25,種目情報!$E$5:$G$135,3,FALSE))))","v":""},{"$f":"IF(E16=\"\",\"\",IF(②選手情報入力!U25=\"\",\"\",IF(K16=1,種目情報!$J$4,種目情報!$J$6)))","v":""},{"$f":"IF(E16=\"\",\"\",IF(②選手情報入力!U25=\"\",\"\",IF(K16=1,IF(②選手情報入力!$V$7=\"\",\"\",②選手情報入力!$V$7),IF(②選手情報入力!$V$8=\"\",\"\",②選手情報入力!$V$8))))","v":""},{"$f":"IF(E16=\"\",\"\",IF(②選手情報入力!U25=\"\",\"\",IF(K16=1,IF(②選手情報入力!$U$7=\"\",0,1),IF(②選手情報入力!$U$8=\"\",0,1))))","v":""},{"$f":"IF(E16=\"\",\"\",IF(②選手情報入力!U25=\"\",\"\",2))","v":""},{"$f":"IF(E16=\"\",\"\",IF(②選手情報入力!W25=\"\",\"\",IF(K16=1,種目情報!$J$5,種目情報!$J$7)))","v":""},{"$f":"IF(E16=\"\",\"\",IF(②選手情報入力!W25=\"\",\"\",IF(K16=1,IF(②選手情報入力!$X$7=\"\",\"\",②選手情報入力!$X$7),IF(②選手情報入力!$X$8=\"\",\"\",②選手情報入力!$X$8))))","v":""},{"$f":"IF(E16=\"\",\"\",IF(②選手情報入力!W25=\"\",\"\",IF(K16=1,IF(②選手情報入力!$W$7=\"\",0,1),IF(②選手情報入力!$W$8=\"\",0,1))))","v":""},{"$f":"IF(E16=\"\",\"\",IF(②選手情報入力!W25=\"\",\"\",2))","v":""},null,null,{"$f":"IF(②選手情報入力!G25=\"\",\"\",ASC(②選手情報入力!G25))","v":""},{"$f":"IF(②選手情報入力!G25=\"\",\"\",ASC(②選手情報入力!H25))","v":""}]
["",{"$f":"IF(E17=\"\",\"\",①団体情報入力!$C$5)","v":""},null,{"$f":"IF(E17=\"\",\"\",IF(①団体情報入力!C22=\"\",\"\",①団体情報入力!C22))","v":""},{"$f":"IF(②選手情報入力!D26=\"\",\"\",②選手情報入力!D26)","v":""},{"$f":"IF(E17=\"\",\"\",②選手情報入力!E26)","v":""},{"$f":"IF(E17=\"\",\"\",ASC(②選手情報入力!F26))","v":""},"","",{"$f":"IF(E17=\"\",\"\",IF(②選手情報入力!I26=\"\",\"JPN\",LEFT(②選手情報入力!I26,3)))","v":""},{"$f":"IF(E17=\"\",\"\",IF(②選手情報入力!J26=\"男\",1,2))","v":""},{"$f":"IF(E17=\"\",\"\",IF(②選手情報入力!K26=\"\",\"\",②選手情報入力!K26))","v":""},{"$f":"IF(E17=\"\",\"\",LEFT(②選手情報入力!L26,4))","v":""},{"$f":"IF(E17=\"\",\"\",RIGHT(②選手情報入力!L26,4))","v":""},"",null,{"$f":"IF(E17=\"\",\"\",IF(②選手情報入力!M26=\"\",\"\",IF(K17=1,VLOOKUP(②選手情報入力!M26,種目情報!$A$5:$B$167,2,FALSE),VLOOKUP(②選手情報入力!M26,種目情報!$E$5:$F$142,2,FALSE))))","v":""},{"$f":"IF(E17=\"\",\"\",IF(②選手情報入力!N26=\"\",\"\",②選手情報入力!N26))","v":""},null,{"$f":"IF(E17=\"\",\"\",IF(②選手情報入力!M26=\"\",\"\",IF(K17=1,VLOOKUP(②選手情報入力!M26,種目情報!$A$5:$C$135,3,FALSE),VLOOKUP(②選手情報入力!M26,種目情報!$E$5:$G$135,3,FALSE))))","v":""},{"$f":"IF(E17=\"\",\"\",IF(②選手情報入力!P26=\"\",\"\",IF(K17=1,VLOOKUP(②選手情報入力!P26,種目情報!$A$5:$B$151,2,FALSE),VLOOKUP(②選手情報入力!P26,種目情報!$E$5:$F$135,2,FALSE))))","v":""},{"$f":"IF(E17=\"\",\"\",IF(②選手情報入力!Q26=\"\",\"\",②選手情報入力!Q26))","v":""},{"$f":"IF(E17=\"\",\"\",IF(②選手情報入力!O26=\"\",\"\",1))","v":""},{"$f":"IF(E17=\"\",\"\",IF(②選手情報入力!P26=\"\",\"\",IF(K17=1,VLOOKUP(②選手情報入力!P26,種目情報!$A$5:$C$135,3,FALSE),VLOOKUP(②選手情報入力!P26,種目情報!$E$5:$G$135,3,FALSE))))","v":""},{"$f":"IF(E17=\"\",\"\",IF(②選手情報入力!S26=\"\",\"\",IF(K17=1,VLOOKUP(②選手情報入力!S26,種目情報!$A$5:$B$151,2,FALSE),VLOOKUP(②選手情報入力!S26,種目情報!$E$5:$F$135,2,FALSE))))","v":""},{"$f":"IF(E17=\"\",\"\",IF(②選手情報入力!T26=\"\",\"\",②選手情報入力!T26))","v":""},{"$f":"IF(E17=\"\",\"\",IF(②選手情報入力!R26=\"\",\"\",1))","v":""},{"$f":"IF(E17=\"\",\"\",IF(②選手情報入力!S26=\"\",\"\",IF(K17=1,VLOOKUP(②選手情報入力!S26,種目情報!$A$5:$C$135,3,FALSE),VLOOKUP(②選手情報入力!S26,種目情報!$E$5:$G$135,3,FALSE))))","v":""},{"$f":"IF(E17=\"\",\"\",IF(②選手情報入力!U26=\"\",\"\",IF(K17=1,種目情報!$J$4,種目情報!$J$6)))","v":""},{"$f":"IF(E17=\"\",\"\",IF(②選手情報入力!U26=\"\",\"\",IF(K17=1,IF(②選手情報入力!$V$7=\"\",\"\",②選手情報入力!$V$7),IF(②選手情報入力!$V$8=\"\",\"\",②選手情報入力!$V$8))))","v":""},{"$f":"IF(E17=\"\",\"\",IF(②選手情報入力!U26=\"\",\"\",IF(K17=1,IF(②選手情報入力!$U$7=\"\",0,1),IF(②選手情報入力!$U$8=\"\",0,1))))","v":""},{"$f":"IF(E17=\"\",\"\",IF(②選手情報入力!U26=\"\",\"\",2))","v":""},{"$f":"IF(E17=\"\",\"\",IF(②選手情報入力!W26=\"\",\"\",IF(K17=1,種目情報!$J$5,種目情報!$J$7)))","v":""},{"$f":"IF(E17=\"\",\"\",IF(②選手情報入力!W26=\"\",\"\",IF(K17=1,IF(②選手情報入力!$X$7=\"\",\"\",②選手情報入力!$X$7),IF(②選手情報入力!$X$8=\"\",\"\",②選手情報入力!$X$8))))","v":""},{"$f":"IF(E17=\"\",\"\",IF(②選手情報入力!W26=\"\",\"\",IF(K17=1,IF(②選手情報入力!$W$7=\"\",0,1),IF(②選手情報入力!$W$8=\"\",0,1))))","v":""},{"$f":"IF(E17=\"\",\"\",IF(②選手情報入力!W26=\"\",\"\",2))","v":""},null,null,{"$f":"IF(②選手情報入力!G26=\"\",\"\",ASC(②選手情報入力!G26))","v":""},{"$f":"IF(②選手情報入力!G26=\"\",\"\",ASC(②選手情報入力!H26))","v":""}]
["",{"$f":"IF(E18=\"\",\"\",①団体情報入力!$C$5)","v":""},null,{"$f":"IF(E18=\"\",\"\",IF(①団体情報入力!C23=\"\",\"\",①団体情報入力!C23))","v":""},{"$f":"IF(②選手情報入力!D27=\"\",\"\",②選手情報入力!D27)","v":""},{"$f":"IF(E18=\"\",\"\",②選手情報入力!E27)","v":""},{"$f":"IF(E18=\"\",\"\",ASC(②選手情報入力!F27))","v":""},"","",{"$f":"IF(E18=\"\",\"\",IF(②選手情報入力!I27=\"\",\"JPN\",LEFT(②選手情報入力!I27,3)))","v":""},{"$f":"IF(E18=\"\",\"\",IF(②選手情報入力!J27=\"男\",1,2))","v":""},{"$f":"IF(E18=\"\",\"\",IF(②選手情報入力!K27=\"\",\"\",②選手情報入力!K27))","v":""},{"$f":"IF(E18=\"\",\"\",LEFT(②選手情報入力!L27,4))","v":""},{"$f":"IF(E18=\"\",\"\",RIGHT(②選手情報入力!L27,4))","v":""},"",null,{"$f":"IF(E18=\"\",\"\",IF(②選手情報入力!M27=\"\",\"\",IF(K18=1,VLOOKUP(②選手情報入力!M27,種目情報!$A$5:$B$167,2,FALSE),VLOOKUP(②選手情報入力!M27,種目情報!$E$5:$F$142,2,FALSE))))","v":""},{"$f":"IF(E18=\"\",\"\",IF(②選手情報入力!N27=\"\",\"\",②選手情報入力!N27))","v":""},null,{"$f":"IF(E18=\"\",\"\",IF(②選手情報入力!M27=\"\",\"\",IF(K18=1,VLOOKUP(②選手情報入力!M27,種目情報!$A$5:$C$135,3,FALSE),VLOOKUP(②選手情報入力!M27,種目情報!$E$5:$G$135,3,FALSE))))","v":""},{"$f":"IF(E18=\"\",\"\",IF(②選手情報入力!P27=\"\",\"\",IF(K18=1,VLOOKUP(②選手情報入力!P27,種目情報!$A$5:$B$151,2,FALSE),VLOOKUP(②選手情報入力!P27,種目情報!$E$5:$F$135,2,FALSE))))","v":""},{"$f":"IF(E18=\"\",\"\",IF(②選手情報入力!Q27=\"\",\"\",②選手情報入力!Q27))","v":""},{"$f":"IF(E18=\"\",\"\",IF(②選手情報入力!O27=\"\",\"\",1))","v":""},{"$f":"IF(E18=\"\",\"\",IF(②選手情報入力!P27=\"\",\"\",IF(K18=1,VLOOKUP(②選手情報入力!P27,種目情報!$A$5:$C$135,3,FALSE),VLOOKUP(②選手情報入力!P27,種目情報!$E$5:$G$135,3,FALSE))))","v":""},{"$f":"IF(E18=\"\",\"\",IF(②選手情報入力!S27=\"\",\"\",IF(K18=1,VLOOKUP(②選手情報入力!S27,種目情報!$A$5:$B$151,2,FALSE),VLOOKUP(②選手情報入力!S27,種目情報!$E$5:$F$135,2,FALSE))))","v":""},{"$f":"IF(E18=\"\",\"\",IF(②選手情報入力!T27=\"\",\"\",②選手情報入力!T27))","v":""},{"$f":"IF(E18=\"\",\"\",IF(②選手情報入力!R27=\"\",\"\",1))","v":""},{"$f":"IF(E18=\"\",\"\",IF(②選手情報入力!S27=\"\",\"\",IF(K18=1,VLOOKUP(②選手情報入力!S27,種目情報!$A$5:$C$135,3,FALSE),VLOOKUP(②選手情報入力!S27,種目情報!$E$5:$G$135,3,FALSE))))","v":""},{"$f":"IF(E18=\"\",\"\",IF(②選手情報入力!U27=\"\",\"\",IF(K18=1,種目情報!$J$4,種目情報!$J$6)))","v":""},{"$f":"IF(E18=\"\",\"\",IF(②選手情報入力!U27=\"\",\"\",IF(K18=1,IF(②選手情報入力!$V$7=\"\",\"\",②選手情報入力!$V$7),IF(②選手情報入力!$V$8=\"\",\"\",②選手情報入力!$V$8))))","v":""},{"$f":"IF(E18=\"\",\"\",IF(②選手情報入力!U27=\"\",\"\",IF(K18=1,IF(②選手情報入力!$U$7=\"\",0,1),IF(②選手情報入力!$U$8=\"\",0,1))))","v":""},{"$f":"IF(E18=\"\",\"\",IF(②選手情報入力!U27=\"\",\"\",2))","v":""},{"$f":"IF(E18=\"\",\"\",IF(②選手情報入力!W27=\"\",\"\",IF(K18=1,種目情報!$J$5,種目情報!$J$7)))","v":""},{"$f":"IF(E18=\"\",\"\",IF(②選手情報入力!W27=\"\",\"\",IF(K18=1,IF(②選手情報入力!$X$7=\"\",\"\",②選手情報入力!$X$7),IF(②選手情報入力!$X$8=\"\",\"\",②選手情報入力!$X$8))))","v":""},{"$f":"IF(E18=\"\",\"\",IF(②選手情報入力!W27=\"\",\"\",IF(K18=1,IF(②選手情報入力!$W$7=\"\",0,1),IF(②選手情報入力!$W$8=\"\",0,1))))","v":""},{"$f":"IF(E18=\"\",\"\",IF(②選手情報入力!W27=\"\",\"\",2))","v":""},null,null,{"$f":"IF(②選手情報入力!G27=\"\",\"\",ASC(②選手情報入力!G27))","v":""},{"$f":"IF(②選手情報入力!G27=\"\",\"\",ASC(②選手情報入力!H27))","v":""}]
["",{"$f":"IF(E19=\"\",\"\",①団体情報入力!$C$5)","v":""},null,{"$f":"IF(E19=\"\",\"\",IF(①団体情報入力!C24=\"\",\"\",①団体情報入力!C24))","v":""},{"$f":"IF(②選手情報入力!D28=\"\",\"\",②選手情報入力!D28)","v":""},{"$f":"IF(E19=\"\",\"\",②選手情報入力!E28)","v":""},{"$f":"IF(E19=\"\",\"\",ASC(②選手情報入力!F28))","v":""},"","",{"$f":"IF(E19=\"\",\"\",IF(②選手情報入力!I28=\"\",\"JPN\",LEFT(②選手情報入力!I28,3)))","v":""},{"$f":"IF(E19=\"\",\"\",IF(②選手情報入力!J28=\"男\",1,2))","v":""},{"$f":"IF(E19=\"\",\"\",IF(②選手情報入力!K28=\"\",\"\",②選手情報入力!K28))","v":""},{"$f":"IF(E19=\"\",\"\",LEFT(②選手情報入力!L28,4))","v":""},{"$f":"IF(E19=\"\",\"\",RIGHT(②選手情報入力!L28,4))","v":""},"",null,{"$f":"IF(E19=\"\",\"\",IF(②選手情報入力!M28=\"\",\"\",IF(K19=1,VLOOKUP(②選手情報入力!M28,種目情報!$A$5:$B$167,2,FALSE),VLOOKUP(②選手情報入力!M28,種目情報!$E$5:$F$142,2,FALSE))))","v":""},{"$f":"IF(E19=\"\",\"\",IF(②選手情報入力!N28=\"\",\"\",②選手情報入力!N28))","v":""},null,{"$f":"IF(E19=\"\",\"\",IF(②選手情報入力!M28=\"\",\"\",IF(K19=1,VLOOKUP(②選手情報入力!M28,種目情報!$A$5:$C$135,3,FALSE),VLOOKUP(②選手情報入力!M28,種目情報!$E$5:$G$135,3,FALSE))))","v":""},{"$f":"IF(E19=\"\",\"\",IF(②選手情報入力!P28=\"\",\"\",IF(K19=1,VLOOKUP(②選手情報入力!P28,種目情報!$A$5:$B$151,2,FALSE),VLOOKUP(②選手情報入力!P28,種目情報!$E$5:$F$135,2,FALSE))))","v":""},{"$f":"IF(E19=\"\",\"\",IF(②選手情報入力!Q28=\"\",\"\",②選手情報入力!Q28))","v":""},{"$f":"IF(E19=\"\",\"\",IF(②選手情報入力!O28=\"\",\"\",1))","v":""},{"$f":"IF(E19=\"\",\"\",IF(②選手情報入力!P28=\"\",\"\",IF(K19=1,VLOOKUP(②選手情報入力!P28,種目情報!$A$5:$C$135,3,FALSE),VLOOKUP(②選手情報入力!P28,種目情報!$E$5:$G$135,3,FALSE))))","v":""},{"$f":"IF(E19=\"\",\"\",IF(②選手情報入力!S28=\"\",\"\",IF(K19=1,VLOOKUP(②選手情報入力!S28,種目情報!$A$5:$B$151,2,FALSE),VLOOKUP(②選手情報入力!S28,種目情報!$E$5:$F$135,2,FALSE))))","v":""},{"$f":"IF(E19=\"\",\"\",IF(②選手情報入力!T28=\"\",\"\",②選手情報入力!T28))","v":""},{"$f":"IF(E19=\"\",\"\",IF(②選手情報入力!R28=\"\",\"\",1))","v":""},{"$f":"IF(E19=\"\",\"\",IF(②選手情報入力!S28=\"\",\"\",IF(K19=1,VLOOKUP(②選手情報入力!S28,種目情報!$A$5:$C$135,3,FALSE),VLOOKUP(②選手情報入力!S28,種目情報!$E$5:$G$135,3,FALSE))))","v":""},{"$f":"IF(E19=\"\",\"\",IF(②選手情報入力!U28=\"\",\"\",IF(K19=1,種目情報!$J$4,種目情報!$J$6)))","v":""},{"$f":"IF(E19=\"\",\"\",IF(②選手情報入力!U28=\"\",\"\",IF(K19=1,IF(②選手情報入力!$V$7=\"\",\"\",②選手情報入力!$V$7),IF(②選手情報入力!$V$8=\"\",\"\",②選手情報入力!$V$8))))","v":""},{"$f":"IF(E19=\"\",\"\",IF(②選手情報入力!U28=\"\",\"\",IF(K19=1,IF(②選手情報入力!$U$7=\"\",0,1),IF(②選手情報入力!$U$8=\"\",0,1))))","v":""},{"$f":"IF(E19=\"\",\"\",IF(②選手情報入力!U28=\"\",\"\",2))","v":""},{"$f":"IF(E19=\"\",\"\",IF(②選手情報入力!W28=\"\",\"\",IF(K19=1,種目情報!$J$5,種目情報!$J$7)))","v":""},{"$f":"IF(E19=\"\",\"\",IF(②選手情報入力!W28=\"\",\"\",IF(K19=1,IF(②選手情報入力!$X$7=\"\",\"\",②選手情報入力!$X$7),IF(②選手情報入力!$X$8=\"\",\"\",②選手情報入力!$X$8))))","v":""},{"$f":"IF(E19=\"\",\"\",IF(②選手情報入力!W28=\"\",\"\",IF(K19=1,IF(②選手情報入力!$W$7=\"\",0,1),IF(②選手情報入力!$W$8=\"\",0,1))))","v":""},{"$f":"IF(E19=\"\",\"\",IF(②選手情報入力!W28=\"\",\"\",2))","v":""},null,null,{"$f":"IF(②選手情報入力!G28=\"\",\"\",ASC(②選手情報入力!G28))","v":""},{"$f":"IF(②選手情報入力!G28=\"\",\"\",ASC(②選手情報入力!H28))","v":""}]
["",{"$f":"IF(E20=\"\",\"\",①団体情報入力!$C$5)","v":""},null,{"$f":"IF(E20=\"\",\"\",IF(①団体情報入力!C25=\"\",\"\",①団体情報入力!C25))","v":""},{"$f":"IF(②選手情報入力!D29=\"\",\"\",②選手情報入力!D29)","v":""},{"$f":"IF(E20=\"\",\"\",②選手情報入力!E29)","v":""},{"$f":"IF(E20=\"\",\"\",ASC(②選手情報入力!F29))","v":""},"","",{"$f":"IF(E20=\"\",\"\",IF(②選手情報入力!I29=\"\",\"JPN\",LEFT(②選手情報入力!I29,3)))","v":""},{"$f":"IF(E20=\"\",\"\",IF(②選手情報入力!J29=\"男\",1,2))","v":""},{"$f":"IF(E20=\"\",\"\",IF(②選手情報入力!K29=\"\",\"\",②選手情報入力!K29))","v":""},{"$f":"IF(E20=\"\",\"\",LEFT(②選手情報入力!L29,4))","v":""},{"$f":"IF(E20=\"\",\"\",RIGHT(②選手情報入力!L29,4))","v":""},"",null,{"$f":"IF(E20=\"\",\"\",IF(②選手情報入力!M29=\"\",\"\",IF(K20=1,VLOOKUP(②選手情報入力!M29,種目情報!$A$5:$B$167,2,FALSE),VLOOKUP(②選手情報入力!M29,種目情報!$E$5:$F$142,2,FALSE))))","v":""},{"$f":"IF(E20=\"\",\"\",IF(②選手情報入力!N29=\"\",\"\",②選手情報入力!N29))","v":""},null,{"$f":"IF(E20=\"\",\"\",IF(②選手情報入力!M29=\"\",\"\",IF(K20=1,VLOOKUP(②選手情報入力!M29,種目情報!$A$5:$C$135,3,FALSE),VLOOKUP(②選手情報入力!M29,種目情報!$E$5:$G$135,3,FALSE))))","v":""},{"$f":"IF(E20=\"\",\"\",IF(②選手情報入力!P29=\"\",\"\",IF(K20=1,VLOOKUP(②選手情報入力!P29,種目情報!$A$5:$B$151,2,FALSE),VLOOKUP(②選手情報入力!P29,種目情報!$E$5:$F$135,2,FALSE))))","v":""},{"$f":"IF(E20=\"\",\"\",IF(②選手情報入力!Q29=\"\",\"\",②選手情報入力!Q29))","v":""},{"$f":"IF(E20=\"\",\"\",IF(②選手情報入力!O29=\"\",\"\",1))","v":""},{"$f":"IF(E20=\"\",\"\",IF(②選手情報入力!P29=\"\",\"\",IF(K20=1,VLOOKUP(②選手情報入力!P29,種目情報!$A$5:$C$135,3,FALSE),VLOOKUP(②選手情報入力!P29,種目情報!$E$5:$G$135,3,FALSE))))","v":""},{"$f":"IF(E20=\"\",\"\",IF(②選手情報入力!S29=\"\",\"\",IF(K20=1,VLOOKUP(②選手情報入力!S29,種目情報!$A$5:$B$151,2,FALSE),VLOOKUP(②選手情報入力!S29,種目情報!$E$5:$F$135,2,FALSE))))","v":""},{"$f":"IF(E20=\"\",\"\",IF(②選手情報入力!T29=\"\",\"\",②選手情報入力!T29))","v":""},{"$f":"IF(E20=\"\",\"\",IF(②選手情報入力!R29=\"\",\"\",1))","v":""},{"$f":"IF(E20=\"\",\"\",IF(②選手情報入力!S29=\"\",\"\",IF(K20=1,VLOOKUP(②選手情報入力!S29,種目情報!$A$5:$C$135,3,FALSE),VLOOKUP(②選手情報入力!S29,種目情報!$E$5:$G$135,3,FALSE))))","v":""},{"$f":"IF(E20=\"\",\"\",IF(②選手情報入力!U29=\"\",\"\",IF(K20=1,種目情報!$J$4,種目情報!$J$6)))","v":""},{"$f":"IF(E20=\"\",\"\",IF(②選手情報入力!U29=\"\",\"\",IF(K20=1,IF(②選手情報入力!$V$7=\"\",\"\",②選手情報入力!$V$7),IF(②選手情報入力!$V$8=\"\",\"\",②選手情報入力!$V$8))))","v":""},{"$f":"IF(E20=\"\",\"\",IF(②選手情報入力!U29=\"\",\"\",IF(K20=1,IF(②選手情報入力!$U$7=\"\",0,1),IF(②選手情報入力!$U$8=\"\",0,1))))","v":""},{"$f":"IF(E20=\"\",\"\",IF(②選手情報入力!U29=\"\",\"\",2))","v":""},{"$f":"IF(E20=\"\",\"\",IF(②選手情報入力!W29=\"\",\"\",IF(K20=1,種目情報!$J$5,種目情報!$J$7)))","v":""},{"$f":"IF(E20=\"\",\"\",IF(②選手情報入力!W29=\"\",\"\",IF(K20=1,IF(②選手情報入力!$X$7=\"\",\"\",②選手情報入力!$X$7),IF(②選手情報入力!$X$8=\"\",\"\",②選手情報入力!$X$8))))","v":""},{"$f":"IF(E20=\"\",\"\",IF(②選手情報入力!W29=\"\",\"\",IF(K20=1,IF(②選手情報入力!$W$7=\"\",0,1),IF(②選手情報入力!$W$8=\"\",0,1))))","v":""},{"$f":"IF(E20=\"\",\"\",IF(②選手情報入力!W29=\"\",\"\",2))","v":""},null,null,{"$f":"IF(②選手情報入力!G29=\"\",\"\",ASC(②選手情報入力!G29))","v":""},{"$f":"IF(②選手情報入力!G29=\"\",\"\",ASC(②選手情報入力!H29))","v":""}]
["",{"$f":"IF(E21=\"\",\"\",①団体情報入力!$C$5)","v":""},null,{"$f":"IF(E21=\"\",\"\",IF(①団体情報入力!C26=\"\",\"\",①団体情報入力!C26))","v":""},{"$f":"IF(②選手情報入力!D30=\"\",\"\",②選手情報入力!D30)","v":""},{"$f":"IF(E21=\"\",\"\",②選手情報入力!E30)","v":""},{"$f":"IF(E21=\"\",\"\",ASC(②選手情報入力!F30))","v":""},"","",{"$f":"IF(E21=\"\",\"\",IF(②選手情報入力!I30=\"\",\"JPN\",LEFT(②選手情報入力!I30,3)))","v":""},{"$f":"IF(E21=\"\",\"\",IF(②選手情報入力!J30=\"男\",1,2))","v":""},{"$f":"IF(E21=\"\",\"\",IF(②選手情報入力!K30=\"\",\"\",②選手情報入力!K30))","v":""},{"$f":"IF(E21=\"\",\"\",LEFT(②選手情報入力!L30,4))","v":""},{"$f":"IF(E21=\"\",\"\",RIGHT(②選手情報入力!L30,4))","v":""},"",null,{"$f":"IF(E21=\"\",\"\",IF(②選手情報入力!M30=\"\",\"\",IF(K21=1,VLOOKUP(②選手情報入力!M30,種目情報!$A$5:$B$167,2,FALSE),VLOOKUP(②選手情報入力!M30,種目情報!$E$5:$F$142,2,FALSE))))","v":""},{"$f":"IF(E21=\"\",\"\",IF(②選手情報入力!N30=\"\",\"\",②選手情報入力!N30))","v":""},null,{"$f":"IF(E21=\"\",\"\",IF(②選手情報入力!M30=\"\",\"\",IF(K21=1,VLOOKUP(②選手情報入力!M30,種目情報!$A$5:$C$135,3,FALSE),VLOOKUP(②選手情報入力!M30,種目情報!$E$5:$G$135,3,FALSE))))","v":""},{"$f":"IF(E21=\"\",\"\",IF(②選手情報入力!P30=\"\",\"\",IF(K21=1,VLOOKUP(②選手情報入力!P30,種目情報!$A$5:$B$151,2,FALSE),VLOOKUP(②選手情報入力!P30,種目情報!$E$5:$F$135,2,FALSE))))","v":""},{"$f":"IF(E21=\"\",\"\",IF(②選手情報入力!Q30=\"\",\"\",②選手情報入力!Q30))","v":""},{"$f":"IF(E21=\"\",\"\",IF(②選手情報入力!O30=\"\",\"\",1))","v":""},{"$f":"IF(E21=\"\",\"\",IF(②選手情報入力!P30=\"\",\"\",IF(K21=1,VLOOKUP(②選手情報入力!P30,種目情報!$A$5:$C$135,3,FALSE),VLOOKUP(②選手情報入力!P30,種目情報!$E$5:$G$135,3,FALSE))))","v":""},{"$f":"IF(E21=\"\",\"\",IF(②選手情報入力!S30=\"\",\"\",IF(K21=1,VLOOKUP(②選手情報入力!S30,種目情報!$A$5:$B$151,2,FALSE),VLOOKUP(②選手情報入力!S30,種目情報!$E$5:$F$135,2,FALSE))))","v":""},{"$f":"IF(E21=\"\",\"\",IF(②選手情報入力!T30=\"\",\"\",②選手情報入力!T30))","v":""},{"$f":"IF(E21=\"\",\"\",IF(②選手情報入力!R30=\"\",\"\",1))","v":""},{"$f":"IF(E21=\"\",\"\",IF(②選手情報入力!S30=\"\",\"\",IF(K21=1,VLOOKUP(②選手情報入力!S30,種目情報!$A$5:$C$135,3,FALSE),VLOOKUP(②選手情報入力!S30,種目情報!$E$5:$G$135,3,FALSE))))","v":""},{"$f":"IF(E21=\"\",\"\",IF(②選手情報入力!U30=\"\",\"\",IF(K21=1,種目情報!$J$4,種目情報!$J$6)))","v":""},{"$f":"IF(E21=\"\",\"\",IF(②選手情報入力!U30=\"\",\"\",IF(K21=1,IF(②選手情報入力!$V$7=\"\",\"\",②選手情報入力!$V$7),IF(②選手情報入力!$V$8=\"\",\"\",②選手情報入力!$V$8))))","v":""},{"$f":"IF(E21=\"\",\"\",IF(②選手情報入力!U30=\"\",\"\",IF(K21=1,IF(②選手情報入力!$U$7=\"\",0,1),IF(②選手情報入力!$U$8=\"\",0,1))))","v":""},{"$f":"IF(E21=\"\",\"\",IF(②選手情報入力!U30=\"\",\"\",2))","v":""},{"$f":"IF(E21=\"\",\"\",IF(②選手情報入力!W30=\"\",\"\",IF(K21=1,種目情報!$J$5,種目情報!$J$7)))","v":""},{"$f":"IF(E21=\"\",\"\",IF(②選手情報入力!W30=\"\",\"\",IF(K21=1,IF(②選手情報入力!$X$7=\"\",\"\",②選手情報入力!$X$7),IF(②選手情報入力!$X$8=\"\",\"\",②選手情報入力!$X$8))))","v":""},{"$f":"IF(E21=\"\",\"\",IF(②選手情報入力!W30=\"\",\"\",IF(K21=1,IF(②選手情報入力!$W$7=\"\",0,1),IF(②選手情報入力!$W$8=\"\",0,1))))","v":""},{"$f":"IF(E21=\"\",\"\",IF(②選手情報入力!W30=\"\",\"\",2))","v":""},null,null,{"$f":"IF(②選手情報入力!G30=\"\",\"\",ASC(②選手情報入力!G30))","v":""},{"$f":"IF(②選手情報入力!G30=\"\",\"\",ASC(②選手情報入力!H30))","v":""}]
["",{"$f":"IF(E22=\"\",\"\",①団体情報入力!$C$5)","v":""},null,{"$f":"IF(E22=\"\",\"\",IF(①団体情報入力!C27=\"\",\"\",①団体情報入力!C27))","v":""},{"$f":"IF(②選手情報入力!D31=\"\",\"\",②選手情報入力!D31)","v":""},{"$f":"IF(E22=\"\",\"\",②選手情報入力!E31)","v":""},{"$f":"IF(E22=\"\",\"\",ASC(②選手情報入力!F31))","v":""},"","",{"$f":"IF(E22=\"\",\"\",IF(②選手情報入力!I31=\"\",\"JPN\",LEFT(②選手情報入力!I31,3)))","v":""},{"$f":"IF(E22=\"\",\"\",IF(②選手情報入力!J31=\"男\",1,2))","v":""},{"$f":"IF(E22=\"\",\"\",IF(②選手情報入力!K31=\"\",\"\",②選手情報入力!K31))","v":""},{"$f":"IF(E22=\"\",\"\",LEFT(②選手情報入力!L31,4))","v":""},{"$f":"IF(E22=\"\",\"\",RIGHT(②選手情報入力!L31,4))","v":""},"",null,{"$f":"IF(E22=\"\",\"\",IF(②選手情報入力!M31=\"\",\"\",IF(K22=1,VLOOKUP(②選手情報入力!M31,種目情報!$A$5:$B$167,2,FALSE),VLOOKUP(②選手情報入力!M31,種目情報!$E$5:$F$142,2,FALSE))))","v":""},{"$f":"IF(E22=\"\",\"\",IF(②選手情報入力!N31=\"\",\"\",②選手情報入力!N31))","v":""},null,{"$f":"IF(E22=\"\",\"\",IF(②選手情報入力!M31=\"\",\"\",IF(K22=1,VLOOKUP(②選手情報入力!M31,種目情報!$A$5:$C$135,3,FALSE),VLOOKUP(②選手情報入力!M31,種目情報!$E$5:$G$135,3,FALSE))))","v":""},{"$f":"IF(E22=\"\",\"\",IF(②選手情報入力!P31=\"\",\"\",IF(K22=1,VLOOKUP(②選手情報入力!P31,種目情報!$A$5:$B$151,2,FALSE),VLOOKUP(②選手情報入力!P31,種目情報!$E$5:$F$135,2,FALSE))))","v":""},{"$f":"IF(E22=\"\",\"\",IF(②選手情報入力!Q31=\"\",\"\",②選手情報入力!Q31))","v":""},{"$f":"IF(E22=\"\",\"\",IF(②選手情報入力!O31=\"\",\"\",1))","v":""},{"$f":"IF(E22=\"\",\"\",IF(②選手情報入力!P31=\"\",\"\",IF(K22=1,VLOOKUP(②選手情報入力!P31,種目情報!$A$5:$C$135,3,FALSE),VLOOKUP(②選手情報入力!P31,種目情報!$E$5:$G$135,3,FALSE))))","v":""},{"$f":"IF(E22=\"\",\"\",IF(②選手情報入力!S31=\"\",\"\",IF(K22=1,VLOOKUP(②選手情報入力!S31,種目情報!$A$5:$B$151,2,FALSE),VLOOKUP(②選手情報入力!S31,種目情報!$E$5:$F$135,2,FALSE))))","v":""},{"$f":"IF(E22=\"\",\"\",IF(②選手情報入力!T31=\"\",\"\",②選手情報入力!T31))","v":""},{"$f":"IF(E22=\"\",\"\",IF(②選手情報入力!R31=\"\",\"\",1))","v":""},{"$f":"IF(E22=\"\",\"\",IF(②選手情報入力!S31=\"\",\"\",IF(K22=1,VLOOKUP(②選手情報入力!S31,種目情報!$A$5:$C$135,3,FALSE),VLOOKUP(②選手情報入力!S31,種目情報!$E$5:$G$135,3,FALSE))))","v":""},{"$f":"IF(E22=\"\",\"\",IF(②選手情報入力!U31=\"\",\"\",IF(K22=1,種目情報!$J$4,種目情報!$J$6)))","v":""},{"$f":"IF(E22=\"\",\"\",IF(②選手情報入力!U31=\"\",\"\",IF(K22=1,IF(②選手情報入力!$V$7=\"\",\"\",②選手情報入力!$V$7),IF(②選手情報入力!$V$8=\"\",\"\",②選手情報入力!$V$8))))","v":""},{"$f":"IF(E22=\"\",\"\",IF(②選手情報入力!U31=\"\",\"\",IF(K22=1,IF(②選手情報入力!$U$7=\"\",0,1),IF(②選手情報入力!$U$8=\"\",0,1))))","v":""},{"$f":"IF(E22=\"\",\"\",IF(②選手情報入力!U31=\"\",\"\",2))","v":""},{"$f":"IF(E22=\"\",\"\",IF(②選手情報入力!W31=\"\",\"\",IF(K22=1,種目情報!$J$5,種目情報!$J$7)))","v":""},{"$f":"IF(E22=\"\",\"\",IF(②選手情報入力!W31=\"\",\"\",IF(K22=1,IF(②選手情報入力!$X$7=\"\",\"\",②選手情報入力!$X$7),IF(②選手情報入力!$X$8=\"\",\"\",②選手情報入力!$X$8))))","v":""},{"$f":"IF(E22=\"\",\"\",IF(②選手情報入力!W31=\"\",\"\",IF(K22=1,IF(②選手情報入力!$W$7=\"\",0,1),IF(②選手情報入力!$W$8=\"\",0,1))))","v":""},{"$f":"IF(E22=\"\",\"\",IF(②選手情報入力!W31=\"\",\"\",2))","v":""},null,null,{"$f":"IF(②選手情報入力!G31=\"\",\"\",ASC(②選手情報入力!G31))","v":""},{"$f":"IF(②選手情報入力!G31=\"\",\"\",ASC(②選手情報入力!H31))","v":""}]
["",{"$f":"IF(E23=\"\",\"\",①団体情報入力!$C$5)","v":""},null,{"$f":"IF(E23=\"\",\"\",IF(①団体情報入力!C28=\"\",\"\",①団体情報入力!C28))","v":""},{"$f":"IF(②選手情報入力!D32=\"\",\"\",②選手情報入力!D32)","v":""},{"$f":"IF(E23=\"\",\"\",②選手情報入力!E32)","v":""},{"$f":"IF(E23=\"\",\"\",ASC(②選手情報入力!F32))","v":""},"","",{"$f":"IF(E23=\"\",\"\",IF(②選手情報入力!I32=\"\",\"JPN\",LEFT(②選手情報入力!I32,3)))","v":""},{"$f":"IF(E23=\"\",\"\",IF(②選手情報入力!J32=\"男\",1,2))","v":""},{"$f":"IF(E23=\"\",\"\",IF(②選手情報入力!K32=\"\",\"\",②選手情報入力!K32))","v":""},{"$f":"IF(E23=\"\",\"\",LEFT(②選手情報入力!L32,4))","v":""},{"$f":"IF(E23=\"\",\"\",RIGHT(②選手情報入力!L32,4))","v":""},"",null,{"$f":"IF(E23=\"\",\"\",IF(②選手情報入力!M32=\"\",\"\",IF(K23=1,VLOOKUP(②選手情報入力!M32,種目情報!$A$5:$B$167,2,FALSE),VLOOKUP(②選手情報入力!M32,種目情報!$E$5:$F$142,2,FALSE))))","v":""},{"$f":"IF(E23=\"\",\"\",IF(②選手情報入力!N32=\"\",\"\",②選手情報入力!N32))","v":""},null,{"$f":"IF(E23=\"\",\"\",IF(②選手情報入力!M32=\"\",\"\",IF(K23=1,VLOOKUP(②選手情報入力!M32,種目情報!$A$5:$C$135,3,FALSE),VLOOKUP(②選手情報入力!M32,種目情報!$E$5:$G$135,3,FALSE))))","v":""},{"$f":"IF(E23=\"\",\"\",IF(②選手情報入力!P32=\"\",\"\",IF(K23=1,VLOOKUP(②選手情報入力!P32,種目情報!$A$5:$B$151,2,FALSE),VLOOKUP(②選手情報入力!P32,種目情報!$E$5:$F$135,2,FALSE))))","v":""},{"$f":"IF(E23=\"\",\"\",IF(②選手情報入力!Q32=\"\",\"\",②選手情報入力!Q32))","v":""},{"$f":"IF(E23=\"\",\"\",IF(②選手情報入力!O32=\"\",\"\",1))","v":""},{"$f":"IF(E23=\"\",\"\",IF(②選手情報入力!P32=\"\",\"\",IF(K23=1,VLOOKUP(②選手情報入力!P32,種目情報!$A$5:$C$135,3,FALSE),VLOOKUP(②選手情報入力!P32,種目情報!$E$5:$G$135,3,FALSE))))","v":""},{"$f":"IF(E23=\"\",\"\",IF(②選手情報入力!S32=\"\",\"\",IF(K23=1,VLOOKUP(②選手情報入力!S32,種目情報!$A$5:$B$151,2,FALSE),VLOOKUP(②選手情報入力!S32,種目情報!$E$5:$F$135,2,FALSE))))","v":""},{"$f":"IF(E23=\"\",\"\",IF(②選手情報入力!T32=\"\",\"\",②選手情報入力!T32))","v":""},{"$f":"IF(E23=\"\",\"\",IF(②選手情報入力!R32=\"\",\"\",1))","v":""},{"$f":"IF(E23=\"\",\"\",IF(②選手情報入力!S32=\"\",\"\",IF(K23=1,VLOOKUP(②選手情報入力!S32,種目情報!$A$5:$C$135,3,FALSE),VLOOKUP(②選手情報入力!S32,種目情報!$E$5:$G$135,3,FALSE))))","v":""},{"$f":"IF(E23=\"\",\"\",IF(②選手情報入力!U32=\"\",\"\",IF(K23=1,種目情報!$J$4,種目情報!$J$6)))","v":""},{"$f":"IF(E23=\"\",\"\",IF(②選手情報入力!U32=\"\",\"\",IF(K23=1,IF(②選手情報入力!$V$7=\"\",\"\",②選手情報入力!$V$7),IF(②選手情報入力!$V$8=\"\",\"\",②選手情報入力!$V$8))))","v":""},{"$f":"IF(E23=\"\",\"\",IF(②選手情報入力!U32=\"\",\"\",IF(K23=1,IF(②選手情報入力!$U$7=\"\",0,1),IF(②選手情報入力!$U$8=\"\",0,1))))","v":""},{"$f":"IF(E23=\"\",\"\",IF(②選手情報入力!U32=\"\",\"\",2))","v":""},{"$f":"IF(E23=\"\",\"\",IF(②選手情報入力!W32=\"\",\"\",IF(K23=1,種目情報!$J$5,種目情報!$J$7)))","v":""},{"$f":"IF(E23=\"\",\"\",IF(②選手情報入力!W32=\"\",\"\",IF(K23=1,IF(②選手情報入力!$X$7=\"\",\"\",②選手情報入力!$X$7),IF(②選手情報入力!$X$8=\"\",\"\",②選手情報入力!$X$8))))","v":""},{"$f":"IF(E23=\"\",\"\",IF(②選手情報入力!W32=\"\",\"\",IF(K23=1,IF(②選手情報入力!$W$7=\"\",0,1),IF(②選手情報入力!$W$8=\"\",0,1))))","v":""},{"$f":"IF(E23=\"\",\"\",IF(②選手情報入力!W32=\"\",\"\",2))","v":""},null,null,{"$f":"IF(②選手情報入力!G32=\"\",\"\",ASC(②選手情報入力!G32))","v":""},{"$f":"IF(②選手情報入力!G32=\"\",\"\",ASC(②選手情報入力!H32))","v":""}]
["",{"$f":"IF(E24=\"\",\"\",①団体情報入力!$C$5)","v":""},null,{"$f":"IF(E24=\"\",\"\",IF(①団体情報入力!C29=\"\",\"\",①団体情報入力!C29))","v":""},{"$f":"IF(②選手情報入力!D33=\"\",\"\",②選手情報入力!D33)","v":""},{"$f":"IF(E24=\"\",\"\",②選手情報入力!E33)","v":""},{"$f":"IF(E24=\"\",\"\",ASC(②選手情報入力!F33))","v":""},"","",{"$f":"IF(E24=\"\",\"\",IF(②選手情報入力!I33=\"\",\"JPN\",LEFT(②選手情報入力!I33,3)))","v":""},{"$f":"IF(E24=\"\",\"\",IF(②選手情報入力!J33=\"男\",1,2))","v":""},{"$f":"IF(E24=\"\",\"\",IF(②選手情報入力!K33=\"\",\"\",②選手情報入力!K33))","v":""},{"$f":"IF(E24=\"\",\"\",LEFT(②選手情報入力!L33,4))","v":""},{"$f":"IF(E24=\"\",\"\",RIGHT(②選手情報入力!L33,4))","v":""},"",null,{"$f":"IF(E24=\"\",\"\",IF(②選手情報入力!M33=\"\",\"\",IF(K24=1,VLOOKUP(②選手情報入力!M33,種目情報!$A$5:$B$167,2,FALSE),VLOOKUP(②選手情報入力!M33,種目情報!$E$5:$F$142,2,FALSE))))","v":""},{"$f":"IF(E24=\"\",\"\",IF(②選手情報入力!N33=\"\",\"\",②選手情報入力!N33))","v":""},null,{"$f":"IF(E24=\"\",\"\",IF(②選手情報入力!M33=\"\",\"\",IF(K24=1,VLOOKUP(②選手情報入力!M33,種目情報!$A$5:$C$135,3,FALSE),VLOOKUP(②選手情報入力!M33,種目情報!$E$5:$G$135,3,FALSE))))","v":""},{"$f":"IF(E24=\"\",\"\",IF(②選手情報入力!P33=\"\",\"\",IF(K24=1,VLOOKUP(②選手情報入力!P33,種目情報!$A$5:$B$151,2,FALSE),VLOOKUP(②選手情報入力!P33,種目情報!$E$5:$F$135,2,FALSE))))","v":""},{"$f":"IF(E24=\"\",\"\",IF(②選手情報入力!Q33=\"\",\"\",②選手情報入力!Q33))","v":""},{"$f":"IF(E24=\"\",\"\",IF(②選手情報入力!O33=\"\",\"\",1))","v":""},{"$f":"IF(E24=\"\",\"\",IF(②選手情報入力!P33=\"\",\"\",IF(K24=1,VLOOKUP(②選手情報入力!P33,種目情報!$A$5:$C$135,3,FALSE),VLOOKUP(②選手情報入力!P33,種目情報!$E$5:$G$135,3,FALSE))))","v":""},{"$f":"IF(E24=\"\",\"\",IF(②選手情報入力!S33=\"\",\"\",IF(K24=1,VLOOKUP(②選手情報入力!S33,種目情報!$A$5:$B$151,2,FALSE),VLOOKUP(②選手情報入力!S33,種目情報!$E$5:$F$135,2,FALSE))))","v":""},{"$f":"IF(E24=\"\",\"\",IF(②選手情報入力!T33=\"\",\"\",②選手情報入力!T33))","v":""},{"$f":"IF(E24=\"\",\"\",IF(②選手情報入力!R33=\"\",\"\",1))","v":""},{"$f":"IF(E24=\"\",\"\",IF(②選手情報入力!S33=\"\",\"\",IF(K24=1,VLOOKUP(②選手情報入力!S33,種目情報!$A$5:$C$135,3,FALSE),VLOOKUP(②選手情報入力!S33,種目情報!$E$5:$G$135,3,FALSE))))","v":""},{"$f":"IF(E24=\"\",\"\",IF(②選手情報入力!U33=\"\",\"\",IF(K24=1,種目情報!$J$4,種目情報!$J$6)))","v":""},{"$f":"IF(E24=\"\",\"\",IF(②選手情報入力!U33=\"\",\"\",IF(K24=1,IF(②選手情報入力!$V$7=\"\",\"\",②選手情報入力!$V$7),IF(②選手情報入力!$V$8=\"\",\"\",②選手情報入力!$V$8))))","v":""},{"$f":"IF(E24=\"\",\"\",IF(②選手情報入力!U33=\"\",\"\",IF(K24=1,IF(②選手情報入力!$U$7=\"\",0,1),IF(②選手情報入力!$U$8=\"\",0,1))))","v":""},{"$f":"IF(E24=\"\",\"\",IF(②選手情報入力!U33=\"\",\"\",2))","v":""},{"$f":"IF(E24=\"\",\"\",IF(②選手情報入力!W33=\"\",\"\",IF(K24=1,種目情報!$J$5,種目情報!$J$7)))","v":""},{"$f":"IF(E24=\"\",\"\",IF(②選手情報入力!W33=\"\",\"\",IF(K24=1,IF(②選手情報入力!$X$7=\"\",\"\",②選手情報入力!$X$7),IF(②選手情報入力!$X$8=\"\",\"\",②選手情報入力!$X$8))))","v":""},{"$f":"IF(E24=\"\",\"\",IF(②選手情報入力!W33=\"\",\"\",IF(K24=1,IF(②選手情報入力!$W$7=\"\",0,1),IF(②選手情報入力!$W$8=\"\",0,1))))","v":""},{"$f":"IF(E24=\"\",\"\",IF(②選手情報入力!W33=\"\",\"\",2))","v":""},null,null,{"$f":"IF(②選手情報入力!G33=\"\",\"\",ASC(②選手情報入力!G33))","v":""},{"$f":"IF(②選手情報入力!G33=\"\",\"\",ASC(②選手情報入力!H33))","v":""}]
["",{"$f":"IF(E25=\"\",\"\",①団体情報入力!$C$5)","v":""},null,{"$f":"IF(E25=\"\",\"\",IF(①団体情報入力!C30=\"\",\"\",①団体情報入力!C30))","v":""},{"$f":"IF(②選手情報入力!D34=\"\",\"\",②選手情報入力!D34)","v":""},{"$f":"IF(E25=\"\",\"\",②選手情報入力!E34)","v":""},{"$f":"IF(E25=\"\",\"\",ASC(②選手情報入力!F34))","v":""},"","",{"$f":"IF(E25=\"\",\"\",IF(②選手情報入力!I34=\"\",\"JPN\",LEFT(②選手情報入力!I34,3)))","v":""},{"$f":"IF(E25=\"\",\"\",IF(②選手情報入力!J34=\"男\",1,2))","v":""},{"$f":"IF(E25=\"\",\"\",IF(②選手情報入力!K34=\"\",\"\",②選手情報入力!K34))","v":""},{"$f":"IF(E25=\"\",\"\",LEFT(②選手情報入力!L34,4))","v":""},{"$f":"IF(E25=\"\",\"\",RIGHT(②選手情報入力!L34,4))","v":""},"",null,{"$f":"IF(E25=\"\",\"\",IF(②選手情報入力!M34=\"\",\"\",IF(K25=1,VLOOKUP(②選手情報入力!M34,種目情報!$A$5:$B$167,2,FALSE),VLOOKUP(②選手情報入力!M34,種目情報!$E$5:$F$142,2,FALSE))))","v":""},{"$f":"IF(E25=\"\",\"\",IF(②選手情報入力!N34=\"\",\"\",②選手情報入力!N34))","v":""},null,{"$f":"IF(E25=\"\",\"\",IF(②選手情報入力!M34=\"\",\"\",IF(K25=1,VLOOKUP(②選手情報入力!M34,種目情報!$A$5:$C$135,3,FALSE),VLOOKUP(②選手情報入力!M34,種目情報!$E$5:$G$135,3,FALSE))))","v":""},{"$f":"IF(E25=\"\",\"\",IF(②選手情報入力!P34=\"\",\"\",IF(K25=1,VLOOKUP(②選手情報入力!P34,種目情報!$A$5:$B$151,2,FALSE),VLOOKUP(②選手情報入力!P34,種目情報!$E$5:$F$135,2,FALSE))))","v":""},{"$f":"IF(E25=\"\",\"\",IF(②選手情報入力!Q34=\"\",\"\",②選手情報入力!Q34))","v":""},{"$f":"IF(E25=\"\",\"\",IF(②選手情報入力!O34=\"\",\"\",1))","v":""},{"$f":"IF(E25=\"\",\"\",IF(②選手情報入力!P34=\"\",\"\",IF(K25=1,VLOOKUP(②選手情報入力!P34,種目情報!$A$5:$C$135,3,FALSE),VLOOKUP(②選手情報入力!P34,種目情報!$E$5:$G$135,3,FALSE))))","v":""},{"$f":"IF(E25=\"\",\"\",IF(②選手情報入力!S34=\"\",\"\",IF(K25=1,VLOOKUP(②選手情報入力!S34,種目情報!$A$5:$B$151,2,FALSE),VLOOKUP(②選手情報入力!S34,種目情報!$E$5:$F$135,2,FALSE))))","v":""},{"$f":"IF(E25=\"\",\"\",IF(②選手情報入力!T34=\"\",\"\",②選手情報入力!T34))","v":""},{"$f":"IF(E25=\"\",\"\",IF(②選手情報入力!R34=\"\",\"\",1))","v":""},{"$f":"IF(E25=\"\",\"\",IF(②選手情報入力!S34=\"\",\"\",IF(K25=1,VLOOKUP(②選手情報入力!S34,種目情報!$A$5:$C$135,3,FALSE),VLOOKUP(②選手情報入力!S34,種目情報!$E$5:$G$135,3,FALSE))))","v":""},{"$f":"IF(E25=\"\",\"\",IF(②選手情報入力!U34=\"\",\"\",IF(K25=1,種目情報!$J$4,種目情報!$J$6)))","v":""},{"$f":"IF(E25=\"\",\"\",IF(②選手情報入力!U34=\"\",\"\",IF(K25=1,IF(②選手情報入力!$V$7=\"\",\"\",②選手情報入力!$V$7),IF(②選手情報入力!$V$8=\"\",\"\",②選手情報入力!$V$8))))","v":""},{"$f":"IF(E25=\"\",\"\",IF(②選手情報入力!U34=\"\",\"\",IF(K25=1,IF(②選手情報入力!$U$7=\"\",0,1),IF(②選手情報入力!$U$8=\"\",0,1))))","v":""},{"$f":"IF(E25=\"\",\"\",IF(②選手情報入力!U34=\"\",\"\",2))","v":""},{"$f":"IF(E25=\"\",\"\",IF(②選手情報入力!W34=\"\",\"\",IF(K25=1,種目情報!$J$5,種目情報!$J$7)))","v":""},{"$f":"IF(E25=\"\",\"\",IF(②選手情報入力!W34=\"\",\"\",IF(K25=1,IF(②選手情報入力!$X$7=\"\",\"\",②選手情報入力!$X$7),IF(②選手情報入力!$X$8=\"\",\"\",②選手情報入力!$X$8))))","v":""},{"$f":"IF(E25=\"\",\"\",IF(②選手情報入力!W34=\"\",\"\",IF(K25=1,IF(②選手情報入力!$W$7=\"\",0,1),IF(②選手情報入力!$W$8=\"\",0,1))))","v":""},{"$f":"IF(E25=\"\",\"\",IF(②選手情報入力!W34=\"\",\"\",2))","v":""},null,null,{"$f":"IF(②選手情報入力!G34=\"\",\"\",ASC(②選手情報入力!G34))","v":""},{"$f":"IF(②選手情報入力!G34=\"\",\"\",ASC(②選手情報入力!H34))","v":""}]
["",{"$f":"IF(E26=\"\",\"\",①団体情報入力!$C$5)","v":""},null,{"$f":"IF(E26=\"\",\"\",IF(①団体情報入力!C31=\"\",\"\",①団体情報入力!C31))","v":""},{"$f":"IF(②選手情報入力!D35=\"\",\"\",②選手情報入力!D35)","v":""},{"$f":"IF(E26=\"\",\"\",②選手情報入力!E35)","v":""},{"$f":"IF(E26=\"\",\"\",ASC(②選手情報入力!F35))","v":""},"","",{"$f":"IF(E26=\"\",\"\",IF(②選手情報入力!I35=\"\",\"JPN\",LEFT(②選手情報入力!I35,3)))","v":""},{"$f":"IF(E26=\"\",\"\",IF(②選手情報入力!J35=\"男\",1,2))","v":""},{"$f":"IF(E26=\"\",\"\",IF(②選手情報入力!K35=\"\",\"\",②選手情報入力!K35))","v":""},{"$f":"IF(E26=\"\",\"\",LEFT(②選手情報入力!L35,4))","v":""},{"$f":"IF(E26=\"\",\"\",RIGHT(②選手情報入力!L35,4))","v":""},"",null,{"$f":"IF(E26=\"\",\"\",IF(②選手情報入力!M35=\"\",\"\",IF(K26=1,VLOOKUP(②選手情報入力!M35,種目情報!$A$5:$B$167,2,FALSE),VLOOKUP(②選手情報入力!M35,種目情報!$E$5:$F$142,2,FALSE))))","v":""},{"$f":"IF(E26=\"\",\"\",IF(②選手情報入力!N35=\"\",\"\",②選手情報入力!N35))","v":""},null,{"$f":"IF(E26=\"\",\"\",IF(②選手情報入力!M35=\"\",\"\",IF(K26=1,VLOOKUP(②選手情報入力!M35,種目情報!$A$5:$C$135,3,FALSE),VLOOKUP(②選手情報入力!M35,種目情報!$E$5:$G$135,3,FALSE))))","v":""},{"$f":"IF(E26=\"\",\"\",IF(②選手情報入力!P35=\"\",\"\",IF(K26=1,VLOOKUP(②選手情報入力!P35,種目情報!$A$5:$B$151,2,FALSE),VLOOKUP(②選手情報入力!P35,種目情報!$E$5:$F$135,2,FALSE))))","v":""},{"$f":"IF(E26=\"\",\"\",IF(②選手情報入力!Q35=\"\",\"\",②選手情報入力!Q35))","v":""},{"$f":"IF(E26=\"\",\"\",IF(②選手情報入力!O35=\"\",\"\",1))","v":""},{"$f":"IF(E26=\"\",\"\",IF(②選手情報入力!P35=\"\",\"\",IF(K26=1,VLOOKUP(②選手情報入力!P35,種目情報!$A$5:$C$135,3,FALSE),VLOOKUP(②選手情報入力!P35,種目情報!$E$5:$G$135,3,FALSE))))","v":""},{"$f":"IF(E26=\"\",\"\",IF(②選手情報入力!S35=\"\",\"\",IF(K26=1,VLOOKUP(②選手情報入力!S35,種目情報!$A$5:$B$151,2,FALSE),VLOOKUP(②選手情報入力!S35,種目情報!$E$5:$F$135,2,FALSE))))","v":""},{"$f":"IF(E26=\"\",\"\",IF(②選手情報入力!T35=\"\",\"\",②選手情報入力!T35))","v":""},{"$f":"IF(E26=\"\",\"\",IF(②選手情報入力!R35=\"\",\"\",1))","v":""},{"$f":"IF(E26=\"\",\"\",IF(②選手情報入力!S35=\"\",\"\",IF(K26=1,VLOOKUP(②選手情報入力!S35,種目情報!$A$5:$C$135,3,FALSE),VLOOKUP(②選手情報入力!S35,種目情報!$E$5:$G$135,3,FALSE))))","v":""},{"$f":"IF(E26=\"\",\"\",IF(②選手情報入力!U35=\"\",\"\",IF(K26=1,種目情報!$J$4,種目情報!$J$6)))","v":""},{"$f":"IF(E26=\"\",\"\",IF(②選手情報入力!U35=\"\",\"\",IF(K26=1,IF(②選手情報入力!$V$7=\"\",\"\",②選手情報入力!$V$7),IF(②選手情報入力!$V$8=\"\",\"\",②選手情報入力!$V$8))))","v":""},{"$f":"IF(E26=\"\",\"\",IF(②選手情報入力!U35=\"\",\"\",IF(K26=1,IF(②選手情報入力!$U$7=\"\",0,1),IF(②選手情報入力!$U$8=\"\",0,1))))","v":""},{"$f":"IF(E26=\"\",\"\",IF(②選手情報入力!U35=\"\",\"\",2))","v":""},{"$f":"IF(E26=\"\",\"\",IF(②選手情報入力!W35=\"\",\"\",IF(K26=1,種目情報!$J$5,種目情報!$J$7)))","v":""},{"$f":"IF(E26=\"\",\"\",IF(②選手情報入力!W35=\"\",\"\",IF(K26=1,IF(②選手情報入力!$X$7=\"\",\"\",②選手情報入力!$X$7),IF(②選手情報入力!$X$8=\"\",\"\",②選手情報入力!$X$8))))","v":""},{"$f":"IF(E26=\"\",\"\",IF(②選手情報入力!W35=\"\",\"\",IF(K26=1,IF(②選手情報入力!$W$7=\"\",0,1),IF(②選手情報入力!$W$8=\"\",0,1))))","v":""},{"$f":"IF(E26=\"\",\"\",IF(②選手情報入力!W35=\"\",\"\",2))","v":""},null,null,{"$f":"IF(②選手情報入力!G35=\"\",\"\",ASC(②選手情報入力!G35))","v":""},{"$f":"IF(②選手情報入力!G35=\"\",\"\",ASC(②選手情報入力!H35))","v":""}]
["",{"$f":"IF(E27=\"\",\"\",①団体情報入力!$C$5)","v":""},null,{"$f":"IF(E27=\"\",\"\",IF(①団体情報入力!C32=\"\",\"\",①団体情報入力!C32))","v":""},{"$f":"IF(②選手情報入力!D36=\"\",\"\",②選手情報入力!D36)","v":""},{"$f":"IF(E27=\"\",\"\",②選手情報入力!E36)","v":""},{"$f":"IF(E27=\"\",\"\",ASC(②選手情報入力!F36))","v":""},"","",{"$f":"IF(E27=\"\",\"\",IF(②選手情報入力!I36=\"\",\"JPN\",LEFT(②選手情報入力!I36,3)))","v":""},{"$f":"IF(E27=\"\",\"\",IF(②選手情報入力!J36=\"男\",1,2))","v":""},{"$f":"IF(E27=\"\",\"\",IF(②選手情報入力!K36=\"\",\"\",②選手情報入力!K36))","v":""},{"$f":"IF(E27=\"\",\"\",LEFT(②選手情報入力!L36,4))","v":""},{"$f":"IF(E27=\"\",\"\",RIGHT(②選手情報入力!L36,4))","v":""},"",null,{"$f":"IF(E27=\"\",\"\",IF(②選手情報入力!M36=\"\",\"\",IF(K27=1,VLOOKUP(②選手情報入力!M36,種目情報!$A$5:$B$167,2,FALSE),VLOOKUP(②選手情報入力!M36,種目情報!$E$5:$F$142,2,FALSE))))","v":""},{"$f":"IF(E27=\"\",\"\",IF(②選手情報入力!N36=\"\",\"\",②選手情報入力!N36))","v":""},null,{"$f":"IF(E27=\"\",\"\",IF(②選手情報入力!M36=\"\",\"\",IF(K27=1,VLOOKUP(②選手情報入力!M36,種目情報!$A$5:$C$135,3,FALSE),VLOOKUP(②選手情報入力!M36,種目情報!$E$5:$G$135,3,FALSE))))","v":""},{"$f":"IF(E27=\"\",\"\",IF(②選手情報入力!P36=\"\",\"\",IF(K27=1,VLOOKUP(②選手情報入力!P36,種目情報!$A$5:$B$151,2,FALSE),VLOOKUP(②選手情報入力!P36,種目情報!$E$5:$F$135,2,FALSE))))","v":""},{"$f":"IF(E27=\"\",\"\",IF(②選手情報入力!Q36=\"\",\"\",②選手情報入力!Q36))","v":""},{"$f":"IF(E27=\"\",\"\",IF(②選手情報入力!O36=\"\",\"\",1))","v":""},{"$f":"IF(E27=\"\",\"\",IF(②選手情報入力!P36=\"\",\"\",IF(K27=1,VLOOKUP(②選手情報入力!P36,種目情報!$A$5:$C$135,3,FALSE),VLOOKUP(②選手情報入力!P36,種目情報!$E$5:$G$135,3,FALSE))))","v":""},{"$f":"IF(E27=\"\",\"\",IF(②選手情報入力!S36=\"\",\"\",IF(K27=1,VLOOKUP(②選手情報入力!S36,種目情報!$A$5:$B$151,2,FALSE),VLOOKUP(②選手情報入力!S36,種目情報!$E$5:$F$135,2,FALSE))))","v":""},{"$f":"IF(E27=\"\",\"\",IF(②選手情報入力!T36=\"\",\"\",②選手情報入力!T36))","v":""},{"$f":"IF(E27=\"\",\"\",IF(②選手情報入力!R36=\"\",\"\",1))","v":""},{"$f":"IF(E27=\"\",\"\",IF(②選手情報入力!S36=\"\",\"\",IF(K27=1,VLOOKUP(②選手情報入力!S36,種目情報!$A$5:$C$135,3,FALSE),VLOOKUP(②選手情報入力!S36,種目情報!$E$5:$G$135,3,FALSE))))","v":""},{"$f":"IF(E27=\"\",\"\",IF(②選手情報入力!U36=\"\",\"\",IF(K27=1,種目情報!$J$4,種目情報!$J$6)))","v":""},{"$f":"IF(E27=\"\",\"\",IF(②選手情報入力!U36=\"\",\"\",IF(K27=1,IF(②選手情報入力!$V$7=\"\",\"\",②選手情報入力!$V$7),IF(②選手情報入力!$V$8=\"\",\"\",②選手情報入力!$V$8))))","v":""},{"$f":"IF(E27=\"\",\"\",IF(②選手情報入力!U36=\"\",\"\",IF(K27=1,IF(②選手情報入力!$U$7=\"\",0,1),IF(②選手情報入力!$U$8=\"\",0,1))))","v":""},{"$f":"IF(E27=\"\",\"\",IF(②選手情報入力!U36=\"\",\"\",2))","v":""},{"$f":"IF(E27=\"\",\"\",IF(②選手情報入力!W36=\"\",\"\",IF(K27=1,種目情報!$J$5,種目情報!$J$7)))","v":""},{"$f":"IF(E27=\"\",\"\",IF(②選手情報入力!W36=\"\",\"\",IF(K27=1,IF(②選手情報入力!$X$7=\"\",\"\",②選手情報入力!$X$7),IF(②選手情報入力!$X$8=\"\",\"\",②選手情報入力!$X$8))))","v":""},{"$f":"IF(E27=\"\",\"\",IF(②選手情報入力!W36=\"\",\"\",IF(K27=1,IF(②選手情報入力!$W$7=\"\",0,1),IF(②選手情報入力!$W$8=\"\",0,1))))","v":""},{"$f":"IF(E27=\"\",\"\",IF(②選手情報入力!W36=\"\",\"\",2))","v":""},null,null,{"$f":"IF(②選手情報入力!G36=\"\",\"\",ASC(②選手情報入力!G36))","v":""},{"$f":"IF(②選手情報入力!G36=\"\",\"\",ASC(②選手情報入力!H36))","v":""}]
["",{"$f":"IF(E28=\"\",\"\",①団体情報入力!$C$5)","v":""},null,{"$f":"IF(E28=\"\",\"\",IF(①団体情報入力!C33=\"\",\"\",①団体情報入力!C33))","v":""},{"$f":"IF(②選手情報入力!D37=\"\",\"\",②選手情報入力!D37)","v":""},{"$f":"IF(E28=\"\",\"\",②選手情報入力!E37)","v":""},{"$f":"IF(E28=\"\",\"\",ASC(②選手情報入力!F37))","v":""},"","",{"$f":"IF(E28=\"\",\"\",IF(②選手情報入力!I37=\"\",\"JPN\",LEFT(②選手情報入力!I37,3)))","v":""},{"$f":"IF(E28=\"\",\"\",IF(②選手情報入力!J37=\"男\",1,2))","v":""},{"$f":"IF(E28=\"\",\"\",IF(②選手情報入力!K37=\"\",\"\",②選手情報入力!K37))","v":""},{"$f":"IF(E28=\"\",\"\",LEFT(②選手情報入力!L37,4))","v":""},{"$f":"IF(E28=\"\",\"\",RIGHT(②選手情報入力!L37,4))","v":""},"",null,{"$f":"IF(E28=\"\",\"\",IF(②選手情報入力!M37=\"\",\"\",IF(K28=1,VLOOKUP(②選手情報入力!M37,種目情報!$A$5:$B$167,2,FALSE),VLOOKUP(②選手情報入力!M37,種目情報!$E$5:$F$142,2,FALSE))))","v":""},{"$f":"IF(E28=\"\",\"\",IF(②選手情報入力!N37=\"\",\"\",②選手情報入力!N37))","v":""},null,{"$f":"IF(E28=\"\",\"\",IF(②選手情報入力!M37=\"\",\"\",IF(K28=1,VLOOKUP(②選手情報入力!M37,種目情報!$A$5:$C$135,3,FALSE),VLOOKUP(②選手情報入力!M37,種目情報!$E$5:$G$135,3,FALSE))))","v":""},{"$f":"IF(E28=\"\",\"\",IF(②選手情報入力!P37=\"\",\"\",IF(K28=1,VLOOKUP(②選手情報入力!P37,種目情報!$A$5:$B$151,2,FALSE),VLOOKUP(②選手情報入力!P37,種目情報!$E$5:$F$135,2,FALSE))))","v":""},{"$f":"IF(E28=\"\",\"\",IF(②選手情報入力!Q37=\"\",\"\",②選手情報入力!Q37))","v":""},{"$f":"IF(E28=\"\",\"\",IF(②選手情報入力!O37=\"\",\"\",1))","v":""},{"$f":"IF(E28=\"\",\"\",IF(②選手情報入力!P37=\"\",\"\",IF(K28=1,VLOOKUP(②選手情報入力!P37,種目情報!$A$5:$C$135,3,FALSE),VLOOKUP(②選手情報入力!P37,種目情報!$E$5:$G$135,3,FALSE))))","v":""},{"$f":"IF(E28=\"\",\"\",IF(②選手情報入力!S37=\"\",\"\",IF(K28=1,VLOOKUP(②選手情報入力!S37,種目情報!$A$5:$B$151,2,FALSE),VLOOKUP(②選手情報入力!S37,種目情報!$E$5:$F$135,2,FALSE))))","v":""},{"$f":"IF(E28=\"\",\"\",IF(②選手情報入力!T37=\"\",\"\",②選手情報入力!T37))","v":""},{"$f":"IF(E28=\"\",\"\",IF(②選手情報入力!R37=\"\",\"\",1))","v":""},{"$f":"IF(E28=\"\",\"\",IF(②選手情報入力!S37=\"\",\"\",IF(K28=1,VLOOKUP(②選手情報入力!S37,種目情報!$A$5:$C$135,3,FALSE),VLOOKUP(②選手情報入力!S37,種目情報!$E$5:$G$135,3,FALSE))))","v":""},{"$f":"IF(E28=\"\",\"\",IF(②選手情報入力!U37=\"\",\"\",IF(K28=1,種目情報!$J$4,種目情報!$J$6)))","v":""},{"$f":"IF(E28=\"\",\"\",IF(②選手情報入力!U37=\"\",\"\",IF(K28=1,IF(②選手情報入力!$V$7=\"\",\"\",②選手情報入力!$V$7),IF(②選手情報入力!$V$8=\"\",\"\",②選手情報入力!$V$8))))","v":""},{"$f":"IF(E28=\"\",\"\",IF(②選手情報入力!U37=\"\",\"\",IF(K28=1,IF(②選手情報入力!$U$7=\"\",0,1),IF(②選手情報入力!$U$8=\"\",0,1))))","v":""},{"$f":"IF(E28=\"\",\"\",IF(②選手情報入力!U37=\"\",\"\",2))","v":""},{"$f":"IF(E28=\"\",\"\",IF(②選手情報入力!W37=\"\",\"\",IF(K28=1,種目情報!$J$5,種目情報!$J$7)))","v":""},{"$f":"IF(E28=\"\",\"\",IF(②選手情報入力!W37=\"\",\"\",IF(K28=1,IF(②選手情報入力!$X$7=\"\",\"\",②選手情報入力!$X$7),IF(②選手情報入力!$X$8=\"\",\"\",②選手情報入力!$X$8))))","v":""},{"$f":"IF(E28=\"\",\"\",IF(②選手情報入力!W37=\"\",\"\",IF(K28=1,IF(②選手情報入力!$W$7=\"\",0,1),IF(②選手情報入力!$W$8=\"\",0,1))))","v":""},{"$f":"IF(E28=\"\",\"\",IF(②選手情報入力!W37=\"\",\"\",2))","v":""},null,null,{"$f":"IF(②選手情報入力!G37=\"\",\"\",ASC(②選手情報入力!G37))","v":""},{"$f":"IF(②選手情報入力!G37=\"\",\"\",ASC(②選手情報入力!H37))","v":""}]
["",{"$f":"IF(E29=\"\",\"\",①団体情報入力!$C$5)","v":""},null,{"$f":"IF(E29=\"\",\"\",IF(①団体情報入力!C34=\"\",\"\",①団体情報入力!C34))","v":""},{"$f":"IF(②選手情報入力!D38=\"\",\"\",②選手情報入力!D38)","v":""},{"$f":"IF(E29=\"\",\"\",②選手情報入力!E38)","v":""},{"$f":"IF(E29=\"\",\"\",ASC(②選手情報入力!F38))","v":""},"","",{"$f":"IF(E29=\"\",\"\",IF(②選手情報入力!I38=\"\",\"JPN\",LEFT(②選手情報入力!I38,3)))","v":""},{"$f":"IF(E29=\"\",\"\",IF(②選手情報入力!J38=\"男\",1,2))","v":""},{"$f":"IF(E29=\"\",\"\",IF(②選手情報入力!K38=\"\",\"\",②選手情報入力!K38))","v":""},{"$f":"IF(E29=\"\",\"\",LEFT(②選手情報入力!L38,4))","v":""},{"$f":"IF(E29=\"\",\"\",RIGHT(②選手情報入力!L38,4))","v":""},"",null,{"$f":"IF(E29=\"\",\"\",IF(②選手情報入力!M38=\"\",\"\",IF(K29=1,VLOOKUP(②選手情報入力!M38,種目情報!$A$5:$B$167,2,FALSE),VLOOKUP(②選手情報入力!M38,種目情報!$E$5:$F$142,2,FALSE))))","v":""},{"$f":"IF(E29=\"\",\"\",IF(②選手情報入力!N38=\"\",\"\",②選手情報入力!N38))","v":""},null,{"$f":"IF(E29=\"\",\"\",IF(②選手情報入力!M38=\"\",\"\",IF(K29=1,VLOOKUP(②選手情報入力!M38,種目情報!$A$5:$C$135,3,FALSE),VLOOKUP(②選手情報入力!M38,種目情報!$E$5:$G$135,3,FALSE))))","v":""},{"$f":"IF(E29=\"\",\"\",IF(②選手情報入力!P38=\"\",\"\",IF(K29=1,VLOOKUP(②選手情報入力!P38,種目情報!$A$5:$B$151,2,FALSE),VLOOKUP(②選手情報入力!P38,種目情報!$E$5:$F$135,2,FALSE))))","v":""},{"$f":"IF(E29=\"\",\"\",IF(②選手情報入力!Q38=\"\",\"\",②選手情報入力!Q38))","v":""},{"$f":"IF(E29=\"\",\"\",IF(②選手情報入力!O38=\"\",\"\",1))","v":""},{"$f":"IF(E29=\"\",\"\",IF(②選手情報入力!P38=\"\",\"\",IF(K29=1,VLOOKUP(②選手情報入力!P38,種目情報!$A$5:$C$135,3,FALSE),VLOOKUP(②選手情報入力!P38,種目情報!$E$5:$G$135,3,FALSE))))","v":""},{"$f":"IF(E29=\"\",\"\",IF(②選手情報入力!S38=\"\",\"\",IF(K29=1,VLOOKUP(②選手情報入力!S38,種目情報!$A$5:$B$151,2,FALSE),VLOOKUP(②選手情報入力!S38,種目情報!$E$5:$F$135,2,FALSE))))","v":""},{"$f":"IF(E29=\"\",\"\",IF(②選手情報入力!T38=\"\",\"\",②選手情報入力!T38))","v":""},{"$f":"IF(E29=\"\",\"\",IF(②選手情報入力!R38=\"\",\"\",1))","v":""},{"$f":"IF(E29=\"\",\"\",IF(②選手情報入力!S38=\"\",\"\",IF(K29=1,VLOOKUP(②選手情報入力!S38,種目情報!$A$5:$C$135,3,FALSE),VLOOKUP(②選手情報入力!S38,種目情報!$E$5:$G$135,3,FALSE))))","v":""},{"$f":"IF(E29=\"\",\"\",IF(②選手情報入力!U38=\"\",\"\",IF(K29=1,種目情報!$J$4,種目情報!$J$6)))","v":""},{"$f":"IF(E29=\"\",\"\",IF(②選手情報入力!U38=\"\",\"\",IF(K29=1,IF(②選手情報入力!$V$7=\"\",\"\",②選手情報入力!$V$7),IF(②選手情報入力!$V$8=\"\",\"\",②選手情報入力!$V$8))))","v":""},{"$f":"IF(E29=\"\",\"\",IF(②選手情報入力!U38=\"\",\"\",IF(K29=1,IF(②選手情報入力!$U$7=\"\",0,1),IF(②選手情報入力!$U$8=\"\",0,1))))","v":""},{"$f":"IF(E29=\"\",\"\",IF(②選手情報入力!U38=\"\",\"\",2))","v":""},{"$f":"IF(E29=\"\",\"\",IF(②選手情報入力!W38=\"\",\"\",IF(K29=1,種目情報!$J$5,種目情報!$J$7)))","v":""},{"$f":"IF(E29=\"\",\"\",IF(②選手情報入力!W38=\"\",\"\",IF(K29=1,IF(②選手情報入力!$X$7=\"\",\"\",②選手情報入力!$X$7),IF(②選手情報入力!$X$8=\"\",\"\",②選手情報入力!$X$8))))","v":""},{"$f":"IF(E29=\"\",\"\",IF(②選手情報入力!W38=\"\",\"\",IF(K29=1,IF(②選手情報入力!$W$7=\"\",0,1),IF(②選手情報入力!$W$8=\"\",0,1))))","v":""},{"$f":"IF(E29=\"\",\"\",IF(②選手情報入力!W38=\"\",\"\",2))","v":""},null,null,{"$f":"IF(②選手情報入力!G38=\"\",\"\",ASC(②選手情報入力!G38))","v":""},{"$f":"IF(②選手情報入力!G38=\"\",\"\",ASC(②選手情報入力!H38))","v":""}]
["",{"$f":"IF(E30=\"\",\"\",①団体情報入力!$C$5)","v":""},null,{"$f":"IF(E30=\"\",\"\",IF(①団体情報入力!C35=\"\",\"\",①団体情報入力!C35))","v":""},{"$f":"IF(②選手情報入力!D39=\"\",\"\",②選手情報入力!D39)","v":""},{"$f":"IF(E30=\"\",\"\",②選手情報入力!E39)","v":""},{"$f":"IF(E30=\"\",\"\",ASC(②選手情報入力!F39))","v":""},"","",{"$f":"IF(E30=\"\",\"\",IF(②選手情報入力!I39=\"\",\"JPN\",LEFT(②選手情報入力!I39,3)))","v":""},{"$f":"IF(E30=\"\",\"\",IF(②選手情報入力!J39=\"男\",1,2))","v":""},{"$f":"IF(E30=\"\",\"\",IF(②選手情報入力!K39=\"\",\"\",②選手情報入力!K39))","v":""},{"$f":"IF(E30=\"\",\"\",LEFT(②選手情報入力!L39,4))","v":""},{"$f":"IF(E30=\"\",\"\",RIGHT(②選手情報入力!L39,4))","v":""},"",null,{"$f":"IF(E30=\"\",\"\",IF(②選手情報入力!M39=\"\",\"\",IF(K30=1,VLOOKUP(②選手情報入力!M39,種目情報!$A$5:$B$167,2,FALSE),VLOOKUP(②選手情報入力!M39,種目情報!$E$5:$F$142,2,FALSE))))","v":""},{"$f":"IF(E30=\"\",\"\",IF(②選手情報入力!N39=\"\",\"\",②選手情報入力!N39))","v":""},null,{"$f":"IF(E30=\"\",\"\",IF(②選手情報入力!M39=\"\",\"\",IF(K30=1,VLOOKUP(②選手情報入力!M39,種目情報!$A$5:$C$135,3,FALSE),VLOOKUP(②選手情報入力!M39,種目情報!$E$5:$G$135,3,FALSE))))","v":""},{"$f":"IF(E30=\"\",\"\",IF(②選手情報入力!P39=\"\",\"\",IF(K30=1,VLOOKUP(②選手情報入力!P39,種目情報!$A$5:$B$151,2,FALSE),VLOOKUP(②選手情報入力!P39,種目情報!$E$5:$F$135,2,FALSE))))","v":""},{"$f":"IF(E30=\"\",\"\",IF(②選手情報入力!Q39=\"\",\"\",②選手情報入力!Q39))","v":""},{"$f":"IF(E30=\"\",\"\",IF(②選手情報入力!O39=\"\",\"\",1))","v":""},{"$f":"IF(E30=\"\",\"\",IF(②選手情報入力!P39=\"\",\"\",IF(K30=1,VLOOKUP(②選手情報入力!P39,種目情報!$A$5:$C$135,3,FALSE),VLOOKUP(②選手情報入力!P39,種目情報!$E$5:$G$135,3,FALSE))))","v":""},{"$f":"IF(E30=\"\",\"\",IF(②選手情報入力!S39=\"\",\"\",IF(K30=1,VLOOKUP(②選手情報入力!S39,種目情報!$A$5:$B$151,2,FALSE),VLOOKUP(②選手情報入力!S39,種目情報!$E$5:$F$135,2,FALSE))))","v":""},{"$f":"IF(E30=\"\",\"\",IF(②選手情報入力!T39=\"\",\"\",②選手情報入力!T39))","v":""},{"$f":"IF(E30=\"\",\"\",IF(②選手情報入力!R39=\"\",\"\",1))","v":""},{"$f":"IF(E30=\"\",\"\",IF(②選手情報入力!S39=\"\",\"\",IF(K30=1,VLOOKUP(②選手情報入力!S39,種目情報!$A$5:$C$135,3,FALSE),VLOOKUP(②選手情報入力!S39,種目情報!$E$5:$G$135,3,FALSE))))","v":""},{"$f":"IF(E30=\"\",\"\",IF(②選手情報入力!U39=\"\",\"\",IF(K30=1,種目情報!$J$4,種目情報!$J$6)))","v":""},{"$f":"IF(E30=\"\",\"\",IF(②選手情報入力!U39=\"\",\"\",IF(K30=1,IF(②選手情報入力!$V$7=\"\",\"\",②選手情報入力!$V$7),IF(②選手情報入力!$V$8=\"\",\"\",②選手情報入力!$V$8))))","v":""},{"$f":"IF(E30=\"\",\"\",IF(②選手情報入力!U39=\"\",\"\",IF(K30=1,IF(②選手情報入力!$U$7=\"\",0,1),IF(②選手情報入力!$U$8=\"\",0,1))))","v":""},{"$f":"IF(E30=\"\",\"\",IF(②選手情報入力!U39=\"\",\"\",2))","v":""},{"$f":"IF(E30=\"\",\"\",IF(②選手情報入力!W39=\"\",\"\",IF(K30=1,種目情報!$J$5,種目情報!$J$7)))","v":""},{"$f":"IF(E30=\"\",\"\",IF(②選手情報入力!W39=\"\",\"\",IF(K30=1,IF(②選手情報入力!$X$7=\"\",\"\",②選手情報入力!$X$7),IF(②選手情報入力!$X$8=\"\",\"\",②選手情報入力!$X$8))))","v":""},{"$f":"IF(E30=\"\",\"\",IF(②選手情報入力!W39=\"\",\"\",IF(K30=1,IF(②選手情報入力!$W$7=\"\",0,1),IF(②選手情報入力!$W$8=\"\",0,1))))","v":""},{"$f":"IF(E30=\"\",\"\",IF(②選手情報入力!W39=\"\",\"\",2))","v":""},null,null,{"$f":"IF(②選手情報入力!G39=\"\",\"\",ASC(②選手情報入力!G39))","v":""},{"$f":"IF(②選手情報入力!G39=\"\",\"\",ASC(②選手情報入力!H39))","v":""}]
["",{"$f":"IF(E31=\"\",\"\",①団体情報入力!$C$5)","v":""},null,{"$f":"IF(E31=\"\",\"\",IF(①団体情報入力!C36=\"\",\"\",①団体情報入力!C36))","v":""},{"$f":"IF(②選手情報入力!D40=\"\",\"\",②選手情報入力!D40)","v":""},{"$f":"IF(E31=\"\",\"\",②選手情報入力!E40)","v":""},{"$f":"IF(E31=\"\",\"\",ASC(②選手情報入力!F40))","v":""},"","",{"$f":"IF(E31=\"\",\"\",IF(②選手情報入力!I40=\"\",\"JPN\",LEFT(②選手情報入力!I40,3)))","v":""},{"$f":"IF(E31=\"\",\"\",IF(②選手情報入力!J40=\"男\",1,2))","v":""},{"$f":"IF(E31=\"\",\"\",IF(②選手情報入力!K40=\"\",\"\",②選手情報入力!K40))","v":""},{"$f":"IF(E31=\"\",\"\",LEFT(②選手情報入力!L40,4))","v":""},{"$f":"IF(E31=\"\",\"\",RIGHT(②選手情報入力!L40,4))","v":""},"",null,{"$f":"IF(E31=\"\",\"\",IF(②選手情報入力!M40=\"\",\"\",IF(K31=1,VLOOKUP(②選手情報入力!M40,種目情報!$A$5:$B$167,2,FALSE),VLOOKUP(②選手情報入力!M40,種目情報!$E$5:$F$142,2,FALSE))))","v":""},{"$f":"IF(E31=\"\",\"\",IF(②選手情報入力!N40=\"\",\"\",②選手情報入力!N40))","v":""},null,{"$f":"IF(E31=\"\",\"\",IF(②選手情報入力!M40=\"\",\"\",IF(K31=1,VLOOKUP(②選手情報入力!M40,種目情報!$A$5:$C$135,3,FALSE),VLOOKUP(②選手情報入力!M40,種目情報!$E$5:$G$135,3,FALSE))))","v":""},{"$f":"IF(E31=\"\",\"\",IF(②選手情報入力!P40=\"\",\"\",IF(K31=1,VLOOKUP(②選手情報入力!P40,種目情報!$A$5:$B$151,2,FALSE),VLOOKUP(②選手情報入力!P40,種目情報!$E$5:$F$135,2,FALSE))))","v":""},{"$f":"IF(E31=\"\",\"\",IF(②選手情報入力!Q40=\"\",\"\",②選手情報入力!Q40))","v":""},{"$f":"IF(E31=\"\",\"\",IF(②選手情報入力!O40=\"\",\"\",1))","v":""},{"$f":"IF(E31=\"\",\"\",IF(②選手情報入力!P40=\"\",\"\",IF(K31=1,VLOOKUP(②選手情報入力!P40,種目情報!$A$5:$C$135,3,FALSE),VLOOKUP(②選手情報入力!P40,種目情報!$E$5:$G$135,3,FALSE))))","v":""},{"$f":"IF(E31=\"\",\"\",IF(②選手情報入力!S40=\"\",\"\",IF(K31=1,VLOOKUP(②選手情報入力!S40,種目情報!$A$5:$B$151,2,FALSE),VLOOKUP(②選手情報入力!S40,種目情報!$E$5:$F$135,2,FALSE))))","v":""},{"$f":"IF(E31=\"\",\"\",IF(②選手情報入力!T40=\"\",\"\",②選手情報入力!T40))","v":""},{"$f":"IF(E31=\"\",\"\",IF(②選手情報入力!R40=\"\",\"\",1))","v":""},{"$f":"IF(E31=\"\",\"\",IF(②選手情報入力!S40=\"\",\"\",IF(K31=1,VLOOKUP(②選手情報入力!S40,種目情報!$A$5:$C$135,3,FALSE),VLOOKUP(②選手情報入力!S40,種目情報!$E$5:$G$135,3,FALSE))))","v":""},{"$f":"IF(E31=\"\",\"\",IF(②選手情報入力!U40=\"\",\"\",IF(K31=1,種目情報!$J$4,種目情報!$J$6)))","v":""},{"$f":"IF(E31=\"\",\"\",IF(②選手情報入力!U40=\"\",\"\",IF(K31=1,IF(②選手情報入力!$V$7=\"\",\"\",②選手情報入力!$V$7),IF(②選手情報入力!$V$8=\"\",\"\",②選手情報入力!$V$8))))","v":""},{"$f":"IF(E31=\"\",\"\",IF(②選手情報入力!U40=\"\",\"\",IF(K31=1,IF(②選手情報入力!$U$7=\"\",0,1),IF(②選手情報入力!$U$8=\"\",0,1))))","v":""},{"$f":"IF(E31=\"\",\"\",IF(②選手情報入力!U40=\"\",\"\",2))","v":""},{"$f":"IF(E31=\"\",\"\",IF(②選手情報入力!W40=\"\",\"\",IF(K31=1,種目情報!$J$5,種目情報!$J$7)))","v":""},{"$f":"IF(E31=\"\",\"\",IF(②選手情報入力!W40=\"\",\"\",IF(K31=1,IF(②選手情報入力!$X$7=\"\",\"\",②選手情報入力!$X$7),IF(②選手情報入力!$X$8=\"\",\"\",②選手情報入力!$X$8))))","v":""},{"$f":"IF(E31=\"\",\"\",IF(②選手情報入力!W40=\"\",\"\",IF(K31=1,IF(②選手情報入力!$W$7=\"\",0,1),IF(②選手情報入力!$W$8=\"\",0,1))))","v":""},{"$f":"IF(E31=\"\",\"\",IF(②選手情報入力!W40=\"\",\"\",2))","v":""},null,null,{"$f":"IF(②選手情報入力!G40=\"\",\"\",ASC(②選手情報入力!G40))","v":""},{"$f":"IF(②選手情報入力!G40=\"\",\"\",ASC(②選手情報入力!H40))","v":""}]
["",{"$f":"IF(E32=\"\",\"\",①団体情報入力!$C$5)","v":""},null,{"$f":"IF(E32=\"\",\"\",IF(①団体情報入力!C37=\"\",\"\",①団体情報入力!C37))","v":""},{"$f":"IF(②選手情報入力!D41=\"\",\"\",②選手情報入力!D41)","v":""},{"$f":"IF(E32=\"\",\"\",②選手情報入力!E41)","v":""},{"$f":"IF(E32=\"\",\"\",ASC(②選手情報入力!F41))","v":""},"","",{"$f":"IF(E32=\"\",\"\",IF(②選手情報入力!I41=\"\",\"JPN\",LEFT(②選手情報入力!I41,3)))","v":""},{"$f":"IF(E32=\"\",\"\",IF(②選手情報入力!J41=\"男\",1,2))","v":""},{"$f":"IF(E32=\"\",\"\",IF(②選手情報入力!K41=\"\",\"\",②選手情報入力!K41))","v":""},{"$f":"IF(E32=\"\",\"\",LEFT(②選手情報入力!L41,4))","v":""},{"$f":"IF(E32=\"\",\"\",RIGHT(②選手情報入力!L41,4))","v":""},"",null,{"$f":"IF(E32=\"\",\"\",IF(②選手情報入力!M41=\"\",\"\",IF(K32=1,VLOOKUP(②選手情報入力!M41,種目情報!$A$5:$B$167,2,FALSE),VLOOKUP(②選手情報入力!M41,種目情報!$E$5:$F$142,2,FALSE))))","v":""},{"$f":"IF(E32=\"\",\"\",IF(②選手情報入力!N41=\"\",\"\",②選手情報入力!N41))","v":""},null,{"$f":"IF(E32=\"\",\"\",IF(②選手情報入力!M41=\"\",\"\",IF(K32=1,VLOOKUP(②選手情報入力!M41,種目情報!$A$5:$C$135,3,FALSE),VLOOKUP(②選手情報入力!M41,種目情報!$E$5:$G$135,3,FALSE))))","v":""},{"$f":"IF(E32=\"\",\"\",IF(②選手情報入力!P41=\"\",\"\",IF(K32=1,VLOOKUP(②選手情報入力!P41,種目情報!$A$5:$B$151,2,FALSE),VLOOKUP(②選手情報入力!P41,種目情報!$E$5:$F$135,2,FALSE))))","v":""},{"$f":"IF(E32=\"\",\"\",IF(②選手情報入力!Q41=\"\",\"\",②選手情報入力!Q41))","v":""},{"$f":"IF(E32=\"\",\"\",IF(②選手情報入力!O41=\"\",\"\",1))","v":""},{"$f":"IF(E32=\"\",\"\",IF(②選手情報入力!P41=\"\",\"\",IF(K32=1,VLOOKUP(②選手情報入力!P41,種目情報!$A$5:$C$135,3,FALSE),VLOOKUP(②選手情報入力!P41,種目情報!$E$5:$G$135,3,FALSE))))","v":""},{"$f":"IF(E32=\"\",\"\",IF(②選手情報入力!S41=\"\",\"\",IF(K32=1,VLOOKUP(②選手情報入力!S41,種目情報!$A$5:$B$151,2,FALSE),VLOOKUP(②選手情報入力!S41,種目情報!$E$5:$F$135,2,FALSE))))","v":""},{"$f":"IF(E32=\"\",\"\",IF(②選手情報入力!T41=\"\",\"\",②選手情報入力!T41))","v":""},{"$f":"IF(E32=\"\",\"\",IF(②選手情報入力!R41=\"\",\"\",1))","v":""},{"$f":"IF(E32=\"\",\"\",IF(②選手情報入力!S41=\"\",\"\",IF(K32=1,VLOOKUP(②選手情報入力!S41,種目情報!$A$5:$C$135,3,FALSE),VLOOKUP(②選手情報入力!S41,種目情報!$E$5:$G$135,3,FALSE))))","v":""},{"$f":"IF(E32=\"\",\"\",IF(②選手情報入力!U41=\"\",\"\",IF(K32=1,種目情報!$J$4,種目情報!$J$6)))","v":""},{"$f":"IF(E32=\"\",\"\",IF(②選手情報入力!U41=\"\",\"\",IF(K32=1,IF(②選手情報入力!$V$7=\"\",\"\",②選手情報入力!$V$7),IF(②選手情報入力!$V$8=\"\",\"\",②選手情報入力!$V$8))))","v":""},{"$f":"IF(E32=\"\",\"\",IF(②選手情報入力!U41=\"\",\"\",IF(K32=1,IF(②選手情報入力!$U$7=\"\",0,1),IF(②選手情報入力!$U$8=\"\",0,1))))","v":""},{"$f":"IF(E32=\"\",\"\",IF(②選手情報入力!U41=\"\",\"\",2))","v":""},{"$f":"IF(E32=\"\",\"\",IF(②選手情報入力!W41=\"\",\"\",IF(K32=1,種目情報!$J$5,種目情報!$J$7)))","v":""},{"$f":"IF(E32=\"\",\"\",IF(②選手情報入力!W41=\"\",\"\",IF(K32=1,IF(②選手情報入力!$X$7=\"\",\"\",②選手情報入力!$X$7),IF(②選手情報入力!$X$8=\"\",\"\",②選手情報入力!$X$8))))","v":""},{"$f":"IF(E32=\"\",\"\",IF(②選手情報入力!W41=\"\",\"\",IF(K32=1,IF(②選手情報入力!$W$7=\"\",0,1),IF(②選手情報入力!$W$8=\"\",0,1))))","v":""},{"$f":"IF(E32=\"\",\"\",IF(②選手情報入力!W41=\"\",\"\",2))","v":""},null,null,{"$f":"IF(②選手情報入力!G41=\"\",\"\",ASC(②選手情報入力!G41))","v":""},{"$f":"IF(②選手情報入力!G41=\"\",\"\",ASC(②選手情報入力!H41))","v":""}]
["",{"$f":"IF(E33=\"\",\"\",①団体情報入力!$C$5)","v":""},null,{"$f":"IF(E33=\"\",\"\",IF(①団体情報入力!C38=\"\",\"\",①団体情報入力!C38))","v":""},{"$f":"IF(②選手情報入力!D42=\"\",\"\",②選手情報入力!D42)","v":""},{"$f":"IF(E33=\"\",\"\",②選手情報入力!E42)","v":""},{"$f":"IF(E33=\"\",\"\",ASC(②選手情報入力!F42))","v":""},"","",{"$f":"IF(E33=\"\",\"\",IF(②選手情報入力!I42=\"\",\"JPN\",LEFT(②選手情報入力!I42,3)))","v":""},{"$f":"IF(E33=\"\",\"\",IF(②選手情報入力!J42=\"男\",1,2))","v":""},{"$f":"IF(E33=\"\",\"\",IF(②選手情報入力!K42=\"\",\"\",②選手情報入力!K42))","v":""},{"$f":"IF(E33=\"\",\"\",LEFT(②選手情報入力!L42,4))","v":""},{"$f":"IF(E33=\"\",\"\",RIGHT(②選手情報入力!L42,4))","v":""},"",null,{"$f":"IF(E33=\"\",\"\",IF(②選手情報入力!M42=\"\",\"\",IF(K33=1,VLOOKUP(②選手情報入力!M42,種目情報!$A$5:$B$167,2,FALSE),VLOOKUP(②選手情報入力!M42,種目情報!$E$5:$F$142,2,FALSE))))","v":""},{"$f":"IF(E33=\"\",\"\",IF(②選手情報入力!N42=\"\",\"\",②選手情報入力!N42))","v":""},null,{"$f":"IF(E33=\"\",\"\",IF(②選手情報入力!M42=\"\",\"\",IF(K33=1,VLOOKUP(②選手情報入力!M42,種目情報!$A$5:$C$135,3,FALSE),VLOOKUP(②選手情報入力!M42,種目情報!$E$5:$G$135,3,FALSE))))","v":""},{"$f":"IF(E33=\"\",\"\",IF(②選手情報入力!P42=\"\",\"\",IF(K33=1,VLOOKUP(②選手情報入力!P42,種目情報!$A$5:$B$151,2,FALSE),VLOOKUP(②選手情報入力!P42,種目情報!$E$5:$F$135,2,FALSE))))","v":""},{"$f":"IF(E33=\"\",\"\",IF(②選手情報入力!Q42=\"\",\"\",②選手情報入力!Q42))","v":""},{"$f":"IF(E33=\"\",\"\",IF(②選手情報入力!O42=\"\",\"\",1))","v":""},{"$f":"IF(E33=\"\",\"\",IF(②選手情報入力!P42=\"\",\"\",IF(K33=1,VLOOKUP(②選手情報入力!P42,種目情報!$A$5:$C$135,3,FALSE),VLOOKUP(②選手情報入力!P42,種目情報!$E$5:$G$135,3,FALSE))))","v":""},{"$f":"IF(E33=\"\",\"\",IF(②選手情報入力!S42=\"\",\"\",IF(K33=1,VLOOKUP(②選手情報入力!S42,種目情報!$A$5:$B$151,2,FALSE),VLOOKUP(②選手情報入力!S42,種目情報!$E$5:$F$135,2,FALSE))))","v":""},{"$f":"IF(E33=\"\",\"\",IF(②選手情報入力!T42=\"\",\"\",②選手情報入力!T42))","v":""},{"$f":"IF(E33=\"\",\"\",IF(②選手情報入力!R42=\"\",\"\",1))","v":""},{"$f":"IF(E33=\"\",\"\",IF(②選手情報入力!S42=\"\",\"\",IF(K33=1,VLOOKUP(②選手情報入力!S42,種目情報!$A$5:$C$135,3,FALSE),VLOOKUP(②選手情報入力!S42,種目情報!$E$5:$G$135,3,FALSE))))","v":""},{"$f":"IF(E33=\"\",\"\",IF(②選手情報入力!U42=\"\",\"\",IF(K33=1,種目情報!$J$4,種目情報!$J$6)))","v":""},{"$f":"IF(E33=\"\",\"\",IF(②選手情報入力!U42=\"\",\"\",IF(K33=1,IF(②選手情報入力!$V$7=\"\",\"\",②選手情報入力!$V$7),IF(②選手情報入力!$V$8=\"\",\"\",②選手情報入力!$V$8))))","v":""},{"$f":"IF(E33=\"\",\"\",IF(②選手情報入力!U42=\"\",\"\",IF(K33=1,IF(②選手情報入力!$U$7=\"\",0,1),IF(②選手情報入力!$U$8=\"\",0,1))))","v":""},{"$f":"IF(E33=\"\",\"\",IF(②選手情報入力!U42=\"\",\"\",2))","v":""},{"$f":"IF(E33=\"\",\"\",IF(②選手情報入力!W42=\"\",\"\",IF(K33=1,種目情報!$J$5,種目情報!$J$7)))","v":""},{"$f":"IF(E33=\"\",\"\",IF(②選手情報入力!W42=\"\",\"\",IF(K33=1,IF(②選手情報入力!$X$7=\"\",\"\",②選手情報入力!$X$7),IF(②選手情報入力!$X$8=\"\",\"\",②選手情報入力!$X$8))))","v":""},{"$f":"IF(E33=\"\",\"\",IF(②選手情報入力!W42=\"\",\"\",IF(K33=1,IF(②選手情報入力!$W$7=\"\",0,1),IF(②選手情報入力!$W$8=\"\",0,1))))","v":""},{"$f":"IF(E33=\"\",\"\",IF(②選手情報入力!W42=\"\",\"\",2))","v":""},null,null,{"$f":"IF(②選手情報入力!G42=\"\",\"\",ASC(②選手情報入力!G42))","v":""},{"$f":"IF(②選手情報入力!G42=\"\",\"\",ASC(②選手情報入力!H42))","v":""}]
["",{"$f":"IF(E34=\"\",\"\",①団体情報入力!$C$5)","v":""},null,{"$f":"IF(E34=\"\",\"\",IF(①団体情報入力!C39=\"\",\"\",①団体情報入力!C39))","v":""},{"$f":"IF(②選手情報入力!D43=\"\",\"\",②選手情報入力!D43)","v":""},{"$f":"IF(E34=\"\",\"\",②選手情報入力!E43)","v":""},{"$f":"IF(E34=\"\",\"\",ASC(②選手情報入力!F43))","v":""},"","",{"$f":"IF(E34=\"\",\"\",IF(②選手情報入力!I43=\"\",\"JPN\",LEFT(②選手情報入力!I43,3)))","v":""},{"$f":"IF(E34=\"\",\"\",IF(②選手情報入力!J43=\"男\",1,2))","v":""},{"$f":"IF(E34=\"\",\"\",IF(②選手情報入力!K43=\"\",\"\",②選手情報入力!K43))","v":""},{"$f":"IF(E34=\"\",\"\",LEFT(②選手情報入力!L43,4))","v":""},{"$f":"IF(E34=\"\",\"\",RIGHT(②選手情報入力!L43,4))","v":""},"",null,{"$f":"IF(E34=\"\",\"\",IF(②選手情報入力!M43=\"\",\"\",IF(K34=1,VLOOKUP(②選手情報入力!M43,種目情報!$A$5:$B$167,2,FALSE),VLOOKUP(②選手情報入力!M43,種目情報!$E$5:$F$142,2,FALSE))))","v":""},{"$f":"IF(E34=\"\",\"\",IF(②選手情報入力!N43=\"\",\"\",②選手情報入力!N43))","v":""},null,{"$f":"IF(E34=\"\",\"\",IF(②選手情報入力!M43=\"\",\"\",IF(K34=1,VLOOKUP(②選手情報入力!M43,種目情報!$A$5:$C$135,3,FALSE),VLOOKUP(②選手情報入力!M43,種目情報!$E$5:$G$135,3,FALSE))))","v":""},{"$f":"IF(E34=\"\",\"\",IF(②選手情報入力!P43=\"\",\"\",IF(K34=1,VLOOKUP(②選手情報入力!P43,種目情報!$A$5:$B$151,2,FALSE),VLOOKUP(②選手情報入力!P43,種目情報!$E$5:$F$135,2,FALSE))))","v":""},{"$f":"IF(E34=\"\",\"\",IF(②選手情報入力!Q43=\"\",\"\",②選手情報入力!Q43))","v":""},{"$f":"IF(E34=\"\",\"\",IF(②選手情報入力!O43=\"\",\"\",1))","v":""},{"$f":"IF(E34=\"\",\"\",IF(②選手情報入力!P43=\"\",\"\",IF(K34=1,VLOOKUP(②選手情報入力!P43,種目情報!$A$5:$C$135,3,FALSE),VLOOKUP(②選手情報入力!P43,種目情報!$E$5:$G$135,3,FALSE))))","v":""},{"$f":"IF(E34=\"\",\"\",IF(②選手情報入力!S43=\"\",\"\",IF(K34=1,VLOOKUP(②選手情報入力!S43,種目情報!$A$5:$B$151,2,FALSE),VLOOKUP(②選手情報入力!S43,種目情報!$E$5:$F$135,2,FALSE))))","v":""},{"$f":"IF(E34=\"\",\"\",IF(②選手情報入力!T43=\"\",\"\",②選手情報入力!T43))","v":""},{"$f":"IF(E34=\"\",\"\",IF(②選手情報入力!R43=\"\",\"\",1))","v":""},{"$f":"IF(E34=\"\",\"\",IF(②選手情報入力!S43=\"\",\"\",IF(K34=1,VLOOKUP(②選手情報入力!S43,種目情報!$A$5:$C$135,3,FALSE),VLOOKUP(②選手情報入力!S43,種目情報!$E$5:$G$135,3,FALSE))))","v":""},{"$f":"IF(E34=\"\",\"\",IF(②選手情報入力!U43=\"\",\"\",IF(K34=1,種目情報!$J$4,種目情報!$J$6)))","v":""},{"$f":"IF(E34=\"\",\"\",IF(②選手情報入力!U43=\"\",\"\",IF(K34=1,IF(②選手情報入力!$V$7=\"\",\"\",②選手情報入力!$V$7),IF(②選手情報入力!$V$8=\"\",\"\",②選手情報入力!$V$8))))","v":""},{"$f":"IF(E34=\"\",\"\",IF(②選手情報入力!U43=\"\",\"\",IF(K34=1,IF(②選手情報入力!$U$7=\"\",0,1),IF(②選手情報入力!$U$8=\"\",0,1))))","v":""},{"$f":"IF(E34=\"\",\"\",IF(②選手情報入力!U43=\"\",\"\",2))","v":""},{"$f":"IF(E34=\"\",\"\",IF(②選手情報入力!W43=\"\",\"\",IF(K34=1,種目情報!$J$5,種目情報!$J$7)))","v":""},{"$f":"IF(E34=\"\",\"\",IF(②選手情報入力!W43=\"\",\"\",IF(K34=1,IF(②選手情報入力!$X$7=\"\",\"\",②選手情報入力!$X$7),IF(②選手情報入力!$X$8=\"\",\"\",②選手情報入力!$X$8))))","v":""},{"$f":"IF(E34=\"\",\"\",IF(②選手情報入力!W43=\"\",\"\",IF(K34=1,IF(②選手情報入力!$W$7=\"\",0,1),IF(②選手情報入力!$W$8=\"\",0,1))))","v":""},{"$f":"IF(E34=\"\",\"\",IF(②選手情報入力!W43=\"\",\"\",2))","v":""},null,null,{"$f":"IF(②選手情報入力!G43=\"\",\"\",ASC(②選手情報入力!G43))","v":""},{"$f":"IF(②選手情報入力!G43=\"\",\"\",ASC(②選手情報入力!H43))","v":""}]
["",{"$f":"IF(E35=\"\",\"\",①団体情報入力!$C$5)","v":""},null,{"$f":"IF(E35=\"\",\"\",IF(①団体情報入力!C40=\"\",\"\",①団体情報入力!C40))","v":""},{"$f":"IF(②選手情報入力!D44=\"\",\"\",②選手情報入力!D44)","v":""},{"$f":"IF(E35=\"\",\"\",②選手情報入力!E44)","v":""},{"$f":"IF(E35=\"\",\"\",ASC(②選手情報入力!F44))","v":""},"","",{"$f":"IF(E35=\"\",\"\",IF(②選手情報入力!I44=\"\",\"JPN\",LEFT(②選手情報入力!I44,3)))","v":""},{"$f":"IF(E35=\"\",\"\",IF(②選手情報入力!J44=\"男\",1,2))","v":""},{"$f":"IF(E35=\"\",\"\",IF(②選手情報入力!K44=\"\",\"\",②選手情報入力!K44))","v":""},{"$f":"IF(E35=\"\",\"\",LEFT(②選手情報入力!L44,4))","v":""},{"$f":"IF(E35=\"\",\"\",RIGHT(②選手情報入力!L44,4))","v":""},"",null,{"$f":"IF(E35=\"\",\"\",IF(②選手情報入力!M44=\"\",\"\",IF(K35=1,VLOOKUP(②選手情報入力!M44,種目情報!$A$5:$B$167,2,FALSE),VLOOKUP(②選手情報入力!M44,種目情報!$E$5:$F$142,2,FALSE))))","v":""},{"$f":"IF(E35=\"\",\"\",IF(②選手情報入力!N44=\"\",\"\",②選手情報入力!N44))","v":""},null,{"$f":"IF(E35=\"\",\"\",IF(②選手情報入力!M44=\"\",\"\",IF(K35=1,VLOOKUP(②選手情報入力!M44,種目情報!$A$5:$C$135,3,FALSE),VLOOKUP(②選手情報入力!M44,種目情報!$E$5:$G$135,3,FALSE))))","v":""},{"$f":"IF(E35=\"\",\"\",IF(②選手情報入力!P44=\"\",\"\",IF(K35=1,VLOOKUP(②選手情報入力!P44,種目情報!$A$5:$B$151,2,FALSE),VLOOKUP(②選手情報入力!P44,種目情報!$E$5:$F$135,2,FALSE))))","v":""},{"$f":"IF(E35=\"\",\"\",IF(②選手情報入力!Q44=\"\",\"\",②選手情報入力!Q44))","v":""},{"$f":"IF(E35=\"\",\"\",IF(②選手情報入力!O44=\"\",\"\",1))","v":""},{"$f":"IF(E35=\"\",\"\",IF(②選手情報入力!P44=\"\",\"\",IF(K35=1,VLOOKUP(②選手情報入力!P44,種目情報!$A$5:$C$135,3,FALSE),VLOOKUP(②選手情報入力!P44,種目情報!$E$5:$G$135,3,FALSE))))","v":""},{"$f":"IF(E35=\"\",\"\",IF(②選手情報入力!S44=\"\",\"\",IF(K35=1,VLOOKUP(②選手情報入力!S44,種目情報!$A$5:$B$151,2,FALSE),VLOOKUP(②選手情報入力!S44,種目情報!$E$5:$F$135,2,FALSE))))","v":""},{"$f":"IF(E35=\"\",\"\",IF(②選手情報入力!T44=\"\",\"\",②選手情報入力!T44))","v":""},{"$f":"IF(E35=\"\",\"\",IF(②選手情報入力!R44=\"\",\"\",1))","v":""},{"$f":"IF(E35=\"\",\"\",IF(②選手情報入力!S44=\"\",\"\",IF(K35=1,VLOOKUP(②選手情報入力!S44,種目情報!$A$5:$C$135,3,FALSE),VLOOKUP(②選手情報入力!S44,種目情報!$E$5:$G$135,3,FALSE))))","v":""},{"$f":"IF(E35=\"\",\"\",IF(②選手情報入力!U44=\"\",\"\",IF(K35=1,種目情報!$J$4,種目情報!$J$6)))","v":""},{"$f":"IF(E35=\"\",\"\",IF(②選手情報入力!U44=\"\",\"\",IF(K35=1,IF(②選手情報入力!$V$7=\"\",\"\",②選手情報入力!$V$7),IF(②選手情報入力!$V$8=\"\",\"\",②選手情報入力!$V$8))))","v":""},{"$f":"IF(E35=\"\",\"\",IF(②選手情報入力!U44=\"\",\"\",IF(K35=1,IF(②選手情報入力!$U$7=\"\",0,1),IF(②選手情報入力!$U$8=\"\",0,1))))","v":""},{"$f":"IF(E35=\"\",\"\",IF(②選手情報入力!U44=\"\",\"\",2))","v":""},{"$f":"IF(E35=\"\",\"\",IF(②選手情報入力!W44=\"\",\"\",IF(K35=1,種目情報!$J$5,種目情報!$J$7)))","v":""},{"$f":"IF(E35=\"\",\"\",IF(②選手情報入力!W44=\"\",\"\",IF(K35=1,IF(②選手情報入力!$X$7=\"\",\"\",②選手情報入力!$X$7),IF(②選手情報入力!$X$8=\"\",\"\",②選手情報入力!$X$8))))","v":""},{"$f":"IF(E35=\"\",\"\",IF(②選手情報入力!W44=\"\",\"\",IF(K35=1,IF(②選手情報入力!$W$7=\"\",0,1),IF(②選手情報入力!$W$8=\"\",0,1))))","v":""},{"$f":"IF(E35=\"\",\"\",IF(②選手情報入力!W44=\"\",\"\",2))","v":""},null,null,{"$f":"IF(②選手情報入力!G44=\"\",\"\",ASC(②選手情報入力!G44))","v":""},{"$f":"IF(②選手情報入力!G44=\"\",\"\",ASC(②選手情報入力!H44))","v":""}]
["",{"$f":"IF(E36=\"\",\"\",①団体情報入力!$C$5)","v":""},null,{"$f":"IF(E36=\"\",\"\",IF(①団体情報入力!C41=\"\",\"\",①団体情報入力!C41))","v":""},{"$f":"IF(②選手情報入力!D45=\"\",\"\",②選手情報入力!D45)","v":""},{"$f":"IF(E36=\"\",\"\",②選手情報入力!E45)","v":""},{"$f":"IF(E36=\"\",\"\",ASC(②選手情報入力!F45))","v":""},"","",{"$f":"IF(E36=\"\",\"\",IF(②選手情報入力!I45=\"\",\"JPN\",LEFT(②選手情報入力!I45,3)))","v":""},{"$f":"IF(E36=\"\",\"\",IF(②選手情報入力!J45=\"男\",1,2))","v":""},{"$f":"IF(E36=\"\",\"\",IF(②選手情報入力!K45=\"\",\"\",②選手情報入力!K45))","v":""},{"$f":"IF(E36=\"\",\"\",LEFT(②選手情報入力!L45,4))","v":""},{"$f":"IF(E36=\"\",\"\",RIGHT(②選手情報入力!L45,4))","v":""},"",null,{"$f":"IF(E36=\"\",\"\",IF(②選手情報入力!M45=\"\",\"\",IF(K36=1,VLOOKUP(②選手情報入力!M45,種目情報!$A$5:$B$167,2,FALSE),VLOOKUP(②選手情報入力!M45,種目情報!$E$5:$F$142,2,FALSE))))","v":""},{"$f":"IF(E36=\"\",\"\",IF(②選手情報入力!N45=\"\",\"\",②選手情報入力!N45))","v":""},null,{"$f":"IF(E36=\"\",\"\",IF(②選手情報入力!M45=\"\",\"\",IF(K36=1,VLOOKUP(②選手情報入力!M45,種目情報!$A$5:$C$135,3,FALSE),VLOOKUP(②選手情報入力!M45,種目情報!$E$5:$G$135,3,FALSE))))","v":""},{"$f":"IF(E36=\"\",\"\",IF(②選手情報入力!P45=\"\",\"\",IF(K36=1,VLOOKUP(②選手情報入力!P45,種目情報!$A$5:$B$151,2,FALSE),VLOOKUP(②選手情報入力!P45,種目情報!$E$5:$F$135,2,FALSE))))","v":""},{"$f":"IF(E36=\"\",\"\",IF(②選手情報入力!Q45=\"\",\"\",②選手情報入力!Q45))","v":""},{"$f":"IF(E36=\"\",\"\",IF(②選手情報入力!O45=\"\",\"\",1))","v":""},{"$f":"IF(E36=\"\",\"\",IF(②選手情報入力!P45=\"\",\"\",IF(K36=1,VLOOKUP(②選手情報入力!P45,種目情報!$A$5:$C$135,3,FALSE),VLOOKUP(②選手情報入力!P45,種目情報!$E$5:$G$135,3,FALSE))))","v":""},{"$f":"IF(E36=\"\",\"\",IF(②選手情報入力!S45=\"\",\"\",IF(K36=1,VLOOKUP(②選手情報入力!S45,種目情報!$A$5:$B$151,2,FALSE),VLOOKUP(②選手情報入力!S45,種目情報!$E$5:$F$135,2,FALSE))))","v":""},{"$f":"IF(E36=\"\",\"\",IF(②選手情報入力!T45=\"\",\"\",②選手情報入力!T45))","v":""},{"$f":"IF(E36=\"\",\"\",IF(②選手情報入力!R45=\"\",\"\",1))","v":""},{"$f":"IF(E36=\"\",\"\",IF(②選手情報入力!S45=\"\",\"\",IF(K36=1,VLOOKUP(②選手情報入力!S45,種目情報!$A$5:$C$135,3,FALSE),VLOOKUP(②選手情報入力!S45,種目情報!$E$5:$G$135,3,FALSE))))","v":""},{"$f":"IF(E36=\"\",\"\",IF(②選手情報入力!U45=\"\",\"\",IF(K36=1,種目情報!$J$4,種目情報!$J$6)))","v":""},{"$f":"IF(E36=\"\",\"\",IF(②選手情報入力!U45=\"\",\"\",IF(K36=1,IF(②選手情報入力!$V$7=\"\",\"\",②選手情報入力!$V$7),IF(②選手情報入力!$V$8=\"\",\"\",②選手情報入力!$V$8))))","v":""},{"$f":"IF(E36=\"\",\"\",IF(②選手情報入力!U45=\"\",\"\",IF(K36=1,IF(②選手情報入力!$U$7=\"\",0,1),IF(②選手情報入力!$U$8=\"\",0,1))))","v":""},{"$f":"IF(E36=\"\",\"\",IF(②選手情報入力!U45=\"\",\"\",2))","v":""},{"$f":"IF(E36=\"\",\"\",IF(②選手情報入力!W45=\"\",\"\",IF(K36=1,種目情報!$J$5,種目情報!$J$7)))","v":""},{"$f":"IF(E36=\"\",\"\",IF(②選手情報入力!W45=\"\",\"\",IF(K36=1,IF(②選手情報入力!$X$7=\"\",\"\",②選手情報入力!$X$7),IF(②選手情報入力!$X$8=\"\",\"\",②選手情報入力!$X$8))))","v":""},{"$f":"IF(E36=\"\",\"\",IF(②選手情報入力!W45=\"\",\"\",IF(K36=1,IF(②選手情報入力!$W$7=\"\",0,1),IF(②選手情報入力!$W$8=\"\",0,1))))","v":""},{"$f":"IF(E36=\"\",\"\",IF(②選手情報入力!W45=\"\",\"\",2))","v":""},null,null,{"$f":"IF(②選手情報入力!G45=\"\",\"\",ASC(②選手情報入力!G45))","v":""},{"$f":"IF(②選手情報入力!G45=\"\",\"\",ASC(②選手情報入力!H45))","v":""}]
["",{"$f":"IF(E37=\"\",\"\",①団体情報入力!$C$5)","v":""},null,{"$f":"IF(E37=\"\",\"\",IF(①団体情報入力!C42=\"\",\"\",①団体情報入力!C42))","v":""},{"$f":"IF(②選手情報入力!D46=\"\",\"\",②選手情報入力!D46)","v":""},{"$f":"IF(E37=\"\",\"\",②選手情報入力!E46)","v":""},{"$f":"IF(E37=\"\",\"\",ASC(②選手情報入力!F46))","v":""},"","",{"$f":"IF(E37=\"\",\"\",IF(②選手情報入力!I46=\"\",\"JPN\",LEFT(②選手情報入力!I46,3)))","v":""},{"$f":"IF(E37=\"\",\"\",IF(②選手情報入力!J46=\"男\",1,2))","v":""},{"$f":"IF(E37=\"\",\"\",IF(②選手情報入力!K46=\"\",\"\",②選手情報入力!K46))","v":""},{"$f":"IF(E37=\"\",\"\",LEFT(②選手情報入力!L46,4))","v":""},{"$f":"IF(E37=\"\",\"\",RIGHT(②選手情報入力!L46,4))","v":""},"",null,{"$f":"IF(E37=\"\",\"\",IF(②選手情報入力!M46=\"\",\"\",IF(K37=1,VLOOKUP(②選手情報入力!M46,種目情報!$A$5:$B$167,2,FALSE),VLOOKUP(②選手情報入力!M46,種目情報!$E$5:$F$142,2,FALSE))))","v":""},{"$f":"IF(E37=\"\",\"\",IF(②選手情報入力!N46=\"\",\"\",②選手情報入力!N46))","v":""},null,{"$f":"IF(E37=\"\",\"\",IF(②選手情報入力!M46=\"\",\"\",IF(K37=1,VLOOKUP(②選手情報入力!M46,種目情報!$A$5:$C$135,3,FALSE),VLOOKUP(②選手情報入力!M46,種目情報!$E$5:$G$135,3,FALSE))))","v":""},{"$f":"IF(E37=\"\",\"\",IF(②選手情報入力!P46=\"\",\"\",IF(K37=1,VLOOKUP(②選手情報入力!P46,種目情報!$A$5:$B$151,2,FALSE),VLOOKUP(②選手情報入力!P46,種目情報!$E$5:$F$135,2,FALSE))))","v":""},{"$f":"IF(E37=\"\",\"\",IF(②選手情報入力!Q46=\"\",\"\",②選手情報入力!Q46))","v":""},{"$f":"IF(E37=\"\",\"\",IF(②選手情報入力!O46=\"\",\"\",1))","v":""},{"$f":"IF(E37=\"\",\"\",IF(②選手情報入力!P46=\"\",\"\",IF(K37=1,VLOOKUP(②選手情報入力!P46,種目情報!$A$5:$C$135,3,FALSE),VLOOKUP(②選手情報入力!P46,種目情報!$E$5:$G$135,3,FALSE))))","v":""},{"$f":"IF(E37=\"\",\"\",IF(②選手情報入力!S46=\"\",\"\",IF(K37=1,VLOOKUP(②選手情報入力!S46,種目情報!$A$5:$B$151,2,FALSE),VLOOKUP(②選手情報入力!S46,種目情報!$E$5:$F$135,2,FALSE))))","v":""},{"$f":"IF(E37=\"\",\"\",IF(②選手情報入力!T46=\"\",\"\",②選手情報入力!T46))","v":""},{"$f":"IF(E37=\"\",\"\",IF(②選手情報入力!R46=\"\",\"\",1))","v":""},{"$f":"IF(E37=\"\",\"\",IF(②選手情報入力!S46=\"\",\"\",IF(K37=1,VLOOKUP(②選手情報入力!S46,種目情報!$A$5:$C$135,3,FALSE),VLOOKUP(②選手情報入力!S46,種目情報!$E$5:$G$135,3,FALSE))))","v":""},{"$f":"IF(E37=\"\",\"\",IF(②選手情報入力!U46=\"\",\"\",IF(K37=1,種目情報!$J$4,種目情報!$J$6)))","v":""},{"$f":"IF(E37=\"\",\"\",IF(②選手情報入力!U46=\"\",\"\",IF(K37=1,IF(②選手情報入力!$V$7=\"\",\"\",②選手情報入力!$V$7),IF(②選手情報入力!$V$8=\"\",\"\",②選手情報入力!$V$8))))","v":""},{"$f":"IF(E37=\"\",\"\",IF(②選手情報入力!U46=\"\",\"\",IF(K37=1,IF(②選手情報入力!$U$7=\"\",0,1),IF(②選手情報入力!$U$8=\"\",0,1))))","v":""},{"$f":"IF(E37=\"\",\"\",IF(②選手情報入力!U46=\"\",\"\",2))","v":""},{"$f":"IF(E37=\"\",\"\",IF(②選手情報入力!W46=\"\",\"\",IF(K37=1,種目情報!$J$5,種目情報!$J$7)))","v":""},{"$f":"IF(E37=\"\",\"\",IF(②選手情報入力!W46=\"\",\"\",IF(K37=1,IF(②選手情報入力!$X$7=\"\",\"\",②選手情報入力!$X$7),IF(②選手情報入力!$X$8=\"\",\"\",②選手情報入力!$X$8))))","v":""},{"$f":"IF(E37=\"\",\"\",IF(②選手情報入力!W46=\"\",\"\",IF(K37=1,IF(②選手情報入力!$W$7=\"\",0,1),IF(②選手情報入力!$W$8=\"\",0,1))))","v":""},{"$f":"IF(E37=\"\",\"\",IF(②選手情報入力!W46=\"\",\"\",2))","v":""},null,null,{"$f":"IF(②選手情報入力!G46=\"\",\"\",ASC(②選手情報入力!G46))","v":""},{"$f":"IF(②選手情報入力!G46=\"\",\"\",ASC(②選手情報入力!H46))","v":""}]
["",{"$f":"IF(E38=\"\",\"\",①団体情報入力!$C$5)","v":""},null,{"$f":"IF(E38=\"\",\"\",IF(①団体情報入力!C43=\"\",\"\",①団体情報入力!C43))","v":""},{"$f":"IF(②選手情報入力!D47=\"\",\"\",②選手情報入力!D47)","v":""},{"$f":"IF(E38=\"\",\"\",②選手情報入力!E47)","v":""},{"$f":"IF(E38=\"\",\"\",ASC(②選手情報入力!F47))","v":""},"","",{"$f":"IF(E38=\"\",\"\",IF(②選手情報入力!I47=\"\",\"JPN\",LEFT(②選手情報入力!I47,3)))","v":""},{"$f":"IF(E38=\"\",\"\",IF(②選手情報入力!J47=\"男\",1,2))","v":""},{"$f":"IF(E38=\"\",\"\",IF(②選手情報入力!K47=\"\",\"\",②選手情報入力!K47))","v":""},{"$f":"IF(E38=\"\",\"\",LEFT(②選手情報入力!L47,4))","v":""},{"$f":"IF(E38=\"\",\"\",RIGHT(②選手情報入力!L47,4))","v":""},"",null,{"$f":"IF(E38=\"\",\"\",IF(②選手情報入力!M47=\"\",\"\",IF(K38=1,VLOOKUP(②選手情報入力!M47,種目情報!$A$5:$B$167,2,FALSE),VLOOKUP(②選手情報入力!M47,種目情報!$E$5:$F$142,2,FALSE))))","v":""},{"$f":"IF(E38=\"\",\"\",IF(②選手情報入力!N47=\"\",\"\",②選手情報入力!N47))","v":""},null,{"$f":"IF(E38=\"\",\"\",IF(②選手情報入力!M47=\"\",\"\",IF(K38=1,VLOOKUP(②選手情報入力!M47,種目情報!$A$5:$C$135,3,FALSE),VLOOKUP(②選手情報入力!M47,種目情報!$E$5:$G$135,3,FALSE))))","v":""},{"$f":"IF(E38=\"\",\"\",IF(②選手情報入力!P47=\"\",\"\",IF(K38=1,VLOOKUP(②選手情報入力!P47,種目情報!$A$5:$B$151,2,FALSE),VLOOKUP(②選手情報入力!P47,種目情報!$E$5:$F$135,2,FALSE))))","v":""},{"$f":"IF(E38=\"\",\"\",IF(②選手情報入力!Q47=\"\",\"\",②選手情報入力!Q47))","v":""},{"$f":"IF(E38=\"\",\"\",IF(②選手情報入力!O47=\"\",\"\",1))","v":""},{"$f":"IF(E38=\"\",\"\",IF(②選手情報入力!P47=\"\",\"\",IF(K38=1,VLOOKUP(②選手情報入力!P47,種目情報!$A$5:$C$135,3,FALSE),VLOOKUP(②選手情報入力!P47,種目情報!$E$5:$G$135,3,FALSE))))","v":""},{"$f":"IF(E38=\"\",\"\",IF(②選手情報入力!S47=\"\",\"\",IF(K38=1,VLOOKUP(②選手情報入力!S47,種目情報!$A$5:$B$151,2,FALSE),VLOOKUP(②選手情報入力!S47,種目情報!$E$5:$F$135,2,FALSE))))","v":""},{"$f":"IF(E38=\"\",\"\",IF(②選手情報入力!T47=\"\",\"\",②選手情報入力!T47))","v":""},{"$f":"IF(E38=\"\",\"\",IF(②選手情報入力!R47=\"\",\"\",1))","v":""},{"$f":"IF(E38=\"\",\"\",IF(②選手情報入力!S47=\"\",\"\",IF(K38=1,VLOOKUP(②選手情報入力!S47,種目情報!$A$5:$C$135,3,FALSE),VLOOKUP(②選手情報入力!S47,種目情報!$E$5:$G$135,3,FALSE))))","v":""},{"$f":"IF(E38=\"\",\"\",IF(②選手情報入力!U47=\"\",\"\",IF(K38=1,種目情報!$J$4,種目情報!$J$6)))","v":""},{"$f":"IF(E38=\"\",\"\",IF(②選手情報入力!U47=\"\",\"\",IF(K38=1,IF(②選手情報入力!$V$7=\"\",\"\",②選手情報入力!$V$7),IF(②選手情報入力!$V$8=\"\",\"\",②選手情報入力!$V$8))))","v":""},{"$f":"IF(E38=\"\",\"\",IF(②選手情報入力!U47=\"\",\"\",IF(K38=1,IF(②選手情報入力!$U$7=\"\",0,1),IF(②選手情報入力!$U$8=\"\",0,1))))","v":""},{"$f":"IF(E38=\"\",\"\",IF(②選手情報入力!U47=\"\",\"\",2))","v":""},{"$f":"IF(E38=\"\",\"\",IF(②選手情報入力!W47=\"\",\"\",IF(K38=1,種目情報!$J$5,種目情報!$J$7)))","v":""},{"$f":"IF(E38=\"\",\"\",IF(②選手情報入力!W47=\"\",\"\",IF(K38=1,IF(②選手情報入力!$X$7=\"\",\"\",②選手情報入力!$X$7),IF(②選手情報入力!$X$8=\"\",\"\",②選手情報入力!$X$8))))","v":""},{"$f":"IF(E38=\"\",\"\",IF(②選手情報入力!W47=\"\",\"\",IF(K38=1,IF(②選手情報入力!$W$7=\"\",0,1),IF(②選手情報入力!$W$8=\"\",0,1))))","v":""},{"$f":"IF(E38=\"\",\"\",IF(②選手情報入力!W47=\"\",\"\",2))","v":""},null,null,{"$f":"IF(②選手情報入力!G47=\"\",\"\",ASC(②選手情報入力!G47))","v":""},{"$f":"IF(②選手情報入力!G47=\"\",\"\",ASC(②選手情報入力!H47))","v":""}]
["",{"$f":"IF(E39=\"\",\"\",①団体情報入力!$C$5)","v":""},null,{"$f":"IF(E39=\"\",\"\",IF(①団体情報入力!C44=\"\",\"\",①団体情報入力!C44))","v":""},{"$f":"IF(②選手情報入力!D48=\"\",\"\",②選手情報入力!D48)","v":""},{"$f":"IF(E39=\"\",\"\",②選手情報入力!E48)","v":""},{"$f":"IF(E39=\"\",\"\",ASC(②選手情報入力!F48))","v":""},"","",{"$f":"IF(E39=\"\",\"\",IF(②選手情報入力!I48=\"\",\"JPN\",LEFT(②選手情報入力!I48,3)))","v":""},{"$f":"IF(E39=\"\",\"\",IF(②選手情報入力!J48=\"男\",1,2))","v":""},{"$f":"IF(E39=\"\",\"\",IF(②選手情報入力!K48=\"\",\"\",②選手情報入力!K48))","v":""},{"$f":"IF(E39=\"\",\"\",LEFT(②選手情報入力!L48,4))","v":""},{"$f":"IF(E39=\"\",\"\",RIGHT(②選手情報入力!L48,4))","v":""},"",null,{"$f":"IF(E39=\"\",\"\",IF(②選手情報入力!M48=\"\",\"\",IF(K39=1,VLOOKUP(②選手情報入力!M48,種目情報!$A$5:$B$167,2,FALSE),VLOOKUP(②選手情報入力!M48,種目情報!$E$5:$F$142,2,FALSE))))","v":""},{"$f":"IF(E39=\"\",\"\",IF(②選手情報入力!N48=\"\",\"\",②選手情報入力!N48))","v":""},null,{"$f":"IF(E39=\"\",\"\",IF(②選手情報入力!M48=\"\",\"\",IF(K39=1,VLOOKUP(②選手情報入力!M48,種目情報!$A$5:$C$135,3,FALSE),VLOOKUP(②選手情報入力!M48,種目情報!$E$5:$G$135,3,FALSE))))","v":""},{"$f":"IF(E39=\"\",\"\",IF(②選手情報入力!P48=\"\",\"\",IF(K39=1,VLOOKUP(②選手情報入力!P48,種目情報!$A$5:$B$151,2,FALSE),VLOOKUP(②選手情報入力!P48,種目情報!$E$5:$F$135,2,FALSE))))","v":""},{"$f":"IF(E39=\"\",\"\",IF(②選手情報入力!Q48=\"\",\"\",②選手情報入力!Q48))","v":""},{"$f":"IF(E39=\"\",\"\",IF(②選手情報入力!O48=\"\",\"\",1))","v":""},{"$f":"IF(E39=\"\",\"\",IF(②選手情報入力!P48=\"\",\"\",IF(K39=1,VLOOKUP(②選手情報入力!P48,種目情報!$A$5:$C$135,3,FALSE),VLOOKUP(②選手情報入力!P48,種目情報!$E$5:$G$135,3,FALSE))))","v":""},{"$f":"IF(E39=\"\",\"\",IF(②選手情報入力!S48=\"\",\"\",IF(K39=1,VLOOKUP(②選手情報入力!S48,種目情報!$A$5:$B$151,2,FALSE),VLOOKUP(②選手情報入力!S48,種目情報!$E$5:$F$135,2,FALSE))))","v":""},{"$f":"IF(E39=\"\",\"\",IF(②選手情報入力!T48=\"\",\"\",②選手情報入力!T48))","v":""},{"$f":"IF(E39=\"\",\"\",IF(②選手情報入力!R48=\"\",\"\",1))","v":""},{"$f":"IF(E39=\"\",\"\",IF(②選手情報入力!S48=\"\",\"\",IF(K39=1,VLOOKUP(②選手情報入力!S48,種目情報!$A$5:$C$135,3,FALSE),VLOOKUP(②選手情報入力!S48,種目情報!$E$5:$G$135,3,FALSE))))","v":""},{"$f":"IF(E39=\"\",\"\",IF(②選手情報入力!U48=\"\",\"\",IF(K39=1,種目情報!$J$4,種目情報!$J$6)))","v":""},{"$f":"IF(E39=\"\",\"\",IF(②選手情報入力!U48=\"\",\"\",IF(K39=1,IF(②選手情報入力!$V$7=\"\",\"\",②選手情報入力!$V$7),IF(②選手情報入力!$V$8=\"\",\"\",②選手情報入力!$V$8))))","v":""},{"$f":"IF(E39=\"\",\"\",IF(②選手情報入力!U48=\"\",\"\",IF(K39=1,IF(②選手情報入力!$U$7=\"\",0,1),IF(②選手情報入力!$U$8=\"\",0,1))))","v":""},{"$f":"IF(E39=\"\",\"\",IF(②選手情報入力!U48=\"\",\"\",2))","v":""},{"$f":"IF(E39=\"\",\"\",IF(②選手情報入力!W48=\"\",\"\",IF(K39=1,種目情報!$J$5,種目情報!$J$7)))","v":""},{"$f":"IF(E39=\"\",\"\",IF(②選手情報入力!W48=\"\",\"\",IF(K39=1,IF(②選手情報入力!$X$7=\"\",\"\",②選手情報入力!$X$7),IF(②選手情報入力!$X$8=\"\",\"\",②選手情報入力!$X$8))))","v":""},{"$f":"IF(E39=\"\",\"\",IF(②選手情報入力!W48=\"\",\"\",IF(K39=1,IF(②選手情報入力!$W$7=\"\",0,1),IF(②選手情報入力!$W$8=\"\",0,1))))","v":""},{"$f":"IF(E39=\"\",\"\",IF(②選手情報入力!W48=\"\",\"\",2))","v":""},null,null,{"$f":"IF(②選手情報入力!G48=\"\",\"\",ASC(②選手情報入力!G48))","v":""},{"$f":"IF(②選手情報入力!G48=\"\",\"\",ASC(②選手情報入力!H48))","v":""}]
["",{"$f":"IF(E40=\"\",\"\",①団体情報入力!$C$5)","v":""},null,{"$f":"IF(E40=\"\",\"\",IF(①団体情報入力!C45=\"\",\"\",①団体情報入力!C45))","v":""},{"$f":"IF(②選手情報入力!D49=\"\",\"\",②選手情報入力!D49)","v":""},{"$f":"IF(E40=\"\",\"\",②選手情報入力!E49)","v":""},{"$f":"IF(E40=\"\",\"\",ASC(②選手情報入力!F49))","v":""},"","",{"$f":"IF(E40=\"\",\"\",IF(②選手情報入力!I49=\"\",\"JPN\",LEFT(②選手情報入力!I49,3)))","v":""},{"$f":"IF(E40=\"\",\"\",IF(②選手情報入力!J49=\"男\",1,2))","v":""},{"$f":"IF(E40=\"\",\"\",IF(②選手情報入力!K49=\"\",\"\",②選手情報入力!K49))","v":""},{"$f":"IF(E40=\"\",\"\",LEFT(②選手情報入力!L49,4))","v":""},{"$f":"IF(E40=\"\",\"\",RIGHT(②選手情報入力!L49,4))","v":""},"",null,{"$f":"IF(E40=\"\",\"\",IF(②選手情報入力!M49=\"\",\"\",IF(K40=1,VLOOKUP(②選手情報入力!M49,種目情報!$A$5:$B$167,2,FALSE),VLOOKUP(②選手情報入力!M49,種目情報!$E$5:$F$142,2,FALSE))))","v":""},{"$f":"IF(E40=\"\",\"\",IF(②選手情報入力!N49=\"\",\"\",②選手情報入力!N49))","v":""},null,{"$f":"IF(E40=\"\",\"\",IF(②選手情報入力!M49=\"\",\"\",IF(K40=1,VLOOKUP(②選手情報入力!M49,種目情報!$A$5:$C$135,3,FALSE),VLOOKUP(②選手情報入力!M49,種目情報!$E$5:$G$135,3,FALSE))))","v":""},{"$f":"IF(E40=\"\",\"\",IF(②選手情報入力!P49=\"\",\"\",IF(K40=1,VLOOKUP(②選手情報入力!P49,種目情報!$A$5:$B$151,2,FALSE),VLOOKUP(②選手情報入力!P49,種目情報!$E$5:$F$135,2,FALSE))))","v":""},{"$f":"IF(E40=\"\",\"\",IF(②選手情報入力!Q49=\"\",\"\",②選手情報入力!Q49))","v":""},{"$f":"IF(E40=\"\",\"\",IF(②選手情報入力!O49=\"\",\"\",1))","v":""},{"$f":"IF(E40=\"\",\"\",IF(②選手情報入力!P49=\"\",\"\",IF(K40=1,VLOOKUP(②選手情報入力!P49,種目情報!$A$5:$C$135,3,FALSE),VLOOKUP(②選手情報入力!P49,種目情報!$E$5:$G$135,3,FALSE))))","v":""},{"$f":"IF(E40=\"\",\"\",IF(②選手情報入力!S49=\"\",\"\",IF(K40=1,VLOOKUP(②選手情報入力!S49,種目情報!$A$5:$B$151,2,FALSE),VLOOKUP(②選手情報入力!S49,種目情報!$E$5:$F$135,2,FALSE))))","v":""},{"$f":"IF(E40=\"\",\"\",IF(②選手情報入力!T49=\"\",\"\",②選手情報入力!T49))","v":""},{"$f":"IF(E40=\"\",\"\",IF(②選手情報入力!R49=\"\",\"\",1))","v":""},{"$f":"IF(E40=\"\",\"\",IF(②選手情報入力!S49=\"\",\"\",IF(K40=1,VLOOKUP(②選手情報入力!S49,種目情報!$A$5:$C$135,3,FALSE),VLOOKUP(②選手情報入力!S49,種目情報!$E$5:$G$135,3,FALSE))))","v":""},{"$f":"IF(E40=\"\",\"\",IF(②選手情報入力!U49=\"\",\"\",IF(K40=1,種目情報!$J$4,種目情報!$J$6)))","v":""},{"$f":"IF(E40=\"\",\"\",IF(②選手情報入力!U49=\"\",\"\",IF(K40=1,IF(②選手情報入力!$V$7=\"\",\"\",②選手情報入力!$V$7),IF(②選手情報入力!$V$8=\"\",\"\",②選手情報入力!$V$8))))","v":""},{"$f":"IF(E40=\"\",\"\",IF(②選手情報入力!U49=\"\",\"\",IF(K40=1,IF(②選手情報入力!$U$7=\"\",0,1),IF(②選手情報入力!$U$8=\"\",0,1))))","v":""},{"$f":"IF(E40=\"\",\"\",IF(②選手情報入力!U49=\"\",\"\",2))","v":""},{"$f":"IF(E40=\"\",\"\",IF(②選手情報入力!W49=\"\",\"\",IF(K40=1,種目情報!$J$5,種目情報!$J$7)))","v":""},{"$f":"IF(E40=\"\",\"\",IF(②選手情報入力!W49=\"\",\"\",IF(K40=1,IF(②選手情報入力!$X$7=\"\",\"\",②選手情報入力!$X$7),IF(②選手情報入力!$X$8=\"\",\"\",②選手情報入力!$X$8))))","v":""},{"$f":"IF(E40=\"\",\"\",IF(②選手情報入力!W49=\"\",\"\",IF(K40=1,IF(②選手情報入力!$W$7=\"\",0,1),IF(②選手情報入力!$W$8=\"\",0,1))))","v":""},{"$f":"IF(E40=\"\",\"\",IF(②選手情報入力!W49=\"\",\"\",2))","v":""},null,null,{"$f":"IF(②選手情報入力!G49=\"\",\"\",ASC(②選手情報入力!G49))","v":""},{"$f":"IF(②選手情報入力!G49=\"\",\"\",ASC(②選手情報入力!H49))","v":""}]
["",{"$f":"IF(E41=\"\",\"\",①団体情報入力!$C$5)","v":""},null,{"$f":"IF(E41=\"\",\"\",IF(①団体情報入力!C46=\"\",\"\",①団体情報入力!C46))","v":""},{"$f":"IF(②選手情報入力!D50=\"\",\"\",②選手情報入力!D50)","v":""},{"$f":"IF(E41=\"\",\"\",②選手情報入力!E50)","v":""},{"$f":"IF(E41=\"\",\"\",ASC(②選手情報入力!F50))","v":""},"","",{"$f":"IF(E41=\"\",\"\",IF(②選手情報入力!I50=\"\",\"JPN\",LEFT(②選手情報入力!I50,3)))","v":""},{"$f":"IF(E41=\"\",\"\",IF(②選手情報入力!J50=\"男\",1,2))","v":""},{"$f":"IF(E41=\"\",\"\",IF(②選手情報入力!K50=\"\",\"\",②選手情報入力!K50))","v":""},{"$f":"IF(E41=\"\",\"\",LEFT(②選手情報入力!L50,4))","v":""},{"$f":"IF(E41=\"\",\"\",RIGHT(②選手情報入力!L50,4))","v":""},"",null,{"$f":"IF(E41=\"\",\"\",IF(②選手情報入力!M50=\"\",\"\",IF(K41=1,VLOOKUP(②選手情報入力!M50,種目情報!$A$5:$B$167,2,FALSE),VLOOKUP(②選手情報入力!M50,種目情報!$E$5:$F$142,2,FALSE))))","v":""},{"$f":"IF(E41=\"\",\"\",IF(②選手情報入力!N50=\"\",\"\",②選手情報入力!N50))","v":""},null,{"$f":"IF(E41=\"\",\"\",IF(②選手情報入力!M50=\"\",\"\",IF(K41=1,VLOOKUP(②選手情報入力!M50,種目情報!$A$5:$C$135,3,FALSE),VLOOKUP(②選手情報入力!M50,種目情報!$E$5:$G$135,3,FALSE))))","v":""},{"$f":"IF(E41=\"\",\"\",IF(②選手情報入力!P50=\"\",\"\",IF(K41=1,VLOOKUP(②選手情報入力!P50,種目情報!$A$5:$B$151,2,FALSE),VLOOKUP(②選手情報入力!P50,種目情報!$E$5:$F$135,2,FALSE))))","v":""},{"$f":"IF(E41=\"\",\"\",IF(②選手情報入力!Q50=\"\",\"\",②選手情報入力!Q50))","v":""},{"$f":"IF(E41=\"\",\"\",IF(②選手情報入力!O50=\"\",\"\",1))","v":""},{"$f":"IF(E41=\"\",\"\",IF(②選手情報入力!P50=\"\",\"\",IF(K41=1,VLOOKUP(②選手情報入力!P50,種目情報!$A$5:$C$135,3,FALSE),VLOOKUP(②選手情報入力!P50,種目情報!$E$5:$G$135,3,FALSE))))","v":""},{"$f":"IF(E41=\"\",\"\",IF(②選手情報入力!S50=\"\",\"\",IF(K41=1,VLOOKUP(②選手情報入力!S50,種目情報!$A$5:$B$151,2,FALSE),VLOOKUP(②選手情報入力!S50,種目情報!$E$5:$F$135,2,FALSE))))","v":""},{"$f":"IF(E41=\"\",\"\",IF(②選手情報入力!T50=\"\",\"\",②選手情報入力!T50))","v":""},{"$f":"IF(E41=\"\",\"\",IF(②選手情報入力!R50=\"\",\"\",1))","v":""},{"$f":"IF(E41=\"\",\"\",IF(②選手情報入力!S50=\"\",\"\",IF(K41=1,VLOOKUP(②選手情報入力!S50,種目情報!$A$5:$C$135,3,FALSE),VLOOKUP(②選手情報入力!S50,種目情報!$E$5:$G$135,3,FALSE))))","v":""},{"$f":"IF(E41=\"\",\"\",IF(②選手情報入力!U50=\"\",\"\",IF(K41=1,種目情報!$J$4,種目情報!$J$6)))","v":""},{"$f":"IF(E41=\"\",\"\",IF(②選手情報入力!U50=\"\",\"\",IF(K41=1,IF(②選手情報入力!$V$7=\"\",\"\",②選手情報入力!$V$7),IF(②選手情報入力!$V$8=\"\",\"\",②選手情報入力!$V$8))))","v":""},{"$f":"IF(E41=\"\",\"\",IF(②選手情報入力!U50=\"\",\"\",IF(K41=1,IF(②選手情報入力!$U$7=\"\",0,1),IF(②選手情報入力!$U$8=\"\",0,1))))","v":""},{"$f":"IF(E41=\"\",\"\",IF(②選手情報入力!U50=\"\",\"\",2))","v":""},{"$f":"IF(E41=\"\",\"\",IF(②選手情報入力!W50=\"\",\"\",IF(K41=1,種目情報!$J$5,種目情報!$J$7)))","v":""},{"$f":"IF(E41=\"\",\"\",IF(②選手情報入力!W50=\"\",\"\",IF(K41=1,IF(②選手情報入力!$X$7=\"\",\"\",②選手情報入力!$X$7),IF(②選手情報入力!$X$8=\"\",\"\",②選手情報入力!$X$8))))","v":""},{"$f":"IF(E41=\"\",\"\",IF(②選手情報入力!W50=\"\",\"\",IF(K41=1,IF(②選手情報入力!$W$7=\"\",0,1),IF(②選手情報入力!$W$8=\"\",0,1))))","v":""},{"$f":"IF(E41=\"\",\"\",IF(②選手情報入力!W50=\"\",\"\",2))","v":""},null,null,{"$f":"IF(②選手情報入力!G50=\"\",\"\",ASC(②選手情報入力!G50))","v":""},{"$f":"IF(②選手情報入力!G50=\"\",\"\",ASC(②選手情報入力!H50))","v":""}]
["",{"$f":"IF(E42=\"\",\"\",①団体情報入力!$C$5)","v":""},null,{"$f":"IF(E42=\"\",\"\",IF(①団体情報入力!C47=\"\",\"\",①団体情報入力!C47))","v":""},{"$f":"IF(②選手情報入力!D51=\"\",\"\",②選手情報入力!D51)","v":""},{"$f":"IF(E42=\"\",\"\",②選手情報入力!E51)","v":""},{"$f":"IF(E42=\"\",\"\",ASC(②選手情報入力!F51))","v":""},"","",{"$f":"IF(E42=\"\",\"\",IF(②選手情報入力!I51=\"\",\"JPN\",LEFT(②選手情報入力!I51,3)))","v":""},{"$f":"IF(E42=\"\",\"\",IF(②選手情報入力!J51=\"男\",1,2))","v":""},{"$f":"IF(E42=\"\",\"\",IF(②選手情報入力!K51=\"\",\"\",②選手情報入力!K51))","v":""},{"$f":"IF(E42=\"\",\"\",LEFT(②選手情報入力!L51,4))","v":""},{"$f":"IF(E42=\"\",\"\",RIGHT(②選手情報入力!L51,4))","v":""},"",null,{"$f":"IF(E42=\"\",\"\",IF(②選手情報入力!M51=\"\",\"\",IF(K42=1,VLOOKUP(②選手情報入力!M51,種目情報!$A$5:$B$167,2,FALSE),VLOOKUP(②選手情報入力!M51,種目情報!$E$5:$F$142,2,FALSE))))","v":""},{"$f":"IF(E42=\"\",\"\",IF(②選手情報入力!N51=\"\",\"\",②選手情報入力!N51))","v":""},null,{"$f":"IF(E42=\"\",\"\",IF(②選手情報入力!M51=\"\",\"\",IF(K42=1,VLOOKUP(②選手情報入力!M51,種目情報!$A$5:$C$135,3,FALSE),VLOOKUP(②選手情報入力!M51,種目情報!$E$5:$G$135,3,FALSE))))","v":""},{"$f":"IF(E42=\"\",\"\",IF(②選手情報入力!P51=\"\",\"\",IF(K42=1,VLOOKUP(②選手情報入力!P51,種目情報!$A$5:$B$151,2,FALSE),VLOOKUP(②選手情報入力!P51,種目情報!$E$5:$F$135,2,FALSE))))","v":""},{"$f":"IF(E42=\"\",\"\",IF(②選手情報入力!Q51=\"\",\"\",②選手情報入力!Q51))","v":""},{"$f":"IF(E42=\"\",\"\",IF(②選手情報入力!O51=\"\",\"\",1))","v":""},{"$f":"IF(E42=\"\",\"\",IF(②選手情報入力!P51=\"\",\"\",IF(K42=1,VLOOKUP(②選手情報入力!P51,種目情報!$A$5:$C$135,3,FALSE),VLOOKUP(②選手情報入力!P51,種目情報!$E$5:$G$135,3,FALSE))))","v":""},{"$f":"IF(E42=\"\",\"\",IF(②選手情報入力!S51=\"\",\"\",IF(K42=1,VLOOKUP(②選手情報入力!S51,種目情報!$A$5:$B$151,2,FALSE),VLOOKUP(②選手情報入力!S51,種目情報!$E$5:$F$135,2,FALSE))))","v":""},{"$f":"IF(E42=\"\",\"\",IF(②選手情報入力!T51=\"\",\"\",②選手情報入力!T51))","v":""},{"$f":"IF(E42=\"\",\"\",IF(②選手情報入力!R51=\"\",\"\",1))","v":""},{"$f":"IF(E42=\"\",\"\",IF(②選手情報入力!S51=\"\",\"\",IF(K42=1,VLOOKUP(②選手情報入力!S51,種目情報!$A$5:$C$135,3,FALSE),VLOOKUP(②選手情報入力!S51,種目情報!$E$5:$G$135,3,FALSE))))","v":""},{"$f":"IF(E42=\"\",\"\",IF(②選手情報入力!U51=\"\",\"\",IF(K42=1,種目情報!$J$4,種目情報!$J$6)))","v":""},{"$f":"IF(E42=\"\",\"\",IF(②選手情報入力!U51=\"\",\"\",IF(K42=1,IF(②選手情報入力!$V$7=\"\",\"\",②選手情報入力!$V$7),IF(②選手情報入力!$V$8=\"\",\"\",②選手情報入力!$V$8))))","v":""},{"$f":"IF(E42=\"\",\"\",IF(②選手情報入力!U51=\"\",\"\",IF(K42=1,IF(②選手情報入力!$U$7=\"\",0,1),IF(②選手情報入力!$U$8=\"\",0,1))))","v":""},{"$f":"IF(E42=\"\",\"\",IF(②選手情報入力!U51=\"\",\"\",2))","v":""},{"$f":"IF(E42=\"\",\"\",IF(②選手情報入力!W51=\"\",\"\",IF(K42=1,種目情報!$J$5,種目情報!$J$7)))","v":""},{"$f":"IF(E42=\"\",\"\",IF(②選手情報入力!W51=\"\",\"\",IF(K42=1,IF(②選手情報入力!$X$7=\"\",\"\",②選手情報入力!$X$7),IF(②選手情報入力!$X$8=\"\",\"\",②選手情報入力!$X$8))))","v":""},{"$f":"IF(E42=\"\",\"\",IF(②選手情報入力!W51=\"\",\"\",IF(K42=1,IF(②選手情報入力!$W$7=\"\",0,1),IF(②選手情報入力!$W$8=\"\",0,1))))","v":""},{"$f":"IF(E42=\"\",\"\",IF(②選手情報入力!W51=\"\",\"\",2))","v":""},null,null,{"$f":"IF(②選手情報入力!G51=\"\",\"\",ASC(②選手情報入力!G51))","v":""},{"$f":"IF(②選手情報入力!G51=\"\",\"\",ASC(②選手情報入力!H51))","v":""}]
["",{"$f":"IF(E43=\"\",\"\",①団体情報入力!$C$5)","v":""},null,{"$f":"IF(E43=\"\",\"\",IF(①団体情報入力!C48=\"\",\"\",①団体情報入力!C48))","v":""},{"$f":"IF(②選手情報入力!D52=\"\",\"\",②選手情報入力!D52)","v":""},{"$f":"IF(E43=\"\",\"\",②選手情報入力!E52)","v":""},{"$f":"IF(E43=\"\",\"\",ASC(②選手情報入力!F52))","v":""},"","",{"$f":"IF(E43=\"\",\"\",IF(②選手情報入力!I52=\"\",\"JPN\",LEFT(②選手情報入力!I52,3)))","v":""},{"$f":"IF(E43=\"\",\"\",IF(②選手情報入力!J52=\"男\",1,2))","v":""},{"$f":"IF(E43=\"\",\"\",IF(②選手情報入力!K52=\"\",\"\",②選手情報入力!K52))","v":""},{"$f":"IF(E43=\"\",\"\",LEFT(②選手情報入力!L52,4))","v":""},{"$f":"IF(E43=\"\",\"\",RIGHT(②選手情報入力!L52,4))","v":""},"",null,{"$f":"IF(E43=\"\",\"\",IF(②選手情報入力!M52=\"\",\"\",IF(K43=1,VLOOKUP(②選手情報入力!M52,種目情報!$A$5:$B$167,2,FALSE),VLOOKUP(②選手情報入力!M52,種目情報!$E$5:$F$142,2,FALSE))))","v":""},{"$f":"IF(E43=\"\",\"\",IF(②選手情報入力!N52=\"\",\"\",②選手情報入力!N52))","v":""},null,{"$f":"IF(E43=\"\",\"\",IF(②選手情報入力!M52=\"\",\"\",IF(K43=1,VLOOKUP(②選手情報入力!M52,種目情報!$A$5:$C$135,3,FALSE),VLOOKUP(②選手情報入力!M52,種目情報!$E$5:$G$135,3,FALSE))))","v":""},{"$f":"IF(E43=\"\",\"\",IF(②選手情報入力!P52=\"\",\"\",IF(K43=1,VLOOKUP(②選手情報入力!P52,種目情報!$A$5:$B$151,2,FALSE),VLOOKUP(②選手情報入力!P52,種目情報!$E$5:$F$135,2,FALSE))))","v":""},{"$f":"IF(E43=\"\",\"\",IF(②選手情報入力!Q52=\"\",\"\",②選手情報入力!Q52))","v":""},{"$f":"IF(E43=\"\",\"\",IF(②選手情報入力!O52=\"\",\"\",1))","v":""},{"$f":"IF(E43=\"\",\"\",IF(②選手情報入力!P52=\"\",\"\",IF(K43=1,VLOOKUP(②選手情報入力!P52,種目情報!$A$5:$C$135,3,FALSE),VLOOKUP(②選手情報入力!P52,種目情報!$E$5:$G$135,3,FALSE))))","v":""},{"$f":"IF(E43=\"\",\"\",IF(②選手情報入力!S52=\"\",\"\",IF(K43=1,VLOOKUP(②選手情報入力!S52,種目情報!$A$5:$B$151,2,FALSE),VLOOKUP(②選手情報入力!S52,種目情報!$E$5:$F$135,2,FALSE))))","v":""},{"$f":"IF(E43=\"\",\"\",IF(②選手情報入力!T52=\"\",\"\",②選手情報入力!T52))","v":""},{"$f":"IF(E43=\"\",\"\",IF(②選手情報入力!R52=\"\",\"\",1))","v":""},{"$f":"IF(E43=\"\",\"\",IF(②選手情報入力!S52=\"\",\"\",IF(K43=1,VLOOKUP(②選手情報入力!S52,種目情報!$A$5:$C$135,3,FALSE),VLOOKUP(②選手情報入力!S52,種目情報!$E$5:$G$135,3,FALSE))))","v":""},{"$f":"IF(E43=\"\",\"\",IF(②選手情報入力!U52=\"\",\"\",IF(K43=1,種目情報!$J$4,種目情報!$J$6)))","v":""},{"$f":"IF(E43=\"\",\"\",IF(②選手情報入力!U52=\"\",\"\",IF(K43=1,IF(②選手情報入力!$V$7=\"\",\"\",②選手情報入力!$V$7),IF(②選手情報入力!$V$8=\"\",\"\",②選手情報入力!$V$8))))","v":""},{"$f":"IF(E43=\"\",\"\",IF(②選手情報入力!U52=\"\",\"\",IF(K43=1,IF(②選手情報入力!$U$7=\"\",0,1),IF(②選手情報入力!$U$8=\"\",0,1))))","v":""},{"$f":"IF(E43=\"\",\"\",IF(②選手情報入力!U52=\"\",\"\",2))","v":""},{"$f":"IF(E43=\"\",\"\",IF(②選手情報入力!W52=\"\",\"\",IF(K43=1,種目情報!$J$5,種目情報!$J$7)))","v":""},{"$f":"IF(E43=\"\",\"\",IF(②選手情報入力!W52=\"\",\"\",IF(K43=1,IF(②選手情報入力!$X$7=\"\",\"\",②選手情報入力!$X$7),IF(②選手情報入力!$X$8=\"\",\"\",②選手情報入力!$X$8))))","v":""},{"$f":"IF(E43=\"\",\"\",IF(②選手情報入力!W52=\"\",\"\",IF(K43=1,IF(②選手情報入力!$W$7=\"\",0,1),IF(②選手情報入力!$W$8=\"\",0,1))))","v":""},{"$f":"IF(E43=\"\",\"\",IF(②選手情報入力!W52=\"\",\"\",2))","v":""},null,null,{"$f":"IF(②選手情報入力!G52=\"\",\"\",ASC(②選手情報入力!G52))","v":""},{"$f":"IF(②選手情報入力!G52=\"\",\"\",ASC(②選手情報入力!H52))","v":""}]
["",{"$f":"IF(E44=\"\",\"\",①団体情報入力!$C$5)","v":""},null,{"$f":"IF(E44=\"\",\"\",IF(①団体情報入力!C49=\"\",\"\",①団体情報入力!C49))","v":""},{"$f":"IF(②選手情報入力!D53=\"\",\"\",②選手情報入力!D53)","v":""},{"$f":"IF(E44=\"\",\"\",②選手情報入力!E53)","v":""},{"$f":"IF(E44=\"\",\"\",ASC(②選手情報入力!F53))","v":""},"","",{"$f":"IF(E44=\"\",\"\",IF(②選手情報入力!I53=\"\",\"JPN\",LEFT(②選手情報入力!I53,3)))","v":""},{"$f":"IF(E44=\"\",\"\",IF(②選手情報入力!J53=\"男\",1,2))","v":""},{"$f":"IF(E44=\"\",\"\",IF(②選手情報入力!K53=\"\",\"\",②選手情報入力!K53))","v":""},{"$f":"IF(E44=\"\",\"\",LEFT(②選手情報入力!L53,4))","v":""},{"$f":"IF(E44=\"\",\"\",RIGHT(②選手情報入力!L53,4))","v":""},"",null,{"$f":"IF(E44=\"\",\"\",IF(②選手情報入力!M53=\"\",\"\",IF(K44=1,VLOOKUP(②選手情報入力!M53,種目情報!$A$5:$B$167,2,FALSE),VLOOKUP(②選手情報入力!M53,種目情報!$E$5:$F$142,2,FALSE))))","v":""},{"$f":"IF(E44=\"\",\"\",IF(②選手情報入力!N53=\"\",\"\",②選手情報入力!N53))","v":""},null,{"$f":"IF(E44=\"\",\"\",IF(②選手情報入力!M53=\"\",\"\",IF(K44=1,VLOOKUP(②選手情報入力!M53,種目情報!$A$5:$C$135,3,FALSE),VLOOKUP(②選手情報入力!M53,種目情報!$E$5:$G$135,3,FALSE))))","v":""},{"$f":"IF(E44=\"\",\"\",IF(②選手情報入力!P53=\"\",\"\",IF(K44=1,VLOOKUP(②選手情報入力!P53,種目情報!$A$5:$B$151,2,FALSE),VLOOKUP(②選手情報入力!P53,種目情報!$E$5:$F$135,2,FALSE))))","v":""},{"$f":"IF(E44=\"\",\"\",IF(②選手情報入力!Q53=\"\",\"\",②選手情報入力!Q53))","v":""},{"$f":"IF(E44=\"\",\"\",IF(②選手情報入力!O53=\"\",\"\",1))","v":""},{"$f":"IF(E44=\"\",\"\",IF(②選手情報入力!P53=\"\",\"\",IF(K44=1,VLOOKUP(②選手情報入力!P53,種目情報!$A$5:$C$135,3,FALSE),VLOOKUP(②選手情報入力!P53,種目情報!$E$5:$G$135,3,FALSE))))","v":""},{"$f":"IF(E44=\"\",\"\",IF(②選手情報入力!S53=\"\",\"\",IF(K44=1,VLOOKUP(②選手情報入力!S53,種目情報!$A$5:$B$151,2,FALSE),VLOOKUP(②選手情報入力!S53,種目情報!$E$5:$F$135,2,FALSE))))","v":""},{"$f":"IF(E44=\"\",\"\",IF(②選手情報入力!T53=\"\",\"\",②選手情報入力!T53))","v":""},{"$f":"IF(E44=\"\",\"\",IF(②選手情報入力!R53=\"\",\"\",1))","v":""},{"$f":"IF(E44=\"\",\"\",IF(②選手情報入力!S53=\"\",\"\",IF(K44=1,VLOOKUP(②選手情報入力!S53,種目情報!$A$5:$C$135,3,FALSE),VLOOKUP(②選手情報入力!S53,種目情報!$E$5:$G$135,3,FALSE))))","v":""},{"$f":"IF(E44=\"\",\"\",IF(②選手情報入力!U53=\"\",\"\",IF(K44=1,種目情報!$J$4,種目情報!$J$6)))","v":""},{"$f":"IF(E44=\"\",\"\",IF(②選手情報入力!U53=\"\",\"\",IF(K44=1,IF(②選手情報入力!$V$7=\"\",\"\",②選手情報入力!$V$7),IF(②選手情報入力!$V$8=\"\",\"\",②選手情報入力!$V$8))))","v":""},{"$f":"IF(E44=\"\",\"\",IF(②選手情報入力!U53=\"\",\"\",IF(K44=1,IF(②選手情報入力!$U$7=\"\",0,1),IF(②選手情報入力!$U$8=\"\",0,1))))","v":""},{"$f":"IF(E44=\"\",\"\",IF(②選手情報入力!U53=\"\",\"\",2))","v":""},{"$f":"IF(E44=\"\",\"\",IF(②選手情報入力!W53=\"\",\"\",IF(K44=1,種目情報!$J$5,種目情報!$J$7)))","v":""},{"$f":"IF(E44=\"\",\"\",IF(②選手情報入力!W53=\"\",\"\",IF(K44=1,IF(②選手情報入力!$X$7=\"\",\"\",②選手情報入力!$X$7),IF(②選手情報入力!$X$8=\"\",\"\",②選手情報入力!$X$8))))","v":""},{"$f":"IF(E44=\"\",\"\",IF(②選手情報入力!W53=\"\",\"\",IF(K44=1,IF(②選手情報入力!$W$7=\"\",0,1),IF(②選手情報入力!$W$8=\"\",0,1))))","v":""},{"$f":"IF(E44=\"\",\"\",IF(②選手情報入力!W53=\"\",\"\",2))","v":""},null,null,{"$f":"IF(②選手情報入力!G53=\"\",\"\",ASC(②選手情報入力!G53))","v":""},{"$f":"IF(②選手情報入力!G53=\"\",\"\",ASC(②選手情報入力!H53))","v":""}]
["",{"$f":"IF(E45=\"\",\"\",①団体情報入力!$C$5)","v":""},null,{"$f":"IF(E45=\"\",\"\",IF(①団体情報入力!C50=\"\",\"\",①団体情報入力!C50))","v":""},{"$f":"IF(②選手情報入力!D54=\"\",\"\",②選手情報入力!D54)","v":""},{"$f":"IF(E45=\"\",\"\",②選手情報入力!E54)","v":""},{"$f":"IF(E45=\"\",\"\",ASC(②選手情報入力!F54))","v":""},"","",{"$f":"IF(E45=\"\",\"\",IF(②選手情報入力!I54=\"\",\"JPN\",LEFT(②選手情報入力!I54,3)))","v":""},{"$f":"IF(E45=\"\",\"\",IF(②選手情報入力!J54=\"男\",1,2))","v":""},{"$f":"IF(E45=\"\",\"\",IF(②選手情報入力!K54=\"\",\"\",②選手情報入力!K54))","v":""},{"$f":"IF(E45=\"\",\"\",LEFT(②選手情報入力!L54,4))","v":""},{"$f":"IF(E45=\"\",\"\",RIGHT(②選手情報入力!L54,4))","v":""},"",null,{"$f":"IF(E45=\"\",\"\",IF(②選手情報入力!M54=\"\",\"\",IF(K45=1,VLOOKUP(②選手情報入力!M54,種目情報!$A$5:$B$167,2,FALSE),VLOOKUP(②選手情報入力!M54,種目情報!$E$5:$F$142,2,FALSE))))","v":""},{"$f":"IF(E45=\"\",\"\",IF(②選手情報入力!N54=\"\",\"\",②選手情報入力!N54))","v":""},null,{"$f":"IF(E45=\"\",\"\",IF(②選手情報入力!M54=\"\",\"\",IF(K45=1,VLOOKUP(②選手情報入力!M54,種目情報!$A$5:$C$135,3,FALSE),VLOOKUP(②選手情報入力!M54,種目情報!$E$5:$G$135,3,FALSE))))","v":""},{"$f":"IF(E45=\"\",\"\",IF(②選手情報入力!P54=\"\",\"\",IF(K45=1,VLOOKUP(②選手情報入力!P54,種目情報!$A$5:$B$151,2,FALSE),VLOOKUP(②選手情報入力!P54,種目情報!$E$5:$F$135,2,FALSE))))","v":""},{"$f":"IF(E45=\"\",\"\",IF(②選手情報入力!Q54=\"\",\"\",②選手情報入力!Q54))","v":""},{"$f":"IF(E45=\"\",\"\",IF(②選手情報入力!O54=\"\",\"\",1))","v":""},{"$f":"IF(E45=\"\",\"\",IF(②選手情報入力!P54=\"\",\"\",IF(K45=1,VLOOKUP(②選手情報入力!P54,種目情報!$A$5:$C$135,3,FALSE),VLOOKUP(②選手情報入力!P54,種目情報!$E$5:$G$135,3,FALSE))))","v":""},{"$f":"IF(E45=\"\",\"\",IF(②選手情報入力!S54=\"\",\"\",IF(K45=1,VLOOKUP(②選手情報入力!S54,種目情報!$A$5:$B$151,2,FALSE),VLOOKUP(②選手情報入力!S54,種目情報!$E$5:$F$135,2,FALSE))))","v":""},{"$f":"IF(E45=\"\",\"\",IF(②選手情報入力!T54=\"\",\"\",②選手情報入力!T54))","v":""},{"$f":"IF(E45=\"\",\"\",IF(②選手情報入力!R54=\"\",\"\",1))","v":""},{"$f":"IF(E45=\"\",\"\",IF(②選手情報入力!S54=\"\",\"\",IF(K45=1,VLOOKUP(②選手情報入力!S54,種目情報!$A$5:$C$135,3,FALSE),VLOOKUP(②選手情報入力!S54,種目情報!$E$5:$G$135,3,FALSE))))","v":""},{"$f":"IF(E45=\"\",\"\",IF(②選手情報入力!U54=\"\",\"\",IF(K45=1,種目情報!$J$4,種目情報!$J$6)))","v":""},{"$f":"IF(E45=\"\",\"\",IF(②選手情報入力!U54=\"\",\"\",IF(K45=1,IF(②選手情報入力!$V$7=\"\",\"\",②選手情報入力!$V$7),IF(②選手情報入力!$V$8=\"\",\"\",②選手情報入力!$V$8))))","v":""},{"$f":"IF(E45=\"\",\"\",IF(②選手情報入力!U54=\"\",\"\",IF(K45=1,IF(②選手情報入力!$U$7=\"\",0,1),IF(②選手情報入力!$U$8=\"\",0,1))))","v":""},{"$f":"IF(E45=\"\",\"\",IF(②選手情報入力!U54=\"\",\"\",2))","v":""},{"$f":"IF(E45=\"\",\"\",IF(②選手情報入力!W54=\"\",\"\",IF(K45=1,種目情報!$J$5,種目情報!$J$7)))","v":""},{"$f":"IF(E45=\"\",\"\",IF(②選手情報入力!W54=\"\",\"\",IF(K45=1,IF(②選手情報入力!$X$7=\"\",\"\",②選手情報入力!$X$7),IF(②選手情報入力!$X$8=\"\",\"\",②選手情報入力!$X$8))))","v":""},{"$f":"IF(E45=\"\",\"\",IF(②選手情報入力!W54=\"\",\"\",IF(K45=1,IF(②選手情報入力!$W$7=\"\",0,1),IF(②選手情報入力!$W$8=\"\",0,1))))","v":""},{"$f":"IF(E45=\"\",\"\",IF(②選手情報入力!W54=\"\",\"\",2))","v":""},null,null,{"$f":"IF(②選手情報入力!G54=\"\",\"\",ASC(②選手情報入力!G54))","v":""},{"$f":"IF(②選手情報入力!G54=\"\",\"\",ASC(②選手情報入力!H54))","v":""}]
["",{"$f":"IF(E46=\"\",\"\",①団体情報入力!$C$5)","v":""},null,{"$f":"IF(E46=\"\",\"\",IF(①団体情報入力!C51=\"\",\"\",①団体情報入力!C51))","v":""},{"$f":"IF(②選手情報入力!D55=\"\",\"\",②選手情報入力!D55)","v":""},{"$f":"IF(E46=\"\",\"\",②選手情報入力!E55)","v":""},{"$f":"IF(E46=\"\",\"\",ASC(②選手情報入力!F55))","v":""},"","",{"$f":"IF(E46=\"\",\"\",IF(②選手情報入力!I55=\"\",\"JPN\",LEFT(②選手情報入力!I55,3)))","v":""},{"$f":"IF(E46=\"\",\"\",IF(②選手情報入力!J55=\"男\",1,2))","v":""},{"$f":"IF(E46=\"\",\"\",IF(②選手情報入力!K55=\"\",\"\",②選手情報入力!K55))","v":""},{"$f":"IF(E46=\"\",\"\",LEFT(②選手情報入力!L55,4))","v":""},{"$f":"IF(E46=\"\",\"\",RIGHT(②選手情報入力!L55,4))","v":""},"",null,{"$f":"IF(E46=\"\",\"\",IF(②選手情報入力!M55=\"\",\"\",IF(K46=1,VLOOKUP(②選手情報入力!M55,種目情報!$A$5:$B$167,2,FALSE),VLOOKUP(②選手情報入力!M55,種目情報!$E$5:$F$142,2,FALSE))))","v":""},{"$f":"IF(E46=\"\",\"\",IF(②選手情報入力!N55=\"\",\"\",②選手情報入力!N55))","v":""},null,{"$f":"IF(E46=\"\",\"\",IF(②選手情報入力!M55=\"\",\"\",IF(K46=1,VLOOKUP(②選手情報入力!M55,種目情報!$A$5:$C$135,3,FALSE),VLOOKUP(②選手情報入力!M55,種目情報!$E$5:$G$135,3,FALSE))))","v":""},{"$f":"IF(E46=\"\",\"\",IF(②選手情報入力!P55=\"\",\"\",IF(K46=1,VLOOKUP(②選手情報入力!P55,種目情報!$A$5:$B$151,2,FALSE),VLOOKUP(②選手情報入力!P55,種目情報!$E$5:$F$135,2,FALSE))))","v":""},{"$f":"IF(E46=\"\",\"\",IF(②選手情報入力!Q55=\"\",\"\",②選手情報入力!Q55))","v":""},{"$f":"IF(E46=\"\",\"\",IF(②選手情報入力!O55=\"\",\"\",1))","v":""},{"$f":"IF(E46=\"\",\"\",IF(②選手情報入力!P55=\"\",\"\",IF(K46=1,VLOOKUP(②選手情報入力!P55,種目情報!$A$5:$C$135,3,FALSE),VLOOKUP(②選手情報入力!P55,種目情報!$E$5:$G$135,3,FALSE))))","v":""},{"$f":"IF(E46=\"\",\"\",IF(②選手情報入力!S55=\"\",\"\",IF(K46=1,VLOOKUP(②選手情報入力!S55,種目情報!$A$5:$B$151,2,FALSE),VLOOKUP(②選手情報入力!S55,種目情報!$E$5:$F$135,2,FALSE))))","v":""},{"$f":"IF(E46=\"\",\"\",IF(②選手情報入力!T55=\"\",\"\",②選手情報入力!T55))","v":""},{"$f":"IF(E46=\"\",\"\",IF(②選手情報入力!R55=\"\",\"\",1))","v":""},{"$f":"IF(E46=\"\",\"\",IF(②選手情報入力!S55=\"\",\"\",IF(K46=1,VLOOKUP(②選手情報入力!S55,種目情報!$A$5:$C$135,3,FALSE),VLOOKUP(②選手情報入力!S55,種目情報!$E$5:$G$135,3,FALSE))))","v":""},{"$f":"IF(E46=\"\",\"\",IF(②選手情報入力!U55=\"\",\"\",IF(K46=1,種目情報!$J$4,種目情報!$J$6)))","v":""},{"$f":"IF(E46=\"\",\"\",IF(②選手情報入力!U55=\"\",\"\",IF(K46=1,IF(②選手情報入力!$V$7=\"\",\"\",②選手情報入力!$V$7),IF(②選手情報入力!$V$8=\"\",\"\",②選手情報入力!$V$8))))","v":""},{"$f":"IF(E46=\"\",\"\",IF(②選手情報入力!U55=\"\",\"\",IF(K46=1,IF(②選手情報入力!$U$7=\"\",0,1),IF(②選手情報入力!$U$8=\"\",0,1))))","v":""},{"$f":"IF(E46=\"\",\"\",IF(②選手情報入力!U55=\"\",\"\",2))","v":""},{"$f":"IF(E46=\"\",\"\",IF(②選手情報入力!W55=\"\",\"\",IF(K46=1,種目情報!$J$5,種目情報!$J$7)))","v":""},{"$f":"IF(E46=\"\",\"\",IF(②選手情報入力!W55=\"\",\"\",IF(K46=1,IF(②選手情報入力!$X$7=\"\",\"\",②選手情報入力!$X$7),IF(②選手情報入力!$X$8=\"\",\"\",②選手情報入力!$X$8))))","v":""},{"$f":"IF(E46=\"\",\"\",IF(②選手情報入力!W55=\"\",\"\",IF(K46=1,IF(②選手情報入力!$W$7=\"\",0,1),IF(②選手情報入力!$W$8=\"\",0,1))))","v":""},{"$f":"IF(E46=\"\",\"\",IF(②選手情報入力!W55=\"\",\"\",2))","v":""},null,null,{"$f":"IF(②選手情報入力!G55=\"\",\"\",ASC(②選手情報入力!G55))","v":""},{"$f":"IF(②選手情報入力!G55=\"\",\"\",ASC(②選手情報入力!H55))","v":""}]
["",{"$f":"IF(E47=\"\",\"\",①団体情報入力!$C$5)","v":""},null,{"$f":"IF(E47=\"\",\"\",IF(①団体情報入力!C52=\"\",\"\",①団体情報入力!C52))","v":""},{"$f":"IF(②選手情報入力!D56=\"\",\"\",②選手情報入力!D56)","v":""},{"$f":"IF(E47=\"\",\"\",②選手情報入力!E56)","v":""},{"$f":"IF(E47=\"\",\"\",ASC(②選手情報入力!F56))","v":""},"","",{"$f":"IF(E47=\"\",\"\",IF(②選手情報入力!I56=\"\",\"JPN\",LEFT(②選手情報入力!I56,3)))","v":""},{"$f":"IF(E47=\"\",\"\",IF(②選手情報入力!J56=\"男\",1,2))","v":""},{"$f":"IF(E47=\"\",\"\",IF(②選手情報入力!K56=\"\",\"\",②選手情報入力!K56))","v":""},{"$f":"IF(E47=\"\",\"\",LEFT(②選手情報入力!L56,4))","v":""},{"$f":"IF(E47=\"\",\"\",RIGHT(②選手情報入力!L56,4))","v":""},"",null,{"$f":"IF(E47=\"\",\"\",IF(②選手情報入力!M56=\"\",\"\",IF(K47=1,VLOOKUP(②選手情報入力!M56,種目情報!$A$5:$B$167,2,FALSE),VLOOKUP(②選手情報入力!M56,種目情報!$E$5:$F$142,2,FALSE))))","v":""},{"$f":"IF(E47=\"\",\"\",IF(②選手情報入力!N56=\"\",\"\",②選手情報入力!N56))","v":""},null,{"$f":"IF(E47=\"\",\"\",IF(②選手情報入力!M56=\"\",\"\",IF(K47=1,VLOOKUP(②選手情報入力!M56,種目情報!$A$5:$C$135,3,FALSE),VLOOKUP(②選手情報入力!M56,種目情報!$E$5:$G$135,3,FALSE))))","v":""},{"$f":"IF(E47=\"\",\"\",IF(②選手情報入力!P56=\"\",\"\",IF(K47=1,VLOOKUP(②選手情報入力!P56,種目情報!$A$5:$B$151,2,FALSE),VLOOKUP(②選手情報入力!P56,種目情報!$E$5:$F$135,2,FALSE))))","v":""},{"$f":"IF(E47=\"\",\"\",IF(②選手情報入力!Q56=\"\",\"\",②選手情報入力!Q56))","v":""},{"$f":"IF(E47=\"\",\"\",IF(②選手情報入力!O56=\"\",\"\",1))","v":""},{"$f":"IF(E47=\"\",\"\",IF(②選手情報入力!P56=\"\",\"\",IF(K47=1,VLOOKUP(②選手情報入力!P56,種目情報!$A$5:$C$135,3,FALSE),VLOOKUP(②選手情報入力!P56,種目情報!$E$5:$G$135,3,FALSE))))","v":""},{"$f":"IF(E47=\"\",\"\",IF(②選手情報入力!S56=\"\",\"\",IF(K47=1,VLOOKUP(②選手情報入力!S56,種目情報!$A$5:$B$151,2,FALSE),VLOOKUP(②選手情報入力!S56,種目情報!$E$5:$F$135,2,FALSE))))","v":""},{"$f":"IF(E47=\"\",\"\",IF(②選手情報入力!T56=\"\",\"\",②選手情報入力!T56))","v":""},{"$f":"IF(E47=\"\",\"\",IF(②選手情報入力!R56=\"\",\"\",1))","v":""},{"$f":"IF(E47=\"\",\"\",IF(②選手情報入力!S56=\"\",\"\",IF(K47=1,VLOOKUP(②選手情報入力!S56,種目情報!$A$5:$C$135,3,FALSE),VLOOKUP(②選手情報入力!S56,種目情報!$E$5:$G$135,3,FALSE))))","v":""},{"$f":"IF(E47=\"\",\"\",IF(②選手情報入力!U56=\"\",\"\",IF(K47=1,種目情報!$J$4,種目情報!$J$6)))","v":""},{"$f":"IF(E47=\"\",\"\",IF(②選手情報入力!U56=\"\",\"\",IF(K47=1,IF(②選手情報入力!$V$7=\"\",\"\",②選手情報入力!$V$7),IF(②選手情報入力!$V$8=\"\",\"\",②選手情報入力!$V$8))))","v":""},{"$f":"IF(E47=\"\",\"\",IF(②選手情報入力!U56=\"\",\"\",IF(K47=1,IF(②選手情報入力!$U$7=\"\",0,1),IF(②選手情報入力!$U$8=\"\",0,1))))","v":""},{"$f":"IF(E47=\"\",\"\",IF(②選手情報入力!U56=\"\",\"\",2))","v":""},{"$f":"IF(E47=\"\",\"\",IF(②選手情報入力!W56=\"\",\"\",IF(K47=1,種目情報!$J$5,種目情報!$J$7)))","v":""},{"$f":"IF(E47=\"\",\"\",IF(②選手情報入力!W56=\"\",\"\",IF(K47=1,IF(②選手情報入力!$X$7=\"\",\"\",②選手情報入力!$X$7),IF(②選手情報入力!$X$8=\"\",\"\",②選手情報入力!$X$8))))","v":""},{"$f":"IF(E47=\"\",\"\",IF(②選手情報入力!W56=\"\",\"\",IF(K47=1,IF(②選手情報入力!$W$7=\"\",0,1),IF(②選手情報入力!$W$8=\"\",0,1))))","v":""},{"$f":"IF(E47=\"\",\"\",IF(②選手情報入力!W56=\"\",\"\",2))","v":""},null,null,{"$f":"IF(②選手情報入力!G56=\"\",\"\",ASC(②選手情報入力!G56))","v":""},{"$f":"IF(②選手情報入力!G56=\"\",\"\",ASC(②選手情報入力!H56))","v":""}]
["",{"$f":"IF(E48=\"\",\"\",①団体情報入力!$C$5)","v":""},null,{"$f":"IF(E48=\"\",\"\",IF(①団体情報入力!C53=\"\",\"\",①団体情報入力!C53))","v":""},{"$f":"IF(②選手情報入力!D57=\"\",\"\",②選手情報入力!D57)","v":""},{"$f":"IF(E48=\"\",\"\",②選手情報入力!E57)","v":""},{"$f":"IF(E48=\"\",\"\",ASC(②選手情報入力!F57))","v":""},"","",{"$f":"IF(E48=\"\",\"\",IF(②選手情報入力!I57=\"\",\"JPN\",LEFT(②選手情報入力!I57,3)))","v":""},{"$f":"IF(E48=\"\",\"\",IF(②選手情報入力!J57=\"男\",1,2))","v":""},{"$f":"IF(E48=\"\",\"\",IF(②選手情報入力!K57=\"\",\"\",②選手情報入力!K57))","v":""},{"$f":"IF(E48=\"\",\"\",LEFT(②選手情報入力!L57,4))","v":""},{"$f":"IF(E48=\"\",\"\",RIGHT(②選手情報入力!L57,4))","v":""},"",null,{"$f":"IF(E48=\"\",\"\",IF(②選手情報入力!M57=\"\",\"\",IF(K48=1,VLOOKUP(②選手情報入力!M57,種目情報!$A$5:$B$167,2,FALSE),VLOOKUP(②選手情報入力!M57,種目情報!$E$5:$F$142,2,FALSE))))","v":""},{"$f":"IF(E48=\"\",\"\",IF(②選手情報入力!N57=\"\",\"\",②選手情報入力!N57))","v":""},null,{"$f":"IF(E48=\"\",\"\",IF(②選手情報入力!M57=\"\",\"\",IF(K48=1,VLOOKUP(②選手情報入力!M57,種目情報!$A$5:$C$135,3,FALSE),VLOOKUP(②選手情報入力!M57,種目情報!$E$5:$G$135,3,FALSE))))","v":""},{"$f":"IF(E48=\"\",\"\",IF(②選手情報入力!P57=\"\",\"\",IF(K48=1,VLOOKUP(②選手情報入力!P57,種目情報!$A$5:$B$151,2,FALSE),VLOOKUP(②選手情報入力!P57,種目情報!$E$5:$F$135,2,FALSE))))","v":""},{"$f":"IF(E48=\"\",\"\",IF(②選手情報入力!Q57=\"\",\"\",②選手情報入力!Q57))","v":""},{"$f":"IF(E48=\"\",\"\",IF(②選手情報入力!O57=\"\",\"\",1))","v":""},{"$f":"IF(E48=\"\",\"\",IF(②選手情報入力!P57=\"\",\"\",IF(K48=1,VLOOKUP(②選手情報入力!P57,種目情報!$A$5:$C$135,3,FALSE),VLOOKUP(②選手情報入力!P57,種目情報!$E$5:$G$135,3,FALSE))))","v":""},{"$f":"IF(E48=\"\",\"\",IF(②選手情報入力!S57=\"\",\"\",IF(K48=1,VLOOKUP(②選手情報入力!S57,種目情報!$A$5:$B$151,2,FALSE),VLOOKUP(②選手情報入力!S57,種目情報!$E$5:$F$135,2,FALSE))))","v":""},{"$f":"IF(E48=\"\",\"\",IF(②選手情報入力!T57=\"\",\"\",②選手情報入力!T57))","v":""},{"$f":"IF(E48=\"\",\"\",IF(②選手情報入力!R57=\"\",\"\",1))","v":""},{"$f":"IF(E48=\"\",\"\",IF(②選手情報入力!S57=\"\",\"\",IF(K48=1,VLOOKUP(②選手情報入力!S57,種目情報!$A$5:$C$135,3,FALSE),VLOOKUP(②選手情報入力!S57,種目情報!$E$5:$G$135,3,FALSE))))","v":""},{"$f":"IF(E48=\"\",\"\",IF(②選手情報入力!U57=\"\",\"\",IF(K48=1,種目情報!$J$4,種目情報!$J$6)))","v":""},{"$f":"IF(E48=\"\",\"\",IF(②選手情報入力!U57=\"\",\"\",IF(K48=1,IF(②選手情報入力!$V$7=\"\",\"\",②選手情報入力!$V$7),IF(②選手情報入力!$V$8=\"\",\"\",②選手情報入力!$V$8))))","v":""},{"$f":"IF(E48=\"\",\"\",IF(②選手情報入力!U57=\"\",\"\",IF(K48=1,IF(②選手情報入力!$U$7=\"\",0,1),IF(②選手情報入力!$U$8=\"\",0,1))))","v":""},{"$f":"IF(E48=\"\",\"\",IF(②選手情報入力!U57=\"\",\"\",2))","v":""},{"$f":"IF(E48=\"\",\"\",IF(②選手情報入力!W57=\"\",\"\",IF(K48=1,種目情報!$J$5,種目情報!$J$7)))","v":""},{"$f":"IF(E48=\"\",\"\",IF(②選手情報入力!W57=\"\",\"\",IF(K48=1,IF(②選手情報入力!$X$7=\"\",\"\",②選手情報入力!$X$7),IF(②選手情報入力!$X$8=\"\",\"\",②選手情報入力!$X$8))))","v":""},{"$f":"IF(E48=\"\",\"\",IF(②選手情報入力!W57=\"\",\"\",IF(K48=1,IF(②選手情報入力!$W$7=\"\",0,1),IF(②選手情報入力!$W$8=\"\",0,1))))","v":""},{"$f":"IF(E48=\"\",\"\",IF(②選手情報入力!W57=\"\",\"\",2))","v":""},null,null,{"$f":"IF(②選手情報入力!G57=\"\",\"\",ASC(②選手情報入力!G57))","v":""},{"$f":"IF(②選手情報入力!G57=\"\",\"\",ASC(②選手情報入力!H57))","v":""}]
["",{"$f":"IF(E49=\"\",\"\",①団体情報入力!$C$5)","v":""},null,{"$f":"IF(E49=\"\",\"\",IF(①団体情報入力!C54=\"\",\"\",①団体情報入力!C54))","v":""},{"$f":"IF(②選手情報入力!D58=\"\",\"\",②選手情報入力!D58)","v":""},{"$f":"IF(E49=\"\",\"\",②選手情報入力!E58)","v":""},{"$f":"IF(E49=\"\",\"\",ASC(②選手情報入力!F58))","v":""},"","",{"$f":"IF(E49=\"\",\"\",IF(②選手情報入力!I58=\"\",\"JPN\",LEFT(②選手情報入力!I58,3)))","v":""},{"$f":"IF(E49=\"\",\"\",IF(②選手情報入力!J58=\"男\",1,2))","v":""},{"$f":"IF(E49=\"\",\"\",IF(②選手情報入力!K58=\"\",\"\",②選手情報入力!K58))","v":""},{"$f":"IF(E49=\"\",\"\",LEFT(②選手情報入力!L58,4))","v":""},{"$f":"IF(E49=\"\",\"\",RIGHT(②選手情報入力!L58,4))","v":""},"",null,{"$f":"IF(E49=\"\",\"\",IF(②選手情報入力!M58=\"\",\"\",IF(K49=1,VLOOKUP(②選手情報入力!M58,種目情報!$A$5:$B$167,2,FALSE),VLOOKUP(②選手情報入力!M58,種目情報!$E$5:$F$142,2,FALSE))))","v":""},{"$f":"IF(E49=\"\",\"\",IF(②選手情報入力!N58=\"\",\"\",②選手情報入力!N58))","v":""},null,{"$f":"IF(E49=\"\",\"\",IF(②選手情報入力!M58=\"\",\"\",IF(K49=1,VLOOKUP(②選手情報入力!M58,種目情報!$A$5:$C$135,3,FALSE),VLOOKUP(②選手情報入力!M58,種目情報!$E$5:$G$135,3,FALSE))))","v":""},{"$f":"IF(E49=\"\",\"\",IF(②選手情報入力!P58=\"\",\"\",IF(K49=1,VLOOKUP(②選手情報入力!P58,種目情報!$A$5:$B$151,2,FALSE),VLOOKUP(②選手情報入力!P58,種目情報!$E$5:$F$135,2,FALSE))))","v":""},{"$f":"IF(E49=\"\",\"\",IF(②選手情報入力!Q58=\"\",\"\",②選手情報入力!Q58))","v":""},{"$f":"IF(E49=\"\",\"\",IF(②選手情報入力!O58=\"\",\"\",1))","v":""},{"$f":"IF(E49=\"\",\"\",IF(②選手情報入力!P58=\"\",\"\",IF(K49=1,VLOOKUP(②選手情報入力!P58,種目情報!$A$5:$C$135,3,FALSE),VLOOKUP(②選手情報入力!P58,種目情報!$E$5:$G$135,3,FALSE))))","v":""},{"$f":"IF(E49=\"\",\"\",IF(②選手情報入力!S58=\"\",\"\",IF(K49=1,VLOOKUP(②選手情報入力!S58,種目情報!$A$5:$B$151,2,FALSE),VLOOKUP(②選手情報入力!S58,種目情報!$E$5:$F$135,2,FALSE))))","v":""},{"$f":"IF(E49=\"\",\"\",IF(②選手情報入力!T58=\"\",\"\",②選手情報入力!T58))","v":""},{"$f":"IF(E49=\"\",\"\",IF(②選手情報入力!R58=\"\",\"\",1))","v":""},{"$f":"IF(E49=\"\",\"\",IF(②選手情報入力!S58=\"\",\"\",IF(K49=1,VLOOKUP(②選手情報入力!S58,種目情報!$A$5:$C$135,3,FALSE),VLOOKUP(②選手情報入力!S58,種目情報!$E$5:$G$135,3,FALSE))))","v":""},{"$f":"IF(E49=\"\",\"\",IF(②選手情報入力!U58=\"\",\"\",IF(K49=1,種目情報!$J$4,種目情報!$J$6)))","v":""},{"$f":"IF(E49=\"\",\"\",IF(②選手情報入力!U58=\"\",\"\",IF(K49=1,IF(②選手情報入力!$V$7=\"\",\"\",②選手情報入力!$V$7),IF(②選手情報入力!$V$8=\"\",\"\",②選手情報入力!$V$8))))","v":""},{"$f":"IF(E49=\"\",\"\",IF(②選手情報入力!U58=\"\",\"\",IF(K49=1,IF(②選手情報入力!$U$7=\"\",0,1),IF(②選手情報入力!$U$8=\"\",0,1))))","v":""},{"$f":"IF(E49=\"\",\"\",IF(②選手情報入力!U58=\"\",\"\",2))","v":""},{"$f":"IF(E49=\"\",\"\",IF(②選手情報入力!W58=\"\",\"\",IF(K49=1,種目情報!$J$5,種目情報!$J$7)))","v":""},{"$f":"IF(E49=\"\",\"\",IF(②選手情報入力!W58=\"\",\"\",IF(K49=1,IF(②選手情報入力!$X$7=\"\",\"\",②選手情報入力!$X$7),IF(②選手情報入力!$X$8=\"\",\"\",②選手情報入力!$X$8))))","v":""},{"$f":"IF(E49=\"\",\"\",IF(②選手情報入力!W58=\"\",\"\",IF(K49=1,IF(②選手情報入力!$W$7=\"\",0,1),IF(②選手情報入力!$W$8=\"\",0,1))))","v":""},{"$f":"IF(E49=\"\",\"\",IF(②選手情報入力!W58=\"\",\"\",2))","v":""},null,null,{"$f":"IF(②選手情報入力!G58=\"\",\"\",ASC(②選手情報入力!G58))","v":""},{"$f":"IF(②選手情報入力!G58=\"\",\"\",ASC(②選手情報入力!H58))","v":""}]
["",{"$f":"IF(E50=\"\",\"\",①団体情報入力!$C$5)","v":""},null,{"$f":"IF(E50=\"\",\"\",IF(①団体情報入力!C55=\"\",\"\",①団体情報入力!C55))","v":""},{"$f":"IF(②選手情報入力!D59=\"\",\"\",②選手情報入力!D59)","v":""},{"$f":"IF(E50=\"\",\"\",②選手情報入力!E59)","v":""},{"$f":"IF(E50=\"\",\"\",ASC(②選手情報入力!F59))","v":""},"","",{"$f":"IF(E50=\"\",\"\",IF(②選手情報入力!I59=\"\",\"JPN\",LEFT(②選手情報入力!I59,3)))","v":""},{"$f":"IF(E50=\"\",\"\",IF(②選手情報入力!J59=\"男\",1,2))","v":""},{"$f":"IF(E50=\"\",\"\",IF(②選手情報入力!K59=\"\",\"\",②選手情報入力!K59))","v":""},{"$f":"IF(E50=\"\",\"\",LEFT(②選手情報入力!L59,4))","v":""},{"$f":"IF(E50=\"\",\"\",RIGHT(②選手情報入力!L59,4))","v":""},"",null,{"$f":"IF(E50=\"\",\"\",IF(②選手情報入力!M59=\"\",\"\",IF(K50=1,VLOOKUP(②選手情報入力!M59,種目情報!$A$5:$B$167,2,FALSE),VLOOKUP(②選手情報入力!M59,種目情報!$E$5:$F$142,2,FALSE))))","v":""},{"$f":"IF(E50=\"\",\"\",IF(②選手情報入力!N59=\"\",\"\",②選手情報入力!N59))","v":""},null,{"$f":"IF(E50=\"\",\"\",IF(②選手情報入力!M59=\"\",\"\",IF(K50=1,VLOOKUP(②選手情報入力!M59,種目情報!$A$5:$C$135,3,FALSE),VLOOKUP(②選手情報入力!M59,種目情報!$E$5:$G$135,3,FALSE))))","v":""},{"$f":"IF(E50=\"\",\"\",IF(②選手情報入力!P59=\"\",\"\",IF(K50=1,VLOOKUP(②選手情報入力!P59,種目情報!$A$5:$B$151,2,FALSE),VLOOKUP(②選手情報入力!P59,種目情報!$E$5:$F$135,2,FALSE))))","v":""},{"$f":"IF(E50=\"\",\"\",IF(②選手情報入力!Q59=\"\",\"\",②選手情報入力!Q59))","v":""},{"$f":"IF(E50=\"\",\"\",IF(②選手情報入力!O59=\"\",\"\",1))","v":""},{"$f":"IF(E50=\"\",\"\",IF(②選手情報入力!P59=\"\",\"\",IF(K50=1,VLOOKUP(②選手情報入力!P59,種目情報!$A$5:$C$135,3,FALSE),VLOOKUP(②選手情報入力!P59,種目情報!$E$5:$G$135,3,FALSE))))","v":""},{"$f":"IF(E50=\"\",\"\",IF(②選手情報入力!S59=\"\",\"\",IF(K50=1,VLOOKUP(②選手情報入力!S59,種目情報!$A$5:$B$151,2,FALSE),VLOOKUP(②選手情報入力!S59,種目情報!$E$5:$F$135,2,FALSE))))","v":""},{"$f":"IF(E50=\"\",\"\",IF(②選手情報入力!T59=\"\",\"\",②選手情報入力!T59))","v":""},{"$f":"IF(E50=\"\",\"\",IF(②選手情報入力!R59=\"\",\"\",1))","v":""},{"$f":"IF(E50=\"\",\"\",IF(②選手情報入力!S59=\"\",\"\",IF(K50=1,VLOOKUP(②選手情報入力!S59,種目情報!$A$5:$C$135,3,FALSE),VLOOKUP(②選手情報入力!S59,種目情報!$E$5:$G$135,3,FALSE))))","v":""},{"$f":"IF(E50=\"\",\"\",IF(②選手情報入力!U59=\"\",\"\",IF(K50=1,種目情報!$J$4,種目情報!$J$6)))","v":""},{"$f":"IF(E50=\"\",\"\",IF(②選手情報入力!U59=\"\",\"\",IF(K50=1,IF(②選手情報入力!$V$7=\"\",\"\",②選手情報入力!$V$7),IF(②選手情報入力!$V$8=\"\",\"\",②選手情報入力!$V$8))))","v":""},{"$f":"IF(E50=\"\",\"\",IF(②選手情報入力!U59=\"\",\"\",IF(K50=1,IF(②選手情報入力!$U$7=\"\",0,1),IF(②選手情報入力!$U$8=\"\",0,1))))","v":""},{"$f":"IF(E50=\"\",\"\",IF(②選手情報入力!U59=\"\",\"\",2))","v":""},{"$f":"IF(E50=\"\",\"\",IF(②選手情報入力!W59=\"\",\"\",IF(K50=1,種目情報!$J$5,種目情報!$J$7)))","v":""},{"$f":"IF(E50=\"\",\"\",IF(②選手情報入力!W59=\"\",\"\",IF(K50=1,IF(②選手情報入力!$X$7=\"\",\"\",②選手情報入力!$X$7),IF(②選手情報入力!$X$8=\"\",\"\",②選手情報入力!$X$8))))","v":""},{"$f":"IF(E50=\"\",\"\",IF(②選手情報入力!W59=\"\",\"\",IF(K50=1,IF(②選手情報入力!$W$7=\"\",0,1),IF(②選手情報入力!$W$8=\"\",0,1))))","v":""},{"$f":"IF(E50=\"\",\"\",IF(②選手情報入力!W59=\"\",\"\",2))","v":""},null,null,{"$f":"IF(②選手情報入力!G59=\"\",\"\",ASC(②選手情報入力!G59))","v":""},{"$f":"IF(②選手情報入力!G59=\"\",\"\",ASC(②選手情報入力!H59))","v":""}]
["",{"$f":"IF(E51=\"\",\"\",①団体情報入力!$C$5)","v":""},null,{"$f":"IF(E51=\"\",\"\",IF(①団体情報入力!C56=\"\",\"\",①団体情報入力!C56))","v":""},{"$f":"IF(②選手情報入力!D60=\"\",\"\",②選手情報入力!D60)","v":""},{"$f":"IF(E51=\"\",\"\",②選手情報入力!E60)","v":""},{"$f":"IF(E51=\"\",\"\",ASC(②選手情報入力!F60))","v":""},"","",{"$f":"IF(E51=\"\",\"\",IF(②選手情報入力!I60=\"\",\"JPN\",LEFT(②選手情報入力!I60,3)))","v":""},{"$f":"IF(E51=\"\",\"\",IF(②選手情報入力!J60=\"男\",1,2))","v":""},{"$f":"IF(E51=\"\",\"\",IF(②選手情報入力!K60=\"\",\"\",②選手情報入力!K60))","v":""},{"$f":"IF(E51=\"\",\"\",LEFT(②選手情報入力!L60,4))","v":""},{"$f":"IF(E51=\"\",\"\",RIGHT(②選手情報入力!L60,4))","v":""},"",null,{"$f":"IF(E51=\"\",\"\",IF(②選手情報入力!M60=\"\",\"\",IF(K51=1,VLOOKUP(②選手情報入力!M60,種目情報!$A$5:$B$167,2,FALSE),VLOOKUP(②選手情報入力!M60,種目情報!$E$5:$F$142,2,FALSE))))","v":""},{"$f":"IF(E51=\"\",\"\",IF(②選手情報入力!N60=\"\",\"\",②選手情報入力!N60))","v":""},null,{"$f":"IF(E51=\"\",\"\",IF(②選手情報入力!M60=\"\",\"\",IF(K51=1,VLOOKUP(②選手情報入力!M60,種目情報!$A$5:$C$135,3,FALSE),VLOOKUP(②選手情報入力!M60,種目情報!$E$5:$G$135,3,FALSE))))","v":""},{"$f":"IF(E51=\"\",\"\",IF(②選手情報入力!P60=\"\",\"\",IF(K51=1,VLOOKUP(②選手情報入力!P60,種目情報!$A$5:$B$151,2,FALSE),VLOOKUP(②選手情報入力!P60,種目情報!$E$5:$F$135,2,FALSE))))","v":""},{"$f":"IF(E51=\"\",\"\",IF(②選手情報入力!Q60=\"\",\"\",②選手情報入力!Q60))","v":""},{"$f":"IF(E51=\"\",\"\",IF(②選手情報入力!O60=\"\",\"\",1))","v":""},{"$f":"IF(E51=\"\",\"\",IF(②選手情報入力!P60=\"\",\"\",IF(K51=1,VLOOKUP(②選手情報入力!P60,種目情報!$A$5:$C$135,3,FALSE),VLOOKUP(②選手情報入力!P60,種目情報!$E$5:$G$135,3,FALSE))))","v":""},{"$f":"IF(E51=\"\",\"\",IF(②選手情報入力!S60=\"\",\"\",IF(K51=1,VLOOKUP(②選手情報入力!S60,種目情報!$A$5:$B$151,2,FALSE),VLOOKUP(②選手情報入力!S60,種目情報!$E$5:$F$135,2,FALSE))))","v":""},{"$f":"IF(E51=\"\",\"\",IF(②選手情報入力!T60=\"\",\"\",②選手情報入力!T60))","v":""},{"$f":"IF(E51=\"\",\"\",IF(②選手情報入力!R60=\"\",\"\",1))","v":""},{"$f":"IF(E51=\"\",\"\",IF(②選手情報入力!S60=\"\",\"\",IF(K51=1,VLOOKUP(②選手情報入力!S60,種目情報!$A$5:$C$135,3,FALSE),VLOOKUP(②選手情報入力!S60,種目情報!$E$5:$G$135,3,FALSE))))","v":""},{"$f":"IF(E51=\"\",\"\",IF(②選手情報入力!U60=\"\",\"\",IF(K51=1,種目情報!$J$4,種目情報!$J$6)))","v":""},{"$f":"IF(E51=\"\",\"\",IF(②選手情報入力!U60=\"\",\"\",IF(K51=1,IF(②選手情報入力!$V$7=\"\",\"\",②選手情報入力!$V$7),IF(②選手情報入力!$V$8=\"\",\"\",②選手情報入力!$V$8))))","v":""},{"$f":"IF(E51=\"\",\"\",IF(②選手情報入力!U60=\"\",\"\",IF(K51=1,IF(②選手情報入力!$U$7=\"\",0,1),IF(②選手情報入力!$U$8=\"\",0,1))))","v":""},{"$f":"IF(E51=\"\",\"\",IF(②選手情報入力!U60=\"\",\"\",2))","v":""},{"$f":"IF(E51=\"\",\"\",IF(②選手情報入力!W60=\"\",\"\",IF(K51=1,種目情報!$J$5,種目情報!$J$7)))","v":""},{"$f":"IF(E51=\"\",\"\",IF(②選手情報入力!W60=\"\",\"\",IF(K51=1,IF(②選手情報入力!$X$7=\"\",\"\",②選手情報入力!$X$7),IF(②選手情報入力!$X$8=\"\",\"\",②選手情報入力!$X$8))))","v":""},{"$f":"IF(E51=\"\",\"\",IF(②選手情報入力!W60=\"\",\"\",IF(K51=1,IF(②選手情報入力!$W$7=\"\",0,1),IF(②選手情報入力!$W$8=\"\",0,1))))","v":""},{"$f":"IF(E51=\"\",\"\",IF(②選手情報入力!W60=\"\",\"\",2))","v":""},null,null,{"$f":"IF(②選手情報入力!G60=\"\",\"\",ASC(②選手情報入力!G60))","v":""},{"$f":"IF(②選手情報入力!G60=\"\",\"\",ASC(②選手情報入力!H60))","v":""}]
["",{"$f":"IF(E52=\"\",\"\",①団体情報入力!$C$5)","v":""},null,{"$f":"IF(E52=\"\",\"\",IF(①団体情報入力!C57=\"\",\"\",①団体情報入力!C57))","v":""},{"$f":"IF(②選手情報入力!D61=\"\",\"\",②選手情報入力!D61)","v":""},{"$f":"IF(E52=\"\",\"\",②選手情報入力!E61)","v":""},{"$f":"IF(E52=\"\",\"\",ASC(②選手情報入力!F61))","v":""},"","",{"$f":"IF(E52=\"\",\"\",IF(②選手情報入力!I61=\"\",\"JPN\",LEFT(②選手情報入力!I61,3)))","v":""},{"$f":"IF(E52=\"\",\"\",IF(②選手情報入力!J61=\"男\",1,2))","v":""},{"$f":"IF(E52=\"\",\"\",IF(②選手情報入力!K61=\"\",\"\",②選手情報入力!K61))","v":""},{"$f":"IF(E52=\"\",\"\",LEFT(②選手情報入力!L61,4))","v":""},{"$f":"IF(E52=\"\",\"\",RIGHT(②選手情報入力!L61,4))","v":""},"",null,{"$f":"IF(E52=\"\",\"\",IF(②選手情報入力!M61=\"\",\"\",IF(K52=1,VLOOKUP(②選手情報入力!M61,種目情報!$A$5:$B$167,2,FALSE),VLOOKUP(②選手情報入力!M61,種目情報!$E$5:$F$142,2,FALSE))))","v":""},{"$f":"IF(E52=\"\",\"\",IF(②選手情報入力!N61=\"\",\"\",②選手情報入力!N61))","v":""},null,{"$f":"IF(E52=\"\",\"\",IF(②選手情報入力!M61=\"\",\"\",IF(K52=1,VLOOKUP(②選手情報入力!M61,種目情報!$A$5:$C$135,3,FALSE),VLOOKUP(②選手情報入力!M61,種目情報!$E$5:$G$135,3,FALSE))))","v":""},{"$f":"IF(E52=\"\",\"\",IF(②選手情報入力!P61=\"\",\"\",IF(K52=1,VLOOKUP(②選手情報入力!P61,種目情報!$A$5:$B$151,2,FALSE),VLOOKUP(②選手情報入力!P61,種目情報!$E$5:$F$135,2,FALSE))))","v":""},{"$f":"IF(E52=\"\",\"\",IF(②選手情報入力!Q61=\"\",\"\",②選手情報入力!Q61))","v":""},{"$f":"IF(E52=\"\",\"\",IF(②選手情報入力!O61=\"\",\"\",1))","v":""},{"$f":"IF(E52=\"\",\"\",IF(②選手情報入力!P61=\"\",\"\",IF(K52=1,VLOOKUP(②選手情報入力!P61,種目情報!$A$5:$C$135,3,FALSE),VLOOKUP(②選手情報入力!P61,種目情報!$E$5:$G$135,3,FALSE))))","v":""},{"$f":"IF(E52=\"\",\"\",IF(②選手情報入力!S61=\"\",\"\",IF(K52=1,VLOOKUP(②選手情報入力!S61,種目情報!$A$5:$B$151,2,FALSE),VLOOKUP(②選手情報入力!S61,種目情報!$E$5:$F$135,2,FALSE))))","v":""},{"$f":"IF(E52=\"\",\"\",IF(②選手情報入力!T61=\"\",\"\",②選手情報入力!T61))","v":""},{"$f":"IF(E52=\"\",\"\",IF(②選手情報入力!R61=\"\",\"\",1))","v":""},{"$f":"IF(E52=\"\",\"\",IF(②選手情報入力!S61=\"\",\"\",IF(K52=1,VLOOKUP(②選手情報入力!S61,種目情報!$A$5:$C$135,3,FALSE),VLOOKUP(②選手情報入力!S61,種目情報!$E$5:$G$135,3,FALSE))))","v":""},{"$f":"IF(E52=\"\",\"\",IF(②選手情報入力!U61=\"\",\"\",IF(K52=1,種目情報!$J$4,種目情報!$J$6)))","v":""},{"$f":"IF(E52=\"\",\"\",IF(②選手情報入力!U61=\"\",\"\",IF(K52=1,IF(②選手情報入力!$V$7=\"\",\"\",②選手情報入力!$V$7),IF(②選手情報入力!$V$8=\"\",\"\",②選手情報入力!$V$8))))","v":""},{"$f":"IF(E52=\"\",\"\",IF(②選手情報入力!U61=\"\",\"\",IF(K52=1,IF(②選手情報入力!$U$7=\"\",0,1),IF(②選手情報入力!$U$8=\"\",0,1))))","v":""},{"$f":"IF(E52=\"\",\"\",IF(②選手情報入力!U61=\"\",\"\",2))","v":""},{"$f":"IF(E52=\"\",\"\",IF(②選手情報入力!W61=\"\",\"\",IF(K52=1,種目情報!$J$5,種目情報!$J$7)))","v":""},{"$f":"IF(E52=\"\",\"\",IF(②選手情報入力!W61=\"\",\"\",IF(K52=1,IF(②選手情報入力!$X$7=\"\",\"\",②選手情報入力!$X$7),IF(②選手情報入力!$X$8=\"\",\"\",②選手情報入力!$X$8))))","v":""},{"$f":"IF(E52=\"\",\"\",IF(②選手情報入力!W61=\"\",\"\",IF(K52=1,IF(②選手情報入力!$W$7=\"\",0,1),IF(②選手情報入力!$W$8=\"\",0,1))))","v":""},{"$f":"IF(E52=\"\",\"\",IF(②選手情報入力!W61=\"\",\"\",2))","v":""},null,null,{"$f":"IF(②選手情報入力!G61=\"\",\"\",ASC(②選手情報入力!G61))","v":""},{"$f":"IF(②選手情報入力!G61=\"\",\"\",ASC(②選手情報入力!H61))","v":""}]
["",{"$f":"IF(E53=\"\",\"\",①団体情報入力!$C$5)","v":""},null,{"$f":"IF(E53=\"\",\"\",IF(①団体情報入力!C58=\"\",\"\",①団体情報入力!C58))","v":""},{"$f":"IF(②選手情報入力!D62=\"\",\"\",②選手情報入力!D62)","v":""},{"$f":"IF(E53=\"\",\"\",②選手情報入力!E62)","v":""},{"$f":"IF(E53=\"\",\"\",ASC(②選手情報入力!F62))","v":""},"","",{"$f":"IF(E53=\"\",\"\",IF(②選手情報入力!I62=\"\",\"JPN\",LEFT(②選手情報入力!I62,3)))","v":""},{"$f":"IF(E53=\"\",\"\",IF(②選手情報入力!J62=\"男\",1,2))","v":""},{"$f":"IF(E53=\"\",\"\",IF(②選手情報入力!K62=\"\",\"\",②選手情報入力!K62))","v":""},{"$f":"IF(E53=\"\",\"\",LEFT(②選手情報入力!L62,4))","v":""},{"$f":"IF(E53=\"\",\"\",RIGHT(②選手情報入力!L62,4))","v":""},"",null,{"$f":"IF(E53=\"\",\"\",IF(②選手情報入力!M62=\"\",\"\",IF(K53=1,VLOOKUP(②選手情報入力!M62,種目情報!$A$5:$B$167,2,FALSE),VLOOKUP(②選手情報入力!M62,種目情報!$E$5:$F$142,2,FALSE))))","v":""},{"$f":"IF(E53=\"\",\"\",IF(②選手情報入力!N62=\"\",\"\",②選手情報入力!N62))","v":""},null,{"$f":"IF(E53=\"\",\"\",IF(②選手情報入力!M62=\"\",\"\",IF(K53=1,VLOOKUP(②選手情報入力!M62,種目情報!$A$5:$C$135,3,FALSE),VLOOKUP(②選手情報入力!M62,種目情報!$E$5:$G$135,3,FALSE))))","v":""},{"$f":"IF(E53=\"\",\"\",IF(②選手情報入力!P62=\"\",\"\",IF(K53=1,VLOOKUP(②選手情報入力!P62,種目情報!$A$5:$B$151,2,FALSE),VLOOKUP(②選手情報入力!P62,種目情報!$E$5:$F$135,2,FALSE))))","v":""},{"$f":"IF(E53=\"\",\"\",IF(②選手情報入力!Q62=\"\",\"\",②選手情報入力!Q62))","v":""},{"$f":"IF(E53=\"\",\"\",IF(②選手情報入力!O62=\"\",\"\",1))","v":""},{"$f":"IF(E53=\"\",\"\",IF(②選手情報入力!P62=\"\",\"\",IF(K53=1,VLOOKUP(②選手情報入力!P62,種目情報!$A$5:$C$135,3,FALSE),VLOOKUP(②選手情報入力!P62,種目情報!$E$5:$G$135,3,FALSE))))","v":""},{"$f":"IF(E53=\"\",\"\",IF(②選手情報入力!S62=\"\",\"\",IF(K53=1,VLOOKUP(②選手情報入力!S62,種目情報!$A$5:$B$151,2,FALSE),VLOOKUP(②選手情報入力!S62,種目情報!$E$5:$F$135,2,FALSE))))","v":""},{"$f":"IF(E53=\"\",\"\",IF(②選手情報入力!T62=\"\",\"\",②選手情報入力!T62))","v":""},{"$f":"IF(E53=\"\",\"\",IF(②選手情報入力!R62=\"\",\"\",1))","v":""},{"$f":"IF(E53=\"\",\"\",IF(②選手情報入力!S62=\"\",\"\",IF(K53=1,VLOOKUP(②選手情報入力!S62,種目情報!$A$5:$C$135,3,FALSE),VLOOKUP(②選手情報入力!S62,種目情報!$E$5:$G$135,3,FALSE))))","v":""},{"$f":"IF(E53=\"\",\"\",IF(②選手情報入力!U62=\"\",\"\",IF(K53=1,種目情報!$J$4,種目情報!$J$6)))","v":""},{"$f":"IF(E53=\"\",\"\",IF(②選手情報入力!U62=\"\",\"\",IF(K53=1,IF(②選手情報入力!$V$7=\"\",\"\",②選手情報入力!$V$7),IF(②選手情報入力!$V$8=\"\",\"\",②選手情報入力!$V$8))))","v":""},{"$f":"IF(E53=\"\",\"\",IF(②選手情報入力!U62=\"\",\"\",IF(K53=1,IF(②選手情報入力!$U$7=\"\",0,1),IF(②選手情報入力!$U$8=\"\",0,1))))","v":""},{"$f":"IF(E53=\"\",\"\",IF(②選手情報入力!U62=\"\",\"\",2))","v":""},{"$f":"IF(E53=\"\",\"\",IF(②選手情報入力!W62=\"\",\"\",IF(K53=1,種目情報!$J$5,種目情報!$J$7)))","v":""},{"$f":"IF(E53=\"\",\"\",IF(②選手情報入力!W62=\"\",\"\",IF(K53=1,IF(②選手情報入力!$X$7=\"\",\"\",②選手情報入力!$X$7),IF(②選手情報入力!$X$8=\"\",\"\",②選手情報入力!$X$8))))","v":""},{"$f":"IF(E53=\"\",\"\",IF(②選手情報入力!W62=\"\",\"\",IF(K53=1,IF(②選手情報入力!$W$7=\"\",0,1),IF(②選手情報入力!$W$8=\"\",0,1))))","v":""},{"$f":"IF(E53=\"\",\"\",IF(②選手情報入力!W62=\"\",\"\",2))","v":""},null,null,{"$f":"IF(②選手情報入力!G62=\"\",\"\",ASC(②選手情報入力!G62))","v":""},{"$f":"IF(②選手情報入力!G62=\"\",\"\",ASC(②選手情報入力!H62))","v":""}]
["",{"$f":"IF(E54=\"\",\"\",①団体情報入力!$C$5)","v":""},null,{"$f":"IF(E54=\"\",\"\",IF(①団体情報入力!C59=\"\",\"\",①団体情報入力!C59))","v":""},{"$f":"IF(②選手情報入力!D63=\"\",\"\",②選手情報入力!D63)","v":""},{"$f":"IF(E54=\"\",\"\",②選手情報入力!E63)","v":""},{"$f":"IF(E54=\"\",\"\",ASC(②選手情報入力!F63))","v":""},"","",{"$f":"IF(E54=\"\",\"\",IF(②選手情報入力!I63=\"\",\"JPN\",LEFT(②選手情報入力!I63,3)))","v":""},{"$f":"IF(E54=\"\",\"\",IF(②選手情報入力!J63=\"男\",1,2))","v":""},{"$f":"IF(E54=\"\",\"\",IF(②選手情報入力!K63=\"\",\"\",②選手情報入力!K63))","v":""},{"$f":"IF(E54=\"\",\"\",LEFT(②選手情報入力!L63,4))","v":""},{"$f":"IF(E54=\"\",\"\",RIGHT(②選手情報入力!L63,4))","v":""},"",null,{"$f":"IF(E54=\"\",\"\",IF(②選手情報入力!M63=\"\",\"\",IF(K54=1,VLOOKUP(②選手情報入力!M63,種目情報!$A$5:$B$167,2,FALSE),VLOOKUP(②選手情報入力!M63,種目情報!$E$5:$F$142,2,FALSE))))","v":""},{"$f":"IF(E54=\"\",\"\",IF(②選手情報入力!N63=\"\",\"\",②選手情報入力!N63))","v":""},null,{"$f":"IF(E54=\"\",\"\",IF(②選手情報入力!M63=\"\",\"\",IF(K54=1,VLOOKUP(②選手情報入力!M63,種目情報!$A$5:$C$135,3,FALSE),VLOOKUP(②選手情報入力!M63,種目情報!$E$5:$G$135,3,FALSE))))","v":""},{"$f":"IF(E54=\"\",\"\",IF(②選手情報入力!P63=\"\",\"\",IF(K54=1,VLOOKUP(②選手情報入力!P63,種目情報!$A$5:$B$151,2,FALSE),VLOOKUP(②選手情報入力!P63,種目情報!$E$5:$F$135,2,FALSE))))","v":""},{"$f":"IF(E54=\"\",\"\",IF(②選手情報入力!Q63=\"\",\"\",②選手情報入力!Q63))","v":""},{"$f":"IF(E54=\"\",\"\",IF(②選手情報入力!O63=\"\",\"\",1))","v":""},{"$f":"IF(E54=\"\",\"\",IF(②選手情報入力!P63=\"\",\"\",IF(K54=1,VLOOKUP(②選手情報入力!P63,種目情報!$A$5:$C$135,3,FALSE),VLOOKUP(②選手情報入力!P63,種目情報!$E$5:$G$135,3,FALSE))))","v":""},{"$f":"IF(E54=\"\",\"\",IF(②選手情報入力!S63=\"\",\"\",IF(K54=1,VLOOKUP(②選手情報入力!S63,種目情報!$A$5:$B$151,2,FALSE),VLOOKUP(②選手情報入力!S63,種目情報!$E$5:$F$135,2,FALSE))))","v":""},{"$f":"IF(E54=\"\",\"\",IF(②選手情報入力!T63=\"\",\"\",②選手情報入力!T63))","v":""},{"$f":"IF(E54=\"\",\"\",IF(②選手情報入力!R63=\"\",\"\",1))","v":""},{"$f":"IF(E54=\"\",\"\",IF(②選手情報入力!S63=\"\",\"\",IF(K54=1,VLOOKUP(②選手情報入力!S63,種目情報!$A$5:$C$135,3,FALSE),VLOOKUP(②選手情報入力!S63,種目情報!$E$5:$G$135,3,FALSE))))","v":""},{"$f":"IF(E54=\"\",\"\",IF(②選手情報入力!U63=\"\",\"\",IF(K54=1,種目情報!$J$4,種目情報!$J$6)))","v":""},{"$f":"IF(E54=\"\",\"\",IF(②選手情報入力!U63=\"\",\"\",IF(K54=1,IF(②選手情報入力!$V$7=\"\",\"\",②選手情報入力!$V$7),IF(②選手情報入力!$V$8=\"\",\"\",②選手情報入力!$V$8))))","v":""},{"$f":"IF(E54=\"\",\"\",IF(②選手情報入力!U63=\"\",\"\",IF(K54=1,IF(②選手情報入力!$U$7=\"\",0,1),IF(②選手情報入力!$U$8=\"\",0,1))))","v":""},{"$f":"IF(E54=\"\",\"\",IF(②選手情報入力!U63=\"\",\"\",2))","v":""},{"$f":"IF(E54=\"\",\"\",IF(②選手情報入力!W63=\"\",\"\",IF(K54=1,種目情報!$J$5,種目情報!$J$7)))","v":""},{"$f":"IF(E54=\"\",\"\",IF(②選手情報入力!W63=\"\",\"\",IF(K54=1,IF(②選手情報入力!$X$7=\"\",\"\",②選手情報入力!$X$7),IF(②選手情報入力!$X$8=\"\",\"\",②選手情報入力!$X$8))))","v":""},{"$f":"IF(E54=\"\",\"\",IF(②選手情報入力!W63=\"\",\"\",IF(K54=1,IF(②選手情報入力!$W$7=\"\",0,1),IF(②選手情報入力!$W$8=\"\",0,1))))","v":""},{"$f":"IF(E54=\"\",\"\",IF(②選手情報入力!W63=\"\",\"\",2))","v":""},null,null,{"$f":"IF(②選手情報入力!G63=\"\",\"\",ASC(②選手情報入力!G63))","v":""},{"$f":"IF(②選手情報入力!G63=\"\",\"\",ASC(②選手情報入力!H63))","v":""}]
["",{"$f":"IF(E55=\"\",\"\",①団体情報入力!$C$5)","v":""},null,{"$f":"IF(E55=\"\",\"\",IF(①団体情報入力!C60=\"\",\"\",①団体情報入力!C60))","v":""},{"$f":"IF(②選手情報入力!D64=\"\",\"\",②選手情報入力!D64)","v":""},{"$f":"IF(E55=\"\",\"\",②選手情報入力!E64)","v":""},{"$f":"IF(E55=\"\",\"\",ASC(②選手情報入力!F64))","v":""},"","",{"$f":"IF(E55=\"\",\"\",IF(②選手情報入力!I64=\"\",\"JPN\",LEFT(②選手情報入力!I64,3)))","v":""},{"$f":"IF(E55=\"\",\"\",IF(②選手情報入力!J64=\"男\",1,2))","v":""},{"$f":"IF(E55=\"\",\"\",IF(②選手情報入力!K64=\"\",\"\",②選手情報入力!K64))","v":""},{"$f":"IF(E55=\"\",\"\",LEFT(②選手情報入力!L64,4))","v":""},{"$f":"IF(E55=\"\",\"\",RIGHT(②選手情報入力!L64,4))","v":""},"",null,{"$f":"IF(E55=\"\",\"\",IF(②選手情報入力!M64=\"\",\"\",IF(K55=1,VLOOKUP(②選手情報入力!M64,種目情報!$A$5:$B$167,2,FALSE),VLOOKUP(②選手情報入力!M64,種目情報!$E$5:$F$142,2,FALSE))))","v":""},{"$f":"IF(E55=\"\",\"\",IF(②選手情報入力!N64=\"\",\"\",②選手情報入力!N64))","v":""},null,{"$f":"IF(E55=\"\",\"\",IF(②選手情報入力!M64=\"\",\"\",IF(K55=1,VLOOKUP(②選手情報入力!M64,種目情報!$A$5:$C$135,3,FALSE),VLOOKUP(②選手情報入力!M64,種目情報!$E$5:$G$135,3,FALSE))))","v":""},{"$f":"IF(E55=\"\",\"\",IF(②選手情報入力!P64=\"\",\"\",IF(K55=1,VLOOKUP(②選手情報入力!P64,種目情報!$A$5:$B$151,2,FALSE),VLOOKUP(②選手情報入力!P64,種目情報!$E$5:$F$135,2,FALSE))))","v":""},{"$f":"IF(E55=\"\",\"\",IF(②選手情報入力!Q64=\"\",\"\",②選手情報入力!Q64))","v":""},{"$f":"IF(E55=\"\",\"\",IF(②選手情報入力!O64=\"\",\"\",1))","v":""},{"$f":"IF(E55=\"\",\"\",IF(②選手情報入力!P64=\"\",\"\",IF(K55=1,VLOOKUP(②選手情報入力!P64,種目情報!$A$5:$C$135,3,FALSE),VLOOKUP(②選手情報入力!P64,種目情報!$E$5:$G$135,3,FALSE))))","v":""},{"$f":"IF(E55=\"\",\"\",IF(②選手情報入力!S64=\"\",\"\",IF(K55=1,VLOOKUP(②選手情報入力!S64,種目情報!$A$5:$B$151,2,FALSE),VLOOKUP(②選手情報入力!S64,種目情報!$E$5:$F$135,2,FALSE))))","v":""},{"$f":"IF(E55=\"\",\"\",IF(②選手情報入力!T64=\"\",\"\",②選手情報入力!T64))","v":""},{"$f":"IF(E55=\"\",\"\",IF(②選手情報入力!R64=\"\",\"\",1))","v":""},{"$f":"IF(E55=\"\",\"\",IF(②選手情報入力!S64=\"\",\"\",IF(K55=1,VLOOKUP(②選手情報入力!S64,種目情報!$A$5:$C$135,3,FALSE),VLOOKUP(②選手情報入力!S64,種目情報!$E$5:$G$135,3,FALSE))))","v":""},{"$f":"IF(E55=\"\",\"\",IF(②選手情報入力!U64=\"\",\"\",IF(K55=1,種目情報!$J$4,種目情報!$J$6)))","v":""},{"$f":"IF(E55=\"\",\"\",IF(②選手情報入力!U64=\"\",\"\",IF(K55=1,IF(②選手情報入力!$V$7=\"\",\"\",②選手情報入力!$V$7),IF(②選手情報入力!$V$8=\"\",\"\",②選手情報入力!$V$8))))","v":""},{"$f":"IF(E55=\"\",\"\",IF(②選手情報入力!U64=\"\",\"\",IF(K55=1,IF(②選手情報入力!$U$7=\"\",0,1),IF(②選手情報入力!$U$8=\"\",0,1))))","v":""},{"$f":"IF(E55=\"\",\"\",IF(②選手情報入力!U64=\"\",\"\",2))","v":""},{"$f":"IF(E55=\"\",\"\",IF(②選手情報入力!W64=\"\",\"\",IF(K55=1,種目情報!$J$5,種目情報!$J$7)))","v":""},{"$f":"IF(E55=\"\",\"\",IF(②選手情報入力!W64=\"\",\"\",IF(K55=1,IF(②選手情報入力!$X$7=\"\",\"\",②選手情報入力!$X$7),IF(②選手情報入力!$X$8=\"\",\"\",②選手情報入力!$X$8))))","v":""},{"$f":"IF(E55=\"\",\"\",IF(②選手情報入力!W64=\"\",\"\",IF(K55=1,IF(②選手情報入力!$W$7=\"\",0,1),IF(②選手情報入力!$W$8=\"\",0,1))))","v":""},{"$f":"IF(E55=\"\",\"\",IF(②選手情報入力!W64=\"\",\"\",2))","v":""},null,null,{"$f":"IF(②選手情報入力!G64=\"\",\"\",ASC(②選手情報入力!G64))","v":""},{"$f":"IF(②選手情報入力!G64=\"\",\"\",ASC(②選手情報入力!H64))","v":""}]
["",{"$f":"IF(E56=\"\",\"\",①団体情報入力!$C$5)","v":""},null,{"$f":"IF(E56=\"\",\"\",IF(①団体情報入力!C61=\"\",\"\",①団体情報入力!C61))","v":""},{"$f":"IF(②選手情報入力!D65=\"\",\"\",②選手情報入力!D65)","v":""},{"$f":"IF(E56=\"\",\"\",②選手情報入力!E65)","v":""},{"$f":"IF(E56=\"\",\"\",ASC(②選手情報入力!F65))","v":""},"","",{"$f":"IF(E56=\"\",\"\",IF(②選手情報入力!I65=\"\",\"JPN\",LEFT(②選手情報入力!I65,3)))","v":""},{"$f":"IF(E56=\"\",\"\",IF(②選手情報入力!J65=\"男\",1,2))","v":""},{"$f":"IF(E56=\"\",\"\",IF(②選手情報入力!K65=\"\",\"\",②選手情報入力!K65))","v":""},{"$f":"IF(E56=\"\",\"\",LEFT(②選手情報入力!L65,4))","v":""},{"$f":"IF(E56=\"\",\"\",RIGHT(②選手情報入力!L65,4))","v":""},"",null,{"$f":"IF(E56=\"\",\"\",IF(②選手情報入力!M65=\"\",\"\",IF(K56=1,VLOOKUP(②選手情報入力!M65,種目情報!$A$5:$B$167,2,FALSE),VLOOKUP(②選手情報入力!M65,種目情報!$E$5:$F$142,2,FALSE))))","v":""},{"$f":"IF(E56=\"\",\"\",IF(②選手情報入力!N65=\"\",\"\",②選手情報入力!N65))","v":""},null,{"$f":"IF(E56=\"\",\"\",IF(②選手情報入力!M65=\"\",\"\",IF(K56=1,VLOOKUP(②選手情報入力!M65,種目情報!$A$5:$C$135,3,FALSE),VLOOKUP(②選手情報入力!M65,種目情報!$E$5:$G$135,3,FALSE))))","v":""},{"$f":"IF(E56=\"\",\"\",IF(②選手情報入力!P65=\"\",\"\",IF(K56=1,VLOOKUP(②選手情報入力!P65,種目情報!$A$5:$B$151,2,FALSE),VLOOKUP(②選手情報入力!P65,種目情報!$E$5:$F$135,2,FALSE))))","v":""},{"$f":"IF(E56=\"\",\"\",IF(②選手情報入力!Q65=\"\",\"\",②選手情報入力!Q65))","v":""},{"$f":"IF(E56=\"\",\"\",IF(②選手情報入力!O65=\"\",\"\",1))","v":""},{"$f":"IF(E56=\"\",\"\",IF(②選手情報入力!P65=\"\",\"\",IF(K56=1,VLOOKUP(②選手情報入力!P65,種目情報!$A$5:$C$135,3,FALSE),VLOOKUP(②選手情報入力!P65,種目情報!$E$5:$G$135,3,FALSE))))","v":""},{"$f":"IF(E56=\"\",\"\",IF(②選手情報入力!S65=\"\",\"\",IF(K56=1,VLOOKUP(②選手情報入力!S65,種目情報!$A$5:$B$151,2,FALSE),VLOOKUP(②選手情報入力!S65,種目情報!$E$5:$F$135,2,FALSE))))","v":""},{"$f":"IF(E56=\"\",\"\",IF(②選手情報入力!T65=\"\",\"\",②選手情報入力!T65))","v":""},{"$f":"IF(E56=\"\",\"\",IF(②選手情報入力!R65=\"\",\"\",1))","v":""},{"$f":"IF(E56=\"\",\"\",IF(②選手情報入力!S65=\"\",\"\",IF(K56=1,VLOOKUP(②選手情報入力!S65,種目情報!$A$5:$C$135,3,FALSE),VLOOKUP(②選手情報入力!S65,種目情報!$E$5:$G$135,3,FALSE))))","v":""},{"$f":"IF(E56=\"\",\"\",IF(②選手情報入力!U65=\"\",\"\",IF(K56=1,種目情報!$J$4,種目情報!$J$6)))","v":""},{"$f":"IF(E56=\"\",\"\",IF(②選手情報入力!U65=\"\",\"\",IF(K56=1,IF(②選手情報入力!$V$7=\"\",\"\",②選手情報入力!$V$7),IF(②選手情報入力!$V$8=\"\",\"\",②選手情報入力!$V$8))))","v":""},{"$f":"IF(E56=\"\",\"\",IF(②選手情報入力!U65=\"\",\"\",IF(K56=1,IF(②選手情報入力!$U$7=\"\",0,1),IF(②選手情報入力!$U$8=\"\",0,1))))","v":""},{"$f":"IF(E56=\"\",\"\",IF(②選手情報入力!U65=\"\",\"\",2))","v":""},{"$f":"IF(E56=\"\",\"\",IF(②選手情報入力!W65=\"\",\"\",IF(K56=1,種目情報!$J$5,種目情報!$J$7)))","v":""},{"$f":"IF(E56=\"\",\"\",IF(②選手情報入力!W65=\"\",\"\",IF(K56=1,IF(②選手情報入力!$X$7=\"\",\"\",②選手情報入力!$X$7),IF(②選手情報入力!$X$8=\"\",\"\",②選手情報入力!$X$8))))","v":""},{"$f":"IF(E56=\"\",\"\",IF(②選手情報入力!W65=\"\",\"\",IF(K56=1,IF(②選手情報入力!$W$7=\"\",0,1),IF(②選手情報入力!$W$8=\"\",0,1))))","v":""},{"$f":"IF(E56=\"\",\"\",IF(②選手情報入力!W65=\"\",\"\",2))","v":""},null,null,{"$f":"IF(②選手情報入力!G65=\"\",\"\",ASC(②選手情報入力!G65))","v":""},{"$f":"IF(②選手情報入力!G65=\"\",\"\",ASC(②選手情報入力!H65))","v":""}]
["",{"$f":"IF(E57=\"\",\"\",①団体情報入力!$C$5)","v":""},null,{"$f":"IF(E57=\"\",\"\",IF(①団体情報入力!C62=\"\",\"\",①団体情報入力!C62))","v":""},{"$f":"IF(②選手情報入力!D66=\"\",\"\",②選手情報入力!D66)","v":""},{"$f":"IF(E57=\"\",\"\",②選手情報入力!E66)","v":""},{"$f":"IF(E57=\"\",\"\",ASC(②選手情報入力!F66))","v":""},"","",{"$f":"IF(E57=\"\",\"\",IF(②選手情報入力!I66=\"\",\"JPN\",LEFT(②選手情報入力!I66,3)))","v":""},{"$f":"IF(E57=\"\",\"\",IF(②選手情報入力!J66=\"男\",1,2))","v":""},{"$f":"IF(E57=\"\",\"\",IF(②選手情報入力!K66=\"\",\"\",②選手情報入力!K66))","v":""},{"$f":"IF(E57=\"\",\"\",LEFT(②選手情報入力!L66,4))","v":""},{"$f":"IF(E57=\"\",\"\",RIGHT(②選手情報入力!L66,4))","v":""},"",null,{"$f":"IF(E57=\"\",\"\",IF(②選手情報入力!M66=\"\",\"\",IF(K57=1,VLOOKUP(②選手情報入力!M66,種目情報!$A$5:$B$167,2,FALSE),VLOOKUP(②選手情報入力!M66,種目情報!$E$5:$F$142,2,FALSE))))","v":""},{"$f":"IF(E57=\"\",\"\",IF(②選手情報入力!N66=\"\",\"\",②選手情報入力!N66))","v":""},null,{"$f":"IF(E57=\"\",\"\",IF(②選手情報入力!M66=\"\",\"\",IF(K57=1,VLOOKUP(②選手情報入力!M66,種目情報!$A$5:$C$135,3,FALSE),VLOOKUP(②選手情報入力!M66,種目情報!$E$5:$G$135,3,FALSE))))","v":""},{"$f":"IF(E57=\"\",\"\",IF(②選手情報入力!P66=\"\",\"\",IF(K57=1,VLOOKUP(②選手情報入力!P66,種目情報!$A$5:$B$151,2,FALSE),VLOOKUP(②選手情報入力!P66,種目情報!$E$5:$F$135,2,FALSE))))","v":""},{"$f":"IF(E57=\"\",\"\",IF(②選手情報入力!Q66=\"\",\"\",②選手情報入力!Q66))","v":""},{"$f":"IF(E57=\"\",\"\",IF(②選手情報入力!O66=\"\",\"\",1))","v":""},{"$f":"IF(E57=\"\",\"\",IF(②選手情報入力!P66=\"\",\"\",IF(K57=1,VLOOKUP(②選手情報入力!P66,種目情報!$A$5:$C$135,3,FALSE),VLOOKUP(②選手情報入力!P66,種目情報!$E$5:$G$135,3,FALSE))))","v":""},{"$f":"IF(E57=\"\",\"\",IF(②選手情報入力!S66=\"\",\"\",IF(K57=1,VLOOKUP(②選手情報入力!S66,種目情報!$A$5:$B$151,2,FALSE),VLOOKUP(②選手情報入力!S66,種目情報!$E$5:$F$135,2,FALSE))))","v":""},{"$f":"IF(E57=\"\",\"\",IF(②選手情報入力!T66=\"\",\"\",②選手情報入力!T66))","v":""},{"$f":"IF(E57=\"\",\"\",IF(②選手情報入力!R66=\"\",\"\",1))","v":""},{"$f":"IF(E57=\"\",\"\",IF(②選手情報入力!S66=\"\",\"\",IF(K57=1,VLOOKUP(②選手情報入力!S66,種目情報!$A$5:$C$135,3,FALSE),VLOOKUP(②選手情報入力!S66,種目情報!$E$5:$G$135,3,FALSE))))","v":""},{"$f":"IF(E57=\"\",\"\",IF(②選手情報入力!U66=\"\",\"\",IF(K57=1,種目情報!$J$4,種目情報!$J$6)))","v":""},{"$f":"IF(E57=\"\",\"\",IF(②選手情報入力!U66=\"\",\"\",IF(K57=1,IF(②選手情報入力!$V$7=\"\",\"\",②選手情報入力!$V$7),IF(②選手情報入力!$V$8=\"\",\"\",②選手情報入力!$V$8))))","v":""},{"$f":"IF(E57=\"\",\"\",IF(②選手情報入力!U66=\"\",\"\",IF(K57=1,IF(②選手情報入力!$U$7=\"\",0,1),IF(②選手情報入力!$U$8=\"\",0,1))))","v":""},{"$f":"IF(E57=\"\",\"\",IF(②選手情報入力!U66=\"\",\"\",2))","v":""},{"$f":"IF(E57=\"\",\"\",IF(②選手情報入力!W66=\"\",\"\",IF(K57=1,種目情報!$J$5,種目情報!$J$7)))","v":""},{"$f":"IF(E57=\"\",\"\",IF(②選手情報入力!W66=\"\",\"\",IF(K57=1,IF(②選手情報入力!$X$7=\"\",\"\",②選手情報入力!$X$7),IF(②選手情報入力!$X$8=\"\",\"\",②選手情報入力!$X$8))))","v":""},{"$f":"IF(E57=\"\",\"\",IF(②選手情報入力!W66=\"\",\"\",IF(K57=1,IF(②選手情報入力!$W$7=\"\",0,1),IF(②選手情報入力!$W$8=\"\",0,1))))","v":""},{"$f":"IF(E57=\"\",\"\",IF(②選手情報入力!W66=\"\",\"\",2))","v":""},null,null,{"$f":"IF(②選手情報入力!G66=\"\",\"\",ASC(②選手情報入力!G66))","v":""},{"$f":"IF(②選手情報入力!G66=\"\",\"\",ASC(②選手情報入力!H66))","v":""}]
["",{"$f":"IF(E58=\"\",\"\",①団体情報入力!$C$5)","v":""},null,{"$f":"IF(E58=\"\",\"\",IF(①団体情報入力!C63=\"\",\"\",①団体情報入力!C63))","v":""},{"$f":"IF(②選手情報入力!D67=\"\",\"\",②選手情報入力!D67)","v":""},{"$f":"IF(E58=\"\",\"\",②選手情報入力!E67)","v":""},{"$f":"IF(E58=\"\",\"\",ASC(②選手情報入力!F67))","v":""},"","",{"$f":"IF(E58=\"\",\"\",IF(②選手情報入力!I67=\"\",\"JPN\",LEFT(②選手情報入力!I67,3)))","v":""},{"$f":"IF(E58=\"\",\"\",IF(②選手情報入力!J67=\"男\",1,2))","v":""},{"$f":"IF(E58=\"\",\"\",IF(②選手情報入力!K67=\"\",\"\",②選手情報入力!K67))","v":""},{"$f":"IF(E58=\"\",\"\",LEFT(②選手情報入力!L67,4))","v":""},{"$f":"IF(E58=\"\",\"\",RIGHT(②選手情報入力!L67,4))","v":""},"",null,{"$f":"IF(E58=\"\",\"\",IF(②選手情報入力!M67=\"\",\"\",IF(K58=1,VLOOKUP(②選手情報入力!M67,種目情報!$A$5:$B$167,2,FALSE),VLOOKUP(②選手情報入力!M67,種目情報!$E$5:$F$142,2,FALSE))))","v":""},{"$f":"IF(E58=\"\",\"\",IF(②選手情報入力!N67=\"\",\"\",②選手情報入力!N67))","v":""},null,{"$f":"IF(E58=\"\",\"\",IF(②選手情報入力!M67=\"\",\"\",IF(K58=1,VLOOKUP(②選手情報入力!M67,種目情報!$A$5:$C$135,3,FALSE),VLOOKUP(②選手情報入力!M67,種目情報!$E$5:$G$135,3,FALSE))))","v":""},{"$f":"IF(E58=\"\",\"\",IF(②選手情報入力!P67=\"\",\"\",IF(K58=1,VLOOKUP(②選手情報入力!P67,種目情報!$A$5:$B$151,2,FALSE),VLOOKUP(②選手情報入力!P67,種目情報!$E$5:$F$135,2,FALSE))))","v":""},{"$f":"IF(E58=\"\",\"\",IF(②選手情報入力!Q67=\"\",\"\",②選手情報入力!Q67))","v":""},{"$f":"IF(E58=\"\",\"\",IF(②選手情報入力!O67=\"\",\"\",1))","v":""},{"$f":"IF(E58=\"\",\"\",IF(②選手情報入力!P67=\"\",\"\",IF(K58=1,VLOOKUP(②選手情報入力!P67,種目情報!$A$5:$C$135,3,FALSE),VLOOKUP(②選手情報入力!P67,種目情報!$E$5:$G$135,3,FALSE))))","v":""},{"$f":"IF(E58=\"\",\"\",IF(②選手情報入力!S67=\"\",\"\",IF(K58=1,VLOOKUP(②選手情報入力!S67,種目情報!$A$5:$B$151,2,FALSE),VLOOKUP(②選手情報入力!S67,種目情報!$E$5:$F$135,2,FALSE))))","v":""},{"$f":"IF(E58=\"\",\"\",IF(②選手情報入力!T67=\"\",\"\",②選手情報入力!T67))","v":""},{"$f":"IF(E58=\"\",\"\",IF(②選手情報入力!R67=\"\",\"\",1))","v":""},{"$f":"IF(E58=\"\",\"\",IF(②選手情報入力!S67=\"\",\"\",IF(K58=1,VLOOKUP(②選手情報入力!S67,種目情報!$A$5:$C$135,3,FALSE),VLOOKUP(②選手情報入力!S67,種目情報!$E$5:$G$135,3,FALSE))))","v":""},{"$f":"IF(E58=\"\",\"\",IF(②選手情報入力!U67=\"\",\"\",IF(K58=1,種目情報!$J$4,種目情報!$J$6)))","v":""},{"$f":"IF(E58=\"\",\"\",IF(②選手情報入力!U67=\"\",\"\",IF(K58=1,IF(②選手情報入力!$V$7=\"\",\"\",②選手情報入力!$V$7),IF(②選手情報入力!$V$8=\"\",\"\",②選手情報入力!$V$8))))","v":""},{"$f":"IF(E58=\"\",\"\",IF(②選手情報入力!U67=\"\",\"\",IF(K58=1,IF(②選手情報入力!$U$7=\"\",0,1),IF(②選手情報入力!$U$8=\"\",0,1))))","v":""},{"$f":"IF(E58=\"\",\"\",IF(②選手情報入力!U67=\"\",\"\",2))","v":""},{"$f":"IF(E58=\"\",\"\",IF(②選手情報入力!W67=\"\",\"\",IF(K58=1,種目情報!$J$5,種目情報!$J$7)))","v":""},{"$f":"IF(E58=\"\",\"\",IF(②選手情報入力!W67=\"\",\"\",IF(K58=1,IF(②選手情報入力!$X$7=\"\",\"\",②選手情報入力!$X$7),IF(②選手情報入力!$X$8=\"\",\"\",②選手情報入力!$X$8))))","v":""},{"$f":"IF(E58=\"\",\"\",IF(②選手情報入力!W67=\"\",\"\",IF(K58=1,IF(②選手情報入力!$W$7=\"\",0,1),IF(②選手情報入力!$W$8=\"\",0,1))))","v":""},{"$f":"IF(E58=\"\",\"\",IF(②選手情報入力!W67=\"\",\"\",2))","v":""},null,null,{"$f":"IF(②選手情報入力!G67=\"\",\"\",ASC(②選手情報入力!G67))","v":""},{"$f":"IF(②選手情報入力!G67=\"\",\"\",ASC(②選手情報入力!H67))","v":""}]
["",{"$f":"IF(E59=\"\",\"\",①団体情報入力!$C$5)","v":""},null,{"$f":"IF(E59=\"\",\"\",IF(①団体情報入力!C64=\"\",\"\",①団体情報入力!C64))","v":""},{"$f":"IF(②選手情報入力!D68=\"\",\"\",②選手情報入力!D68)","v":""},{"$f":"IF(E59=\"\",\"\",②選手情報入力!E68)","v":""},{"$f":"IF(E59=\"\",\"\",ASC(②選手情報入力!F68))","v":""},"","",{"$f":"IF(E59=\"\",\"\",IF(②選手情報入力!I68=\"\",\"JPN\",LEFT(②選手情報入力!I68,3)))","v":""},{"$f":"IF(E59=\"\",\"\",IF(②選手情報入力!J68=\"男\",1,2))","v":""},{"$f":"IF(E59=\"\",\"\",IF(②選手情報入力!K68=\"\",\"\",②選手情報入力!K68))","v":""},{"$f":"IF(E59=\"\",\"\",LEFT(②選手情報入力!L68,4))","v":""},{"$f":"IF(E59=\"\",\"\",RIGHT(②選手情報入力!L68,4))","v":""},"",null,{"$f":"IF(E59=\"\",\"\",IF(②選手情報入力!M68=\"\",\"\",IF(K59=1,VLOOKUP(②選手情報入力!M68,種目情報!$A$5:$B$167,2,FALSE),VLOOKUP(②選手情報入力!M68,種目情報!$E$5:$F$142,2,FALSE))))","v":""},{"$f":"IF(E59=\"\",\"\",IF(②選手情報入力!N68=\"\",\"\",②選手情報入力!N68))","v":""},null,{"$f":"IF(E59=\"\",\"\",IF(②選手情報入力!M68=\"\",\"\",IF(K59=1,VLOOKUP(②選手情報入力!M68,種目情報!$A$5:$C$135,3,FALSE),VLOOKUP(②選手情報入力!M68,種目情報!$E$5:$G$135,3,FALSE))))","v":""},{"$f":"IF(E59=\"\",\"\",IF(②選手情報入力!P68=\"\",\"\",IF(K59=1,VLOOKUP(②選手情報入力!P68,種目情報!$A$5:$B$151,2,FALSE),VLOOKUP(②選手情報入力!P68,種目情報!$E$5:$F$135,2,FALSE))))","v":""},{"$f":"IF(E59=\"\",\"\",IF(②選手情報入力!Q68=\"\",\"\",②選手情報入力!Q68))","v":""},{"$f":"IF(E59=\"\",\"\",IF(②選手情報入力!O68=\"\",\"\",1))","v":""},{"$f":"IF(E59=\"\",\"\",IF(②選手情報入力!P68=\"\",\"\",IF(K59=1,VLOOKUP(②選手情報入力!P68,種目情報!$A$5:$C$135,3,FALSE),VLOOKUP(②選手情報入力!P68,種目情報!$E$5:$G$135,3,FALSE))))","v":""},{"$f":"IF(E59=\"\",\"\",IF(②選手情報入力!S68=\"\",\"\",IF(K59=1,VLOOKUP(②選手情報入力!S68,種目情報!$A$5:$B$151,2,FALSE),VLOOKUP(②選手情報入力!S68,種目情報!$E$5:$F$135,2,FALSE))))","v":""},{"$f":"IF(E59=\"\",\"\",IF(②選手情報入力!T68=\"\",\"\",②選手情報入力!T68))","v":""},{"$f":"IF(E59=\"\",\"\",IF(②選手情報入力!R68=\"\",\"\",1))","v":""},{"$f":"IF(E59=\"\",\"\",IF(②選手情報入力!S68=\"\",\"\",IF(K59=1,VLOOKUP(②選手情報入力!S68,種目情報!$A$5:$C$135,3,FALSE),VLOOKUP(②選手情報入力!S68,種目情報!$E$5:$G$135,3,FALSE))))","v":""},{"$f":"IF(E59=\"\",\"\",IF(②選手情報入力!U68=\"\",\"\",IF(K59=1,種目情報!$J$4,種目情報!$J$6)))","v":""},{"$f":"IF(E59=\"\",\"\",IF(②選手情報入力!U68=\"\",\"\",IF(K59=1,IF(②選手情報入力!$V$7=\"\",\"\",②選手情報入力!$V$7),IF(②選手情報入力!$V$8=\"\",\"\",②選手情報入力!$V$8))))","v":""},{"$f":"IF(E59=\"\",\"\",IF(②選手情報入力!U68=\"\",\"\",IF(K59=1,IF(②選手情報入力!$U$7=\"\",0,1),IF(②選手情報入力!$U$8=\"\",0,1))))","v":""},{"$f":"IF(E59=\"\",\"\",IF(②選手情報入力!U68=\"\",\"\",2))","v":""},{"$f":"IF(E59=\"\",\"\",IF(②選手情報入力!W68=\"\",\"\",IF(K59=1,種目情報!$J$5,種目情報!$J$7)))","v":""},{"$f":"IF(E59=\"\",\"\",IF(②選手情報入力!W68=\"\",\"\",IF(K59=1,IF(②選手情報入力!$X$7=\"\",\"\",②選手情報入力!$X$7),IF(②選手情報入力!$X$8=\"\",\"\",②選手情報入力!$X$8))))","v":""},{"$f":"IF(E59=\"\",\"\",IF(②選手情報入力!W68=\"\",\"\",IF(K59=1,IF(②選手情報入力!$W$7=\"\",0,1),IF(②選手情報入力!$W$8=\"\",0,1))))","v":""},{"$f":"IF(E59=\"\",\"\",IF(②選手情報入力!W68=\"\",\"\",2))","v":""},null,null,{"$f":"IF(②選手情報入力!G68=\"\",\"\",ASC(②選手情報入力!G68))","v":""},{"$f":"IF(②選手情報入力!G68=\"\",\"\",ASC(②選手情報入力!H68))","v":""}]
["",{"$f":"IF(E60=\"\",\"\",①団体情報入力!$C$5)","v":""},null,{"$f":"IF(E60=\"\",\"\",IF(①団体情報入力!C65=\"\",\"\",①団体情報入力!C65))","v":""},{"$f":"IF(②選手情報入力!D69=\"\",\"\",②選手情報入力!D69)","v":""},{"$f":"IF(E60=\"\",\"\",②選手情報入力!E69)","v":""},{"$f":"IF(E60=\"\",\"\",ASC(②選手情報入力!F69))","v":""},"","",{"$f":"IF(E60=\"\",\"\",IF(②選手情報入力!I69=\"\",\"JPN\",LEFT(②選手情報入力!I69,3)))","v":""},{"$f":"IF(E60=\"\",\"\",IF(②選手情報入力!J69=\"男\",1,2))","v":""},{"$f":"IF(E60=\"\",\"\",IF(②選手情報入力!K69=\"\",\"\",②選手情報入力!K69))","v":""},{"$f":"IF(E60=\"\",\"\",LEFT(②選手情報入力!L69,4))","v":""},{"$f":"IF(E60=\"\",\"\",RIGHT(②選手情報入力!L69,4))","v":""},"",null,{"$f":"IF(E60=\"\",\"\",IF(②選手情報入力!M69=\"\",\"\",IF(K60=1,VLOOKUP(②選手情報入力!M69,種目情報!$A$5:$B$167,2,FALSE),VLOOKUP(②選手情報入力!M69,種目情報!$E$5:$F$142,2,FALSE))))","v":""},{"$f":"IF(E60=\"\",\"\",IF(②選手情報入力!N69=\"\",\"\",②選手情報入力!N69))","v":""},null,{"$f":"IF(E60=\"\",\"\",IF(②選手情報入力!M69=\"\",\"\",IF(K60=1,VLOOKUP(②選手情報入力!M69,種目情報!$A$5:$C$135,3,FALSE),VLOOKUP(②選手情報入力!M69,種目情報!$E$5:$G$135,3,FALSE))))","v":""},{"$f":"IF(E60=\"\",\"\",IF(②選手情報入力!P69=\"\",\"\",IF(K60=1,VLOOKUP(②選手情報入力!P69,種目情報!$A$5:$B$151,2,FALSE),VLOOKUP(②選手情報入力!P69,種目情報!$E$5:$F$135,2,FALSE))))","v":""},{"$f":"IF(E60=\"\",\"\",IF(②選手情報入力!Q69=\"\",\"\",②選手情報入力!Q69))","v":""},{"$f":"IF(E60=\"\",\"\",IF(②選手情報入力!O69=\"\",\"\",1))","v":""},{"$f":"IF(E60=\"\",\"\",IF(②選手情報入力!P69=\"\",\"\",IF(K60=1,VLOOKUP(②選手情報入力!P69,種目情報!$A$5:$C$135,3,FALSE),VLOOKUP(②選手情報入力!P69,種目情報!$E$5:$G$135,3,FALSE))))","v":""},{"$f":"IF(E60=\"\",\"\",IF(②選手情報入力!S69=\"\",\"\",IF(K60=1,VLOOKUP(②選手情報入力!S69,種目情報!$A$5:$B$151,2,FALSE),VLOOKUP(②選手情報入力!S69,種目情報!$E$5:$F$135,2,FALSE))))","v":""},{"$f":"IF(E60=\"\",\"\",IF(②選手情報入力!T69=\"\",\"\",②選手情報入力!T69))","v":""},{"$f":"IF(E60=\"\",\"\",IF(②選手情報入力!R69=\"\",\"\",1))","v":""},{"$f":"IF(E60=\"\",\"\",IF(②選手情報入力!S69=\"\",\"\",IF(K60=1,VLOOKUP(②選手情報入力!S69,種目情報!$A$5:$C$135,3,FALSE),VLOOKUP(②選手情報入力!S69,種目情報!$E$5:$G$135,3,FALSE))))","v":""},{"$f":"IF(E60=\"\",\"\",IF(②選手情報入力!U69=\"\",\"\",IF(K60=1,種目情報!$J$4,種目情報!$J$6)))","v":""},{"$f":"IF(E60=\"\",\"\",IF(②選手情報入力!U69=\"\",\"\",IF(K60=1,IF(②選手情報入力!$V$7=\"\",\"\",②選手情報入力!$V$7),IF(②選手情報入力!$V$8=\"\",\"\",②選手情報入力!$V$8))))","v":""},{"$f":"IF(E60=\"\",\"\",IF(②選手情報入力!U69=\"\",\"\",IF(K60=1,IF(②選手情報入力!$U$7=\"\",0,1),IF(②選手情報入力!$U$8=\"\",0,1))))","v":""},{"$f":"IF(E60=\"\",\"\",IF(②選手情報入力!U69=\"\",\"\",2))","v":""},{"$f":"IF(E60=\"\",\"\",IF(②選手情報入力!W69=\"\",\"\",IF(K60=1,種目情報!$J$5,種目情報!$J$7)))","v":""},{"$f":"IF(E60=\"\",\"\",IF(②選手情報入力!W69=\"\",\"\",IF(K60=1,IF(②選手情報入力!$X$7=\"\",\"\",②選手情報入力!$X$7),IF(②選手情報入力!$X$8=\"\",\"\",②選手情報入力!$X$8))))","v":""},{"$f":"IF(E60=\"\",\"\",IF(②選手情報入力!W69=\"\",\"\",IF(K60=1,IF(②選手情報入力!$W$7=\"\",0,1),IF(②選手情報入力!$W$8=\"\",0,1))))","v":""},{"$f":"IF(E60=\"\",\"\",IF(②選手情報入力!W69=\"\",\"\",2))","v":""},null,null,{"$f":"IF(②選手情報入力!G69=\"\",\"\",ASC(②選手情報入力!G69))","v":""},{"$f":"IF(②選手情報入力!G69=\"\",\"\",ASC(②選手情報入力!H69))","v":""}]
["",{"$f":"IF(E61=\"\",\"\",①団体情報入力!$C$5)","v":""},null,{"$f":"IF(E61=\"\",\"\",IF(①団体情報入力!C66=\"\",\"\",①団体情報入力!C66))","v":""},{"$f":"IF(②選手情報入力!D70=\"\",\"\",②選手情報入力!D70)","v":""},{"$f":"IF(E61=\"\",\"\",②選手情報入力!E70)","v":""},{"$f":"IF(E61=\"\",\"\",ASC(②選手情報入力!F70))","v":""},"","",{"$f":"IF(E61=\"\",\"\",IF(②選手情報入力!I70=\"\",\"JPN\",LEFT(②選手情報入力!I70,3)))","v":""},{"$f":"IF(E61=\"\",\"\",IF(②選手情報入力!J70=\"男\",1,2))","v":""},{"$f":"IF(E61=\"\",\"\",IF(②選手情報入力!K70=\"\",\"\",②選手情報入力!K70))","v":""},{"$f":"IF(E61=\"\",\"\",LEFT(②選手情報入力!L70,4))","v":""},{"$f":"IF(E61=\"\",\"\",RIGHT(②選手情報入力!L70,4))","v":""},"",null,{"$f":"IF(E61=\"\",\"\",IF(②選手情報入力!M70=\"\",\"\",IF(K61=1,VLOOKUP(②選手情報入力!M70,種目情報!$A$5:$B$167,2,FALSE),VLOOKUP(②選手情報入力!M70,種目情報!$E$5:$F$142,2,FALSE))))","v":""},{"$f":"IF(E61=\"\",\"\",IF(②選手情報入力!N70=\"\",\"\",②選手情報入力!N70))","v":""},null,{"$f":"IF(E61=\"\",\"\",IF(②選手情報入力!M70=\"\",\"\",IF(K61=1,VLOOKUP(②選手情報入力!M70,種目情報!$A$5:$C$135,3,FALSE),VLOOKUP(②選手情報入力!M70,種目情報!$E$5:$G$135,3,FALSE))))","v":""},{"$f":"IF(E61=\"\",\"\",IF(②選手情報入力!P70=\"\",\"\",IF(K61=1,VLOOKUP(②選手情報入力!P70,種目情報!$A$5:$B$151,2,FALSE),VLOOKUP(②選手情報入力!P70,種目情報!$E$5:$F$135,2,FALSE))))","v":""},{"$f":"IF(E61=\"\",\"\",IF(②選手情報入力!Q70=\"\",\"\",②選手情報入力!Q70))","v":""},{"$f":"IF(E61=\"\",\"\",IF(②選手情報入力!O70=\"\",\"\",1))","v":""},{"$f":"IF(E61=\"\",\"\",IF(②選手情報入力!P70=\"\",\"\",IF(K61=1,VLOOKUP(②選手情報入力!P70,種目情報!$A$5:$C$135,3,FALSE),VLOOKUP(②選手情報入力!P70,種目情報!$E$5:$G$135,3,FALSE))))","v":""},{"$f":"IF(E61=\"\",\"\",IF(②選手情報入力!S70=\"\",\"\",IF(K61=1,VLOOKUP(②選手情報入力!S70,種目情報!$A$5:$B$151,2,FALSE),VLOOKUP(②選手情報入力!S70,種目情報!$E$5:$F$135,2,FALSE))))","v":""},{"$f":"IF(E61=\"\",\"\",IF(②選手情報入力!T70=\"\",\"\",②選手情報入力!T70))","v":""},{"$f":"IF(E61=\"\",\"\",IF(②選手情報入力!R70=\"\",\"\",1))","v":""},{"$f":"IF(E61=\"\",\"\",IF(②選手情報入力!S70=\"\",\"\",IF(K61=1,VLOOKUP(②選手情報入力!S70,種目情報!$A$5:$C$135,3,FALSE),VLOOKUP(②選手情報入力!S70,種目情報!$E$5:$G$135,3,FALSE))))","v":""},{"$f":"IF(E61=\"\",\"\",IF(②選手情報入力!U70=\"\",\"\",IF(K61=1,種目情報!$J$4,種目情報!$J$6)))","v":""},{"$f":"IF(E61=\"\",\"\",IF(②選手情報入力!U70=\"\",\"\",IF(K61=1,IF(②選手情報入力!$V$7=\"\",\"\",②選手情報入力!$V$7),IF(②選手情報入力!$V$8=\"\",\"\",②選手情報入力!$V$8))))","v":""},{"$f":"IF(E61=\"\",\"\",IF(②選手情報入力!U70=\"\",\"\",IF(K61=1,IF(②選手情報入力!$U$7=\"\",0,1),IF(②選手情報入力!$U$8=\"\",0,1))))","v":""},{"$f":"IF(E61=\"\",\"\",IF(②選手情報入力!U70=\"\",\"\",2))","v":""},{"$f":"IF(E61=\"\",\"\",IF(②選手情報入力!W70=\"\",\"\",IF(K61=1,種目情報!$J$5,種目情報!$J$7)))","v":""},{"$f":"IF(E61=\"\",\"\",IF(②選手情報入力!W70=\"\",\"\",IF(K61=1,IF(②選手情報入力!$X$7=\"\",\"\",②選手情報入力!$X$7),IF(②選手情報入力!$X$8=\"\",\"\",②選手情報入力!$X$8))))","v":""},{"$f":"IF(E61=\"\",\"\",IF(②選手情報入力!W70=\"\",\"\",IF(K61=1,IF(②選手情報入力!$W$7=\"\",0,1),IF(②選手情報入力!$W$8=\"\",0,1))))","v":""},{"$f":"IF(E61=\"\",\"\",IF(②選手情報入力!W70=\"\",\"\",2))","v":""},null,null,{"$f":"IF(②選手情報入力!G70=\"\",\"\",ASC(②選手情報入力!G70))","v":""},{"$f":"IF(②選手情報入力!G70=\"\",\"\",ASC(②選手情報入力!H70))","v":""}]
["",{"$f":"IF(E62=\"\",\"\",①団体情報入力!$C$5)","v":""},null,{"$f":"IF(E62=\"\",\"\",IF(①団体情報入力!C67=\"\",\"\",①団体情報入力!C67))","v":""},{"$f":"IF(②選手情報入力!D71=\"\",\"\",②選手情報入力!D71)","v":""},{"$f":"IF(E62=\"\",\"\",②選手情報入力!E71)","v":""},{"$f":"IF(E62=\"\",\"\",ASC(②選手情報入力!F71))","v":""},"","",{"$f":"IF(E62=\"\",\"\",IF(②選手情報入力!I71=\"\",\"JPN\",LEFT(②選手情報入力!I71,3)))","v":""},{"$f":"IF(E62=\"\",\"\",IF(②選手情報入力!J71=\"男\",1,2))","v":""},{"$f":"IF(E62=\"\",\"\",IF(②選手情報入力!K71=\"\",\"\",②選手情報入力!K71))","v":""},{"$f":"IF(E62=\"\",\"\",LEFT(②選手情報入力!L71,4))","v":""},{"$f":"IF(E62=\"\",\"\",RIGHT(②選手情報入力!L71,4))","v":""},"",null,{"$f":"IF(E62=\"\",\"\",IF(②選手情報入力!M71=\"\",\"\",IF(K62=1,VLOOKUP(②選手情報入力!M71,種目情報!$A$5:$B$167,2,FALSE),VLOOKUP(②選手情報入力!M71,種目情報!$E$5:$F$142,2,FALSE))))","v":""},{"$f":"IF(E62=\"\",\"\",IF(②選手情報入力!N71=\"\",\"\",②選手情報入力!N71))","v":""},null,{"$f":"IF(E62=\"\",\"\",IF(②選手情報入力!M71=\"\",\"\",IF(K62=1,VLOOKUP(②選手情報入力!M71,種目情報!$A$5:$C$135,3,FALSE),VLOOKUP(②選手情報入力!M71,種目情報!$E$5:$G$135,3,FALSE))))","v":""},{"$f":"IF(E62=\"\",\"\",IF(②選手情報入力!P71=\"\",\"\",IF(K62=1,VLOOKUP(②選手情報入力!P71,種目情報!$A$5:$B$151,2,FALSE),VLOOKUP(②選手情報入力!P71,種目情報!$E$5:$F$135,2,FALSE))))","v":""},{"$f":"IF(E62=\"\",\"\",IF(②選手情報入力!Q71=\"\",\"\",②選手情報入力!Q71))","v":""},{"$f":"IF(E62=\"\",\"\",IF(②選手情報入力!O71=\"\",\"\",1))","v":""},{"$f":"IF(E62=\"\",\"\",IF(②選手情報入力!P71=\"\",\"\",IF(K62=1,VLOOKUP(②選手情報入力!P71,種目情報!$A$5:$C$135,3,FALSE),VLOOKUP(②選手情報入力!P71,種目情報!$E$5:$G$135,3,FALSE))))","v":""},{"$f":"IF(E62=\"\",\"\",IF(②選手情報入力!S71=\"\",\"\",IF(K62=1,VLOOKUP(②選手情報入力!S71,種目情報!$A$5:$B$151,2,FALSE),VLOOKUP(②選手情報入力!S71,種目情報!$E$5:$F$135,2,FALSE))))","v":""},{"$f":"IF(E62=\"\",\"\",IF(②選手情報入力!T71=\"\",\"\",②選手情報入力!T71))","v":""},{"$f":"IF(E62=\"\",\"\",IF(②選手情報入力!R71=\"\",\"\",1))","v":""},{"$f":"IF(E62=\"\",\"\",IF(②選手情報入力!S71=\"\",\"\",IF(K62=1,VLOOKUP(②選手情報入力!S71,種目情報!$A$5:$C$135,3,FALSE),VLOOKUP(②選手情報入力!S71,種目情報!$E$5:$G$135,3,FALSE))))","v":""},{"$f":"IF(E62=\"\",\"\",IF(②選手情報入力!U71=\"\",\"\",IF(K62=1,種目情報!$J$4,種目情報!$J$6)))","v":""},{"$f":"IF(E62=\"\",\"\",IF(②選手情報入力!U71=\"\",\"\",IF(K62=1,IF(②選手情報入力!$V$7=\"\",\"\",②選手情報入力!$V$7),IF(②選手情報入力!$V$8=\"\",\"\",②選手情報入力!$V$8))))","v":""},{"$f":"IF(E62=\"\",\"\",IF(②選手情報入力!U71=\"\",\"\",IF(K62=1,IF(②選手情報入力!$U$7=\"\",0,1),IF(②選手情報入力!$U$8=\"\",0,1))))","v":""},{"$f":"IF(E62=\"\",\"\",IF(②選手情報入力!U71=\"\",\"\",2))","v":""},{"$f":"IF(E62=\"\",\"\",IF(②選手情報入力!W71=\"\",\"\",IF(K62=1,種目情報!$J$5,種目情報!$J$7)))","v":""},{"$f":"IF(E62=\"\",\"\",IF(②選手情報入力!W71=\"\",\"\",IF(K62=1,IF(②選手情報入力!$X$7=\"\",\"\",②選手情報入力!$X$7),IF(②選手情報入力!$X$8=\"\",\"\",②選手情報入力!$X$8))))","v":""},{"$f":"IF(E62=\"\",\"\",IF(②選手情報入力!W71=\"\",\"\",IF(K62=1,IF(②選手情報入力!$W$7=\"\",0,1),IF(②選手情報入力!$W$8=\"\",0,1))))","v":""},{"$f":"IF(E62=\"\",\"\",IF(②選手情報入力!W71=\"\",\"\",2))","v":""},null,null,{"$f":"IF(②選手情報入力!G71=\"\",\"\",ASC(②選手情報入力!G71))","v":""},{"$f":"IF(②選手情報入力!G71=\"\",\"\",ASC(②選手情報入力!H71))","v":""}]
["",{"$f":"IF(E63=\"\",\"\",①団体情報入力!$C$5)","v":""},null,{"$f":"IF(E63=\"\",\"\",IF(①団体情報入力!C68=\"\",\"\",①団体情報入力!C68))","v":""},{"$f":"IF(②選手情報入力!D72=\"\",\"\",②選手情報入力!D72)","v":""},{"$f":"IF(E63=\"\",\"\",②選手情報入力!E72)","v":""},{"$f":"IF(E63=\"\",\"\",ASC(②選手情報入力!F72))","v":""},"","",{"$f":"IF(E63=\"\",\"\",IF(②選手情報入力!I72=\"\",\"JPN\",LEFT(②選手情報入力!I72,3)))","v":""},{"$f":"IF(E63=\"\",\"\",IF(②選手情報入力!J72=\"男\",1,2))","v":""},{"$f":"IF(E63=\"\",\"\",IF(②選手情報入力!K72=\"\",\"\",②選手情報入力!K72))","v":""},{"$f":"IF(E63=\"\",\"\",LEFT(②選手情報入力!L72,4))","v":""},{"$f":"IF(E63=\"\",\"\",RIGHT(②選手情報入力!L72,4))","v":""},"",null,{"$f":"IF(E63=\"\",\"\",IF(②選手情報入力!M72=\"\",\"\",IF(K63=1,VLOOKUP(②選手情報入力!M72,種目情報!$A$5:$B$167,2,FALSE),VLOOKUP(②選手情報入力!M72,種目情報!$E$5:$F$142,2,FALSE))))","v":""},{"$f":"IF(E63=\"\",\"\",IF(②選手情報入力!N72=\"\",\"\",②選手情報入力!N72))","v":""},null,{"$f":"IF(E63=\"\",\"\",IF(②選手情報入力!M72=\"\",\"\",IF(K63=1,VLOOKUP(②選手情報入力!M72,種目情報!$A$5:$C$135,3,FALSE),VLOOKUP(②選手情報入力!M72,種目情報!$E$5:$G$135,3,FALSE))))","v":""},{"$f":"IF(E63=\"\",\"\",IF(②選手情報入力!P72=\"\",\"\",IF(K63=1,VLOOKUP(②選手情報入力!P72,種目情報!$A$5:$B$151,2,FALSE),VLOOKUP(②選手情報入力!P72,種目情報!$E$5:$F$135,2,FALSE))))","v":""},{"$f":"IF(E63=\"\",\"\",IF(②選手情報入力!Q72=\"\",\"\",②選手情報入力!Q72))","v":""},{"$f":"IF(E63=\"\",\"\",IF(②選手情報入力!O72=\"\",\"\",1))","v":""},{"$f":"IF(E63=\"\",\"\",IF(②選手情報入力!P72=\"\",\"\",IF(K63=1,VLOOKUP(②選手情報入力!P72,種目情報!$A$5:$C$135,3,FALSE),VLOOKUP(②選手情報入力!P72,種目情報!$E$5:$G$135,3,FALSE))))","v":""},{"$f":"IF(E63=\"\",\"\",IF(②選手情報入力!S72=\"\",\"\",IF(K63=1,VLOOKUP(②選手情報入力!S72,種目情報!$A$5:$B$151,2,FALSE),VLOOKUP(②選手情報入力!S72,種目情報!$E$5:$F$135,2,FALSE))))","v":""},{"$f":"IF(E63=\"\",\"\",IF(②選手情報入力!T72=\"\",\"\",②選手情報入力!T72))","v":""},{"$f":"IF(E63=\"\",\"\",IF(②選手情報入力!R72=\"\",\"\",1))","v":""},{"$f":"IF(E63=\"\",\"\",IF(②選手情報入力!S72=\"\",\"\",IF(K63=1,VLOOKUP(②選手情報入力!S72,種目情報!$A$5:$C$135,3,FALSE),VLOOKUP(②選手情報入力!S72,種目情報!$E$5:$G$135,3,FALSE))))","v":""},{"$f":"IF(E63=\"\",\"\",IF(②選手情報入力!U72=\"\",\"\",IF(K63=1,種目情報!$J$4,種目情報!$J$6)))","v":""},{"$f":"IF(E63=\"\",\"\",IF(②選手情報入力!U72=\"\",\"\",IF(K63=1,IF(②選手情報入力!$V$7=\"\",\"\",②選手情報入力!$V$7),IF(②選手情報入力!$V$8=\"\",\"\",②選手情報入力!$V$8))))","v":""},{"$f":"IF(E63=\"\",\"\",IF(②選手情報入力!U72=\"\",\"\",IF(K63=1,IF(②選手情報入力!$U$7=\"\",0,1),IF(②選手情報入力!$U$8=\"\",0,1))))","v":""},{"$f":"IF(E63=\"\",\"\",IF(②選手情報入力!U72=\"\",\"\",2))","v":""},{"$f":"IF(E63=\"\",\"\",IF(②選手情報入力!W72=\"\",\"\",IF(K63=1,種目情報!$J$5,種目情報!$J$7)))","v":""},{"$f":"IF(E63=\"\",\"\",IF(②選手情報入力!W72=\"\",\"\",IF(K63=1,IF(②選手情報入力!$X$7=\"\",\"\",②選手情報入力!$X$7),IF(②選手情報入力!$X$8=\"\",\"\",②選手情報入力!$X$8))))","v":""},{"$f":"IF(E63=\"\",\"\",IF(②選手情報入力!W72=\"\",\"\",IF(K63=1,IF(②選手情報入力!$W$7=\"\",0,1),IF(②選手情報入力!$W$8=\"\",0,1))))","v":""},{"$f":"IF(E63=\"\",\"\",IF(②選手情報入力!W72=\"\",\"\",2))","v":""},null,null,{"$f":"IF(②選手情報入力!G72=\"\",\"\",ASC(②選手情報入力!G72))","v":""},{"$f":"IF(②選手情報入力!G72=\"\",\"\",ASC(②選手情報入力!H72))","v":""}]
["",{"$f":"IF(E64=\"\",\"\",①団体情報入力!$C$5)","v":""},null,{"$f":"IF(E64=\"\",\"\",IF(①団体情報入力!C69=\"\",\"\",①団体情報入力!C69))","v":""},{"$f":"IF(②選手情報入力!D73=\"\",\"\",②選手情報入力!D73)","v":""},{"$f":"IF(E64=\"\",\"\",②選手情報入力!E73)","v":""},{"$f":"IF(E64=\"\",\"\",ASC(②選手情報入力!F73))","v":""},"","",{"$f":"IF(E64=\"\",\"\",IF(②選手情報入力!I73=\"\",\"JPN\",LEFT(②選手情報入力!I73,3)))","v":""},{"$f":"IF(E64=\"\",\"\",IF(②選手情報入力!J73=\"男\",1,2))","v":""},{"$f":"IF(E64=\"\",\"\",IF(②選手情報入力!K73=\"\",\"\",②選手情報入力!K73))","v":""},{"$f":"IF(E64=\"\",\"\",LEFT(②選手情報入力!L73,4))","v":""},{"$f":"IF(E64=\"\",\"\",RIGHT(②選手情報入力!L73,4))","v":""},"",null,{"$f":"IF(E64=\"\",\"\",IF(②選手情報入力!M73=\"\",\"\",IF(K64=1,VLOOKUP(②選手情報入力!M73,種目情報!$A$5:$B$167,2,FALSE),VLOOKUP(②選手情報入力!M73,種目情報!$E$5:$F$142,2,FALSE))))","v":""},{"$f":"IF(E64=\"\",\"\",IF(②選手情報入力!N73=\"\",\"\",②選手情報入力!N73))","v":""},null,{"$f":"IF(E64=\"\",\"\",IF(②選手情報入力!M73=\"\",\"\",IF(K64=1,VLOOKUP(②選手情報入力!M73,種目情報!$A$5:$C$135,3,FALSE),VLOOKUP(②選手情報入力!M73,種目情報!$E$5:$G$135,3,FALSE))))","v":""},{"$f":"IF(E64=\"\",\"\",IF(②選手情報入力!P73=\"\",\"\",IF(K64=1,VLOOKUP(②選手情報入力!P73,種目情報!$A$5:$B$151,2,FALSE),VLOOKUP(②選手情報入力!P73,種目情報!$E$5:$F$135,2,FALSE))))","v":""},{"$f":"IF(E64=\"\",\"\",IF(②選手情報入力!Q73=\"\",\"\",②選手情報入力!Q73))","v":""},{"$f":"IF(E64=\"\",\"\",IF(②選手情報入力!O73=\"\",\"\",1))","v":""},{"$f":"IF(E64=\"\",\"\",IF(②選手情報入力!P73=\"\",\"\",IF(K64=1,VLOOKUP(②選手情報入力!P73,種目情報!$A$5:$C$135,3,FALSE),VLOOKUP(②選手情報入力!P73,種目情報!$E$5:$G$135,3,FALSE))))","v":""},{"$f":"IF(E64=\"\",\"\",IF(②選手情報入力!S73=\"\",\"\",IF(K64=1,VLOOKUP(②選手情報入力!S73,種目情報!$A$5:$B$151,2,FALSE),VLOOKUP(②選手情報入力!S73,種目情報!$E$5:$F$135,2,FALSE))))","v":""},{"$f":"IF(E64=\"\",\"\",IF(②選手情報入力!T73=\"\",\"\",②選手情報入力!T73))","v":""},{"$f":"IF(E64=\"\",\"\",IF(②選手情報入力!R73=\"\",\"\",1))","v":""},{"$f":"IF(E64=\"\",\"\",IF(②選手情報入力!S73=\"\",\"\",IF(K64=1,VLOOKUP(②選手情報入力!S73,種目情報!$A$5:$C$135,3,FALSE),VLOOKUP(②選手情報入力!S73,種目情報!$E$5:$G$135,3,FALSE))))","v":""},{"$f":"IF(E64=\"\",\"\",IF(②選手情報入力!U73=\"\",\"\",IF(K64=1,種目情報!$J$4,種目情報!$J$6)))","v":""},{"$f":"IF(E64=\"\",\"\",IF(②選手情報入力!U73=\"\",\"\",IF(K64=1,IF(②選手情報入力!$V$7=\"\",\"\",②選手情報入力!$V$7),IF(②選手情報入力!$V$8=\"\",\"\",②選手情報入力!$V$8))))","v":""},{"$f":"IF(E64=\"\",\"\",IF(②選手情報入力!U73=\"\",\"\",IF(K64=1,IF(②選手情報入力!$U$7=\"\",0,1),IF(②選手情報入力!$U$8=\"\",0,1))))","v":""},{"$f":"IF(E64=\"\",\"\",IF(②選手情報入力!U73=\"\",\"\",2))","v":""},{"$f":"IF(E64=\"\",\"\",IF(②選手情報入力!W73=\"\",\"\",IF(K64=1,種目情報!$J$5,種目情報!$J$7)))","v":""},{"$f":"IF(E64=\"\",\"\",IF(②選手情報入力!W73=\"\",\"\",IF(K64=1,IF(②選手情報入力!$X$7=\"\",\"\",②選手情報入力!$X$7),IF(②選手情報入力!$X$8=\"\",\"\",②選手情報入力!$X$8))))","v":""},{"$f":"IF(E64=\"\",\"\",IF(②選手情報入力!W73=\"\",\"\",IF(K64=1,IF(②選手情報入力!$W$7=\"\",0,1),IF(②選手情報入力!$W$8=\"\",0,1))))","v":""},{"$f":"IF(E64=\"\",\"\",IF(②選手情報入力!W73=\"\",\"\",2))","v":""},null,null,{"$f":"IF(②選手情報入力!G73=\"\",\"\",ASC(②選手情報入力!G73))","v":""},{"$f":"IF(②選手情報入力!G73=\"\",\"\",ASC(②選手情報入力!H73))","v":""}]
["",{"$f":"IF(E65=\"\",\"\",①団体情報入力!$C$5)","v":""},null,{"$f":"IF(E65=\"\",\"\",IF(①団体情報入力!C70=\"\",\"\",①団体情報入力!C70))","v":""},{"$f":"IF(②選手情報入力!D74=\"\",\"\",②選手情報入力!D74)","v":""},{"$f":"IF(E65=\"\",\"\",②選手情報入力!E74)","v":""},{"$f":"IF(E65=\"\",\"\",ASC(②選手情報入力!F74))","v":""},"","",{"$f":"IF(E65=\"\",\"\",IF(②選手情報入力!I74=\"\",\"JPN\",LEFT(②選手情報入力!I74,3)))","v":""},{"$f":"IF(E65=\"\",\"\",IF(②選手情報入力!J74=\"男\",1,2))","v":""},{"$f":"IF(E65=\"\",\"\",IF(②選手情報入力!K74=\"\",\"\",②選手情報入力!K74))","v":""},{"$f":"IF(E65=\"\",\"\",LEFT(②選手情報入力!L74,4))","v":""},{"$f":"IF(E65=\"\",\"\",RIGHT(②選手情報入力!L74,4))","v":""},"",null,{"$f":"IF(E65=\"\",\"\",IF(②選手情報入力!M74=\"\",\"\",IF(K65=1,VLOOKUP(②選手情報入力!M74,種目情報!$A$5:$B$167,2,FALSE),VLOOKUP(②選手情報入力!M74,種目情報!$E$5:$F$142,2,FALSE))))","v":""},{"$f":"IF(E65=\"\",\"\",IF(②選手情報入力!N74=\"\",\"\",②選手情報入力!N74))","v":""},null,{"$f":"IF(E65=\"\",\"\",IF(②選手情報入力!M74=\"\",\"\",IF(K65=1,VLOOKUP(②選手情報入力!M74,種目情報!$A$5:$C$135,3,FALSE),VLOOKUP(②選手情報入力!M74,種目情報!$E$5:$G$135,3,FALSE))))","v":""},{"$f":"IF(E65=\"\",\"\",IF(②選手情報入力!P74=\"\",\"\",IF(K65=1,VLOOKUP(②選手情報入力!P74,種目情報!$A$5:$B$151,2,FALSE),VLOOKUP(②選手情報入力!P74,種目情報!$E$5:$F$135,2,FALSE))))","v":""},{"$f":"IF(E65=\"\",\"\",IF(②選手情報入力!Q74=\"\",\"\",②選手情報入力!Q74))","v":""},{"$f":"IF(E65=\"\",\"\",IF(②選手情報入力!O74=\"\",\"\",1))","v":""},{"$f":"IF(E65=\"\",\"\",IF(②選手情報入力!P74=\"\",\"\",IF(K65=1,VLOOKUP(②選手情報入力!P74,種目情報!$A$5:$C$135,3,FALSE),VLOOKUP(②選手情報入力!P74,種目情報!$E$5:$G$135,3,FALSE))))","v":""},{"$f":"IF(E65=\"\",\"\",IF(②選手情報入力!S74=\"\",\"\",IF(K65=1,VLOOKUP(②選手情報入力!S74,種目情報!$A$5:$B$151,2,FALSE),VLOOKUP(②選手情報入力!S74,種目情報!$E$5:$F$135,2,FALSE))))","v":""},{"$f":"IF(E65=\"\",\"\",IF(②選手情報入力!T74=\"\",\"\",②選手情報入力!T74))","v":""},{"$f":"IF(E65=\"\",\"\",IF(②選手情報入力!R74=\"\",\"\",1))","v":""},{"$f":"IF(E65=\"\",\"\",IF(②選手情報入力!S74=\"\",\"\",IF(K65=1,VLOOKUP(②選手情報入力!S74,種目情報!$A$5:$C$135,3,FALSE),VLOOKUP(②選手情報入力!S74,種目情報!$E$5:$G$135,3,FALSE))))","v":""},{"$f":"IF(E65=\"\",\"\",IF(②選手情報入力!U74=\"\",\"\",IF(K65=1,種目情報!$J$4,種目情報!$J$6)))","v":""},{"$f":"IF(E65=\"\",\"\",IF(②選手情報入力!U74=\"\",\"\",IF(K65=1,IF(②選手情報入力!$V$7=\"\",\"\",②選手情報入力!$V$7),IF(②選手情報入力!$V$8=\"\",\"\",②選手情報入力!$V$8))))","v":""},{"$f":"IF(E65=\"\",\"\",IF(②選手情報入力!U74=\"\",\"\",IF(K65=1,IF(②選手情報入力!$U$7=\"\",0,1),IF(②選手情報入力!$U$8=\"\",0,1))))","v":""},{"$f":"IF(E65=\"\",\"\",IF(②選手情報入力!U74=\"\",\"\",2))","v":""},{"$f":"IF(E65=\"\",\"\",IF(②選手情報入力!W74=\"\",\"\",IF(K65=1,種目情報!$J$5,種目情報!$J$7)))","v":""},{"$f":"IF(E65=\"\",\"\",IF(②選手情報入力!W74=\"\",\"\",IF(K65=1,IF(②選手情報入力!$X$7=\"\",\"\",②選手情報入力!$X$7),IF(②選手情報入力!$X$8=\"\",\"\",②選手情報入力!$X$8))))","v":""},{"$f":"IF(E65=\"\",\"\",IF(②選手情報入力!W74=\"\",\"\",IF(K65=1,IF(②選手情報入力!$W$7=\"\",0,1),IF(②選手情報入力!$W$8=\"\",0,1))))","v":""},{"$f":"IF(E65=\"\",\"\",IF(②選手情報入力!W74=\"\",\"\",2))","v":""},null,null,{"$f":"IF(②選手情報入力!G74=\"\",\"\",ASC(②選手情報入力!G74))","v":""},{"$f":"IF(②選手情報入力!G74=\"\",\"\",ASC(②選手情報入力!H74))","v":""}]
["",{"$f":"IF(E66=\"\",\"\",①団体情報入力!$C$5)","v":""},null,{"$f":"IF(E66=\"\",\"\",IF(①団体情報入力!C71=\"\",\"\",①団体情報入力!C71))","v":""},{"$f":"IF(②選手情報入力!D75=\"\",\"\",②選手情報入力!D75)","v":""},{"$f":"IF(E66=\"\",\"\",②選手情報入力!E75)","v":""},{"$f":"IF(E66=\"\",\"\",ASC(②選手情報入力!F75))","v":""},"","",{"$f":"IF(E66=\"\",\"\",IF(②選手情報入力!I75=\"\",\"JPN\",LEFT(②選手情報入力!I75,3)))","v":""},{"$f":"IF(E66=\"\",\"\",IF(②選手情報入力!J75=\"男\",1,2))","v":""},{"$f":"IF(E66=\"\",\"\",IF(②選手情報入力!K75=\"\",\"\",②選手情報入力!K75))","v":""},{"$f":"IF(E66=\"\",\"\",LEFT(②選手情報入力!L75,4))","v":""},{"$f":"IF(E66=\"\",\"\",RIGHT(②選手情報入力!L75,4))","v":""},"",null,{"$f":"IF(E66=\"\",\"\",IF(②選手情報入力!M75=\"\",\"\",IF(K66=1,VLOOKUP(②選手情報入力!M75,種目情報!$A$5:$B$167,2,FALSE),VLOOKUP(②選手情報入力!M75,種目情報!$E$5:$F$142,2,FALSE))))","v":""},{"$f":"IF(E66=\"\",\"\",IF(②選手情報入力!N75=\"\",\"\",②選手情報入力!N75))","v":""},null,{"$f":"IF(E66=\"\",\"\",IF(②選手情報入力!M75=\"\",\"\",IF(K66=1,VLOOKUP(②選手情報入力!M75,種目情報!$A$5:$C$135,3,FALSE),VLOOKUP(②選手情報入力!M75,種目情報!$E$5:$G$135,3,FALSE))))","v":""},{"$f":"IF(E66=\"\",\"\",IF(②選手情報入力!P75=\"\",\"\",IF(K66=1,VLOOKUP(②選手情報入力!P75,種目情報!$A$5:$B$151,2,FALSE),VLOOKUP(②選手情報入力!P75,種目情報!$E$5:$F$135,2,FALSE))))","v":""},{"$f":"IF(E66=\"\",\"\",IF(②選手情報入力!Q75=\"\",\"\",②選手情報入力!Q75))","v":""},{"$f":"IF(E66=\"\",\"\",IF(②選手情報入力!O75=\"\",\"\",1))","v":""},{"$f":"IF(E66=\"\",\"\",IF(②選手情報入力!P75=\"\",\"\",IF(K66=1,VLOOKUP(②選手情報入力!P75,種目情報!$A$5:$C$135,3,FALSE),VLOOKUP(②選手情報入力!P75,種目情報!$E$5:$G$135,3,FALSE))))","v":""},{"$f":"IF(E66=\"\",\"\",IF(②選手情報入力!S75=\"\",\"\",IF(K66=1,VLOOKUP(②選手情報入力!S75,種目情報!$A$5:$B$151,2,FALSE),VLOOKUP(②選手情報入力!S75,種目情報!$E$5:$F$135,2,FALSE))))","v":""},{"$f":"IF(E66=\"\",\"\",IF(②選手情報入力!T75=\"\",\"\",②選手情報入力!T75))","v":""},{"$f":"IF(E66=\"\",\"\",IF(②選手情報入力!R75=\"\",\"\",1))","v":""},{"$f":"IF(E66=\"\",\"\",IF(②選手情報入力!S75=\"\",\"\",IF(K66=1,VLOOKUP(②選手情報入力!S75,種目情報!$A$5:$C$135,3,FALSE),VLOOKUP(②選手情報入力!S75,種目情報!$E$5:$G$135,3,FALSE))))","v":""},{"$f":"IF(E66=\"\",\"\",IF(②選手情報入力!U75=\"\",\"\",IF(K66=1,種目情報!$J$4,種目情報!$J$6)))","v":""},{"$f":"IF(E66=\"\",\"\",IF(②選手情報入力!U75=\"\",\"\",IF(K66=1,IF(②選手情報入力!$V$7=\"\",\"\",②選手情報入力!$V$7),IF(②選手情報入力!$V$8=\"\",\"\",②選手情報入力!$V$8))))","v":""},{"$f":"IF(E66=\"\",\"\",IF(②選手情報入力!U75=\"\",\"\",IF(K66=1,IF(②選手情報入力!$U$7=\"\",0,1),IF(②選手情報入力!$U$8=\"\",0,1))))","v":""},{"$f":"IF(E66=\"\",\"\",IF(②選手情報入力!U75=\"\",\"\",2))","v":""},{"$f":"IF(E66=\"\",\"\",IF(②選手情報入力!W75=\"\",\"\",IF(K66=1,種目情報!$J$5,種目情報!$J$7)))","v":""},{"$f":"IF(E66=\"\",\"\",IF(②選手情報入力!W75=\"\",\"\",IF(K66=1,IF(②選手情報入力!$X$7=\"\",\"\",②選手情報入力!$X$7),IF(②選手情報入力!$X$8=\"\",\"\",②選手情報入力!$X$8))))","v":""},{"$f":"IF(E66=\"\",\"\",IF(②選手情報入力!W75=\"\",\"\",IF(K66=1,IF(②選手情報入力!$W$7=\"\",0,1),IF(②選手情報入力!$W$8=\"\",0,1))))","v":""},{"$f":"IF(E66=\"\",\"\",IF(②選手情報入力!W75=\"\",\"\",2))","v":""},null,null,{"$f":"IF(②選手情報入力!G75=\"\",\"\",ASC(②選手情報入力!G75))","v":""},{"$f":"IF(②選手情報入力!G75=\"\",\"\",ASC(②選手情報入力!H75))","v":""}]
[{"$f":"IF(E67=\"\",\"\",B67+10000000+E67)","v":""},{"$f":"IF(E67=\"\",\"\",①団体情報入力!$C$5)","v":""},null,{"$f":"IF(E67=\"\",\"\",IF(①団体情報入力!C72=\"\",\"\",①団体情報入力!C72))","v":""},{"$f":"IF(②選手情報入力!D76=\"\",\"\",②選手情報入力!D76)","v":""},{"$f":"IF(E67=\"\",\"\",②選手情報入力!E76)","v":""},{"$f":"IF(E67=\"\",\"\",ASC(②選手情報入力!F76))","v":""},{"$f":"IF(E67=\"\",\"\",F67)","v":""},{"$f":"IF(E67=\"\",\"\",AM67&\"　\"&AN67)","v":""},{"$f":"IF(E67=\"\",\"\",IF(②選手情報入力!I76=\"\",\"JPN\",LEFT(②選手情報入力!I76,3)))","v":""},{"$f":"IF(E67=\"\",\"\",IF(②選手情報入力!J76=\"男\",1,2))","v":""},{"$f":"IF(E67=\"\",\"\",IF(②選手情報入力!K76=\"\",\"\",②選手情報入力!K76))","v":""},{"$f":"IF(E67=\"\",\"\",LEFT(②選手情報入力!L76,4))","v":""},{"$f":"IF(E67=\"\",\"\",RIGHT(②選手情報入力!L76,4))","v":""},{"$f":"IF(E67=\"\",\"\",\"愛知\")","v":""},null,{"$f":"IF(E67=\"\",\"\",IF(②選手情報入力!M76=\"\",\"\",IF(K67=1,VLOOKUP(②選手情報入力!M76,種目情報!$A$5:$B$167,2,FALSE),VLOOKUP(②選手情報入力!M76,種目情報!$E$5:$F$142,2,FALSE))))","v":""},{"$f":"IF(E67=\"\",\"\",IF(②選手情報入力!N76=\"\",\"\",②選手情報入力!N76))","v":""},null,{"$f":"IF(E67=\"\",\"\",IF(②選手情報入力!M76=\"\",\"\",IF(K67=1,VLOOKUP(②選手情報入力!M76,種目情報!$A$5:$C$135,3,FALSE),VLOOKUP(②選手情報入力!M76,種目情報!$E$5:$G$135,3,FALSE))))","v":""},{"$f":"IF(E67=\"\",\"\",IF(②選手情報入力!P76=\"\",\"\",IF(K67=1,VLOOKUP(②選手情報入力!P76,種目情報!$A$5:$B$151,2,FALSE),VLOOKUP(②選手情報入力!P76,種目情報!$E$5:$F$135,2,FALSE))))","v":""},{"$f":"IF(E67=\"\",\"\",IF(②選手情報入力!Q76=\"\",\"\",②選手情報入力!Q76))","v":""},{"$f":"IF(E67=\"\",\"\",IF(②選手情報入力!O76=\"\",\"\",1))","v":""},{"$f":"IF(E67=\"\",\"\",IF(②選手情報入力!P76=\"\",\"\",IF(K67=1,VLOOKUP(②選手情報入力!P76,種目情報!$A$5:$C$135,3,FALSE),VLOOKUP(②選手情報入力!P76,種目情報!$E$5:$G$135,3,FALSE))))","v":""},{"$f":"IF(E67=\"\",\"\",IF(②選手情報入力!S76=\"\",\"\",IF(K67=1,VLOOKUP(②選手情報入力!S76,種目情報!$A$5:$B$151,2,FALSE),VLOOKUP(②選手情報入力!S76,種目情報!$E$5:$F$135,2,FALSE))))","v":""},{"$f":"IF(E67=\"\",\"\",IF(②選手情報入力!T76=\"\",\"\",②選手情報入力!T76))","v":""},{"$f":"IF(E67=\"\",\"\",IF(②選手情報入力!R76=\"\",\"\",1))","v":""},{"$f":"IF(E67=\"\",\"\",IF(②選手情報入力!S76=\"\",\"\",IF(K67=1,VLOOKUP(②選手情報入力!S76,種目情報!$A$5:$C$135,3,FALSE),VLOOKUP(②選手情報入力!S76,種目情報!$E$5:$G$135,3,FALSE))))","v":""},{"$f":"IF(E67=\"\",\"\",IF(②選手情報入力!U76=\"\",\"\",IF(K67=1,種目情報!$J$4,種目情報!$J$6)))","v":""},{"$f":"IF(E67=\"\",\"\",IF(②選手情報入力!U76=\"\",\"\",IF(K67=1,IF(②選手情報入力!$V$7=\"\",\"\",②選手情報入力!$V$7),IF(②選手情報入力!$V$8=\"\",\"\",②選手情報入力!$V$8))))","v":""},{"$f":"IF(E67=\"\",\"\",IF(②選手情報入力!U76=\"\",\"\",IF(K67=1,IF(②選手情報入力!$U$7=\"\",0,1),IF(②選手情報入力!$U$8=\"\",0,1))))","v":""},{"$f":"IF(E67=\"\",\"\",IF(②選手情報入力!U76=\"\",\"\",2))","v":""},{"$f":"IF(E67=\"\",\"\",IF(②選手情報入力!W76=\"\",\"\",IF(K67=1,種目情報!$J$5,種目情報!$J$7)))","v":""},{"$f":"IF(E67=\"\",\"\",IF(②選手情報入力!W76=\"\",\"\",IF(K67=1,IF(②選手情報入力!$X$7=\"\",\"\",②選手情報入力!$X$7),IF(②選手情報入力!$X$8=\"\",\"\",②選手情報入力!$X$8))))","v":""},{"$f":"IF(E67=\"\",\"\",IF(②選手情報入力!W76=\"\",\"\",IF(K67=1,IF(②選手情報入力!$W$7=\"\",0,1),IF(②選手情報入力!$W$8=\"\",0,1))))","v":""},{"$f":"IF(E67=\"\",\"\",IF(②選手情報入力!W76=\"\",\"\",2))","v":""},null,null,{"$f":"IF(②選手情報入力!G76=\"\",\"\",ASC(②選手情報入力!G76))","v":""},{"$f":"IF(②選手情報入力!G76=\"\",\"\",ASC(②選手情報入力!H76))","v":""}]
["",{"$f":"IF(E68=\"\",\"\",①団体情報入力!$C$5)","v":""},null,{"$f":"IF(E68=\"\",\"\",IF(①団体情報入力!C73=\"\",\"\",①団体情報入力!C73))","v":""},{"$f":"IF(②選手情報入力!D77=\"\",\"\",②選手情報入力!D77)","v":""},{"$f":"IF(E68=\"\",\"\",②選手情報入力!E77)","v":""},{"$f":"IF(E68=\"\",\"\",ASC(②選手情報入力!F77))","v":""},"","",{"$f":"IF(E68=\"\",\"\",IF(②選手情報入力!I77=\"\",\"JPN\",LEFT(②選手情報入力!I77,3)))","v":""},{"$f":"IF(E68=\"\",\"\",IF(②選手情報入力!J77=\"男\",1,2))","v":""},{"$f":"IF(E68=\"\",\"\",IF(②選手情報入力!K77=\"\",\"\",②選手情報入力!K77))","v":""},{"$f":"IF(E68=\"\",\"\",LEFT(②選手情報入力!L77,4))","v":""},{"$f":"IF(E68=\"\",\"\",RIGHT(②選手情報入力!L77,4))","v":""},"",null,{"$f":"IF(E68=\"\",\"\",IF(②選手情報入力!M77=\"\",\"\",IF(K68=1,VLOOKUP(②選手情報入力!M77,種目情報!$A$5:$B$167,2,FALSE),VLOOKUP(②選手情報入力!M77,種目情報!$E$5:$F$142,2,FALSE))))","v":""},{"$f":"IF(E68=\"\",\"\",IF(②選手情報入力!N77=\"\",\"\",②選手情報入力!N77))","v":""},null,{"$f":"IF(E68=\"\",\"\",IF(②選手情報入力!M77=\"\",\"\",IF(K68=1,VLOOKUP(②選手情報入力!M77,種目情報!$A$5:$C$135,3,FALSE),VLOOKUP(②選手情報入力!M77,種目情報!$E$5:$G$135,3,FALSE))))","v":""},{"$f":"IF(E68=\"\",\"\",IF(②選手情報入力!P77=\"\",\"\",IF(K68=1,VLOOKUP(②選手情報入力!P77,種目情報!$A$5:$B$151,2,FALSE),VLOOKUP(②選手情報入力!P77,種目情報!$E$5:$F$135,2,FALSE))))","v":""},{"$f":"IF(E68=\"\",\"\",IF(②選手情報入力!Q77=\"\",\"\",②選手情報入力!Q77))","v":""},{"$f":"IF(E68=\"\",\"\",IF(②選手情報入力!O77=\"\",\"\",1))","v":""},{"$f":"IF(E68=\"\",\"\",IF(②選手情報入力!P77=\"\",\"\",IF(K68=1,VLOOKUP(②選手情報入力!P77,種目情報!$A$5:$C$135,3,FALSE),VLOOKUP(②選手情報入力!P77,種目情報!$E$5:$G$135,3,FALSE))))","v":""},{"$f":"IF(E68=\"\",\"\",IF(②選手情報入力!S77=\"\",\"\",IF(K68=1,VLOOKUP(②選手情報入力!S77,種目情報!$A$5:$B$151,2,FALSE),VLOOKUP(②選手情報入力!S77,種目情報!$E$5:$F$135,2,FALSE))))","v":""},{"$f":"IF(E68=\"\",\"\",IF(②選手情報入力!T77=\"\",\"\",②選手情報入力!T77))","v":""},{"$f":"IF(E68=\"\",\"\",IF(②選手情報入力!R77=\"\",\"\",1))","v":""},{"$f":"IF(E68=\"\",\"\",IF(②選手情報入力!S77=\"\",\"\",IF(K68=1,VLOOKUP(②選手情報入力!S77,種目情報!$A$5:$C$135,3,FALSE),VLOOKUP(②選手情報入力!S77,種目情報!$E$5:$G$135,3,FALSE))))","v":""},{"$f":"IF(E68=\"\",\"\",IF(②選手情報入力!U77=\"\",\"\",IF(K68=1,種目情報!$J$4,種目情報!$J$6)))","v":""},{"$f":"IF(E68=\"\",\"\",IF(②選手情報入力!U77=\"\",\"\",IF(K68=1,IF(②選手情報入力!$V$7=\"\",\"\",②選手情報入力!$V$7),IF(②選手情報入力!$V$8=\"\",\"\",②選手情報入力!$V$8))))","v":""},{"$f":"IF(E68=\"\",\"\",IF(②選手情報入力!U77=\"\",\"\",IF(K68=1,IF(②選手情報入力!$U$7=\"\",0,1),IF(②選手情報入力!$U$8=\"\",0,1))))","v":""},{"$f":"IF(E68=\"\",\"\",IF(②選手情報入力!U77=\"\",\"\",2))","v":""},{"$f":"IF(E68=\"\",\"\",IF(②選手情報入力!W77=\"\",\"\",IF(K68=1,種目情報!$J$5,種目情報!$J$7)))","v":""},{"$f":"IF(E68=\"\",\"\",IF(②選手情報入力!W77=\"\",\"\",IF(K68=1,IF(②選手情報入力!$X$7=\"\",\"\",②選手情報入力!$X$7),IF(②選手情報入力!$X$8=\"\",\"\",②選手情報入力!$X$8))))","v":""},{"$f":"IF(E68=\"\",\"\",IF(②選手情報入力!W77=\"\",\"\",IF(K68=1,IF(②選手情報入力!$W$7=\"\",0,1),IF(②選手情報入力!$W$8=\"\",0,1))))","v":""},{"$f":"IF(E68=\"\",\"\",IF(②選手情報入力!W77=\"\",\"\",2))","v":""},null,null,{"$f":"IF(②選手情報入力!G77=\"\",\"\",ASC(②選手情報入力!G77))","v":""},{"$f":"IF(②選手情報入力!G77=\"\",\"\",ASC(②選手情報入力!H77))","v":""}]
["",{"$f":"IF(E69=\"\",\"\",①団体情報入力!$C$5)","v":""},null,{"$f":"IF(E69=\"\",\"\",IF(①団体情報入力!C74=\"\",\"\",①団体情報入力!C74))","v":""},{"$f":"IF(②選手情報入力!D78=\"\",\"\",②選手情報入力!D78)","v":""},{"$f":"IF(E69=\"\",\"\",②選手情報入力!E78)","v":""},{"$f":"IF(E69=\"\",\"\",ASC(②選手情報入力!F78))","v":""},"","",{"$f":"IF(E69=\"\",\"\",IF(②選手情報入力!I78=\"\",\"JPN\",LEFT(②選手情報入力!I78,3)))","v":""},{"$f":"IF(E69=\"\",\"\",IF(②選手情報入力!J78=\"男\",1,2))","v":""},{"$f":"IF(E69=\"\",\"\",IF(②選手情報入力!K78=\"\",\"\",②選手情報入力!K78))","v":""},{"$f":"IF(E69=\"\",\"\",LEFT(②選手情報入力!L78,4))","v":""},{"$f":"IF(E69=\"\",\"\",RIGHT(②選手情報入力!L78,4))","v":""},"",null,{"$f":"IF(E69=\"\",\"\",IF(②選手情報入力!M78=\"\",\"\",IF(K69=1,VLOOKUP(②選手情報入力!M78,種目情報!$A$5:$B$167,2,FALSE),VLOOKUP(②選手情報入力!M78,種目情報!$E$5:$F$142,2,FALSE))))","v":""},{"$f":"IF(E69=\"\",\"\",IF(②選手情報入力!N78=\"\",\"\",②選手情報入力!N78))","v":""},null,{"$f":"IF(E69=\"\",\"\",IF(②選手情報入力!M78=\"\",\"\",IF(K69=1,VLOOKUP(②選手情報入力!M78,種目情報!$A$5:$C$135,3,FALSE),VLOOKUP(②選手情報入力!M78,種目情報!$E$5:$G$135,3,FALSE))))","v":""},{"$f":"IF(E69=\"\",\"\",IF(②選手情報入力!P78=\"\",\"\",IF(K69=1,VLOOKUP(②選手情報入力!P78,種目情報!$A$5:$B$151,2,FALSE),VLOOKUP(②選手情報入力!P78,種目情報!$E$5:$F$135,2,FALSE))))","v":""},{"$f":"IF(E69=\"\",\"\",IF(②選手情報入力!Q78=\"\",\"\",②選手情報入力!Q78))","v":""},{"$f":"IF(E69=\"\",\"\",IF(②選手情報入力!O78=\"\",\"\",1))","v":""},{"$f":"IF(E69=\"\",\"\",IF(②選手情報入力!P78=\"\",\"\",IF(K69=1,VLOOKUP(②選手情報入力!P78,種目情報!$A$5:$C$135,3,FALSE),VLOOKUP(②選手情報入力!P78,種目情報!$E$5:$G$135,3,FALSE))))","v":""},{"$f":"IF(E69=\"\",\"\",IF(②選手情報入力!S78=\"\",\"\",IF(K69=1,VLOOKUP(②選手情報入力!S78,種目情報!$A$5:$B$151,2,FALSE),VLOOKUP(②選手情報入力!S78,種目情報!$E$5:$F$135,2,FALSE))))","v":""},{"$f":"IF(E69=\"\",\"\",IF(②選手情報入力!T78=\"\",\"\",②選手情報入力!T78))","v":""},{"$f":"IF(E69=\"\",\"\",IF(②選手情報入力!R78=\"\",\"\",1))","v":""},{"$f":"IF(E69=\"\",\"\",IF(②選手情報入力!S78=\"\",\"\",IF(K69=1,VLOOKUP(②選手情報入力!S78,種目情報!$A$5:$C$135,3,FALSE),VLOOKUP(②選手情報入力!S78,種目情報!$E$5:$G$135,3,FALSE))))","v":""},{"$f":"IF(E69=\"\",\"\",IF(②選手情報入力!U78=\"\",\"\",IF(K69=1,種目情報!$J$4,種目情報!$J$6)))","v":""},{"$f":"IF(E69=\"\",\"\",IF(②選手情報入力!U78=\"\",\"\",IF(K69=1,IF(②選手情報入力!$V$7=\"\",\"\",②選手情報入力!$V$7),IF(②選手情報入力!$V$8=\"\",\"\",②選手情報入力!$V$8))))","v":""},{"$f":"IF(E69=\"\",\"\",IF(②選手情報入力!U78=\"\",\"\",IF(K69=1,IF(②選手情報入力!$U$7=\"\",0,1),IF(②選手情報入力!$U$8=\"\",0,1))))","v":""},{"$f":"IF(E69=\"\",\"\",IF(②選手情報入力!U78=\"\",\"\",2))","v":""},{"$f":"IF(E69=\"\",\"\",IF(②選手情報入力!W78=\"\",\"\",IF(K69=1,種目情報!$J$5,種目情報!$J$7)))","v":""},{"$f":"IF(E69=\"\",\"\",IF(②選手情報入力!W78=\"\",\"\",IF(K69=1,IF(②選手情報入力!$X$7=\"\",\"\",②選手情報入力!$X$7),IF(②選手情報入力!$X$8=\"\",\"\",②選手情報入力!$X$8))))","v":""},{"$f":"IF(E69=\"\",\"\",IF(②選手情報入力!W78=\"\",\"\",IF(K69=1,IF(②選手情報入力!$W$7=\"\",0,1),IF(②選手情報入力!$W$8=\"\",0,1))))","v":""},{"$f":"IF(E69=\"\",\"\",IF(②選手情報入力!W78=\"\",\"\",2))","v":""},null,null,{"$f":"IF(②選手情報入力!G78=\"\",\"\",ASC(②選手情報入力!G78))","v":""},{"$f":"IF(②選手情報入力!G78=\"\",\"\",ASC(②選手情報入力!H78))","v":""}]
["",{"$f":"IF(E70=\"\",\"\",①団体情報入力!$C$5)","v":""},null,{"$f":"IF(E70=\"\",\"\",IF(①団体情報入力!C75=\"\",\"\",①団体情報入力!C75))","v":""},{"$f":"IF(②選手情報入力!D79=\"\",\"\",②選手情報入力!D79)","v":""},{"$f":"IF(E70=\"\",\"\",②選手情報入力!E79)","v":""},{"$f":"IF(E70=\"\",\"\",ASC(②選手情報入力!F79))","v":""},"","",{"$f":"IF(E70=\"\",\"\",IF(②選手情報入力!I79=\"\",\"JPN\",LEFT(②選手情報入力!I79,3)))","v":""},{"$f":"IF(E70=\"\",\"\",IF(②選手情報入力!J79=\"男\",1,2))","v":""},{"$f":"IF(E70=\"\",\"\",IF(②選手情報入力!K79=\"\",\"\",②選手情報入力!K79))","v":""},{"$f":"IF(E70=\"\",\"\",LEFT(②選手情報入力!L79,4))","v":""},{"$f":"IF(E70=\"\",\"\",RIGHT(②選手情報入力!L79,4))","v":""},"",null,{"$f":"IF(E70=\"\",\"\",IF(②選手情報入力!M79=\"\",\"\",IF(K70=1,VLOOKUP(②選手情報入力!M79,種目情報!$A$5:$B$167,2,FALSE),VLOOKUP(②選手情報入力!M79,種目情報!$E$5:$F$142,2,FALSE))))","v":""},{"$f":"IF(E70=\"\",\"\",IF(②選手情報入力!N79=\"\",\"\",②選手情報入力!N79))","v":""},null,{"$f":"IF(E70=\"\",\"\",IF(②選手情報入力!M79=\"\",\"\",IF(K70=1,VLOOKUP(②選手情報入力!M79,種目情報!$A$5:$C$135,3,FALSE),VLOOKUP(②選手情報入力!M79,種目情報!$E$5:$G$135,3,FALSE))))","v":""},{"$f":"IF(E70=\"\",\"\",IF(②選手情報入力!P79=\"\",\"\",IF(K70=1,VLOOKUP(②選手情報入力!P79,種目情報!$A$5:$B$151,2,FALSE),VLOOKUP(②選手情報入力!P79,種目情報!$E$5:$F$135,2,FALSE))))","v":""},{"$f":"IF(E70=\"\",\"\",IF(②選手情報入力!Q79=\"\",\"\",②選手情報入力!Q79))","v":""},{"$f":"IF(E70=\"\",\"\",IF(②選手情報入力!O79=\"\",\"\",1))","v":""},{"$f":"IF(E70=\"\",\"\",IF(②選手情報入力!P79=\"\",\"\",IF(K70=1,VLOOKUP(②選手情報入力!P79,種目情報!$A$5:$C$135,3,FALSE),VLOOKUP(②選手情報入力!P79,種目情報!$E$5:$G$135,3,FALSE))))","v":""},{"$f":"IF(E70=\"\",\"\",IF(②選手情報入力!S79=\"\",\"\",IF(K70=1,VLOOKUP(②選手情報入力!S79,種目情報!$A$5:$B$151,2,FALSE),VLOOKUP(②選手情報入力!S79,種目情報!$E$5:$F$135,2,FALSE))))","v":""},{"$f":"IF(E70=\"\",\"\",IF(②選手情報入力!T79=\"\",\"\",②選手情報入力!T79))","v":""},{"$f":"IF(E70=\"\",\"\",IF(②選手情報入力!R79=\"\",\"\",1))","v":""},{"$f":"IF(E70=\"\",\"\",IF(②選手情報入力!S79=\"\",\"\",IF(K70=1,VLOOKUP(②選手情報入力!S79,種目情報!$A$5:$C$135,3,FALSE),VLOOKUP(②選手情報入力!S79,種目情報!$E$5:$G$135,3,FALSE))))","v":""},{"$f":"IF(E70=\"\",\"\",IF(②選手情報入力!U79=\"\",\"\",IF(K70=1,種目情報!$J$4,種目情報!$J$6)))","v":""},{"$f":"IF(E70=\"\",\"\",IF(②選手情報入力!U79=\"\",\"\",IF(K70=1,IF(②選手情報入力!$V$7=\"\",\"\",②選手情報入力!$V$7),IF(②選手情報入力!$V$8=\"\",\"\",②選手情報入力!$V$8))))","v":""},{"$f":"IF(E70=\"\",\"\",IF(②選手情報入力!U79=\"\",\"\",IF(K70=1,IF(②選手情報入力!$U$7=\"\",0,1),IF(②選手情報入力!$U$8=\"\",0,1))))","v":""},{"$f":"IF(E70=\"\",\"\",IF(②選手情報入力!U79=\"\",\"\",2))","v":""},{"$f":"IF(E70=\"\",\"\",IF(②選手情報入力!W79=\"\",\"\",IF(K70=1,種目情報!$J$5,種目情報!$J$7)))","v":""},{"$f":"IF(E70=\"\",\"\",IF(②選手情報入力!W79=\"\",\"\",IF(K70=1,IF(②選手情報入力!$X$7=\"\",\"\",②選手情報入力!$X$7),IF(②選手情報入力!$X$8=\"\",\"\",②選手情報入力!$X$8))))","v":""},{"$f":"IF(E70=\"\",\"\",IF(②選手情報入力!W79=\"\",\"\",IF(K70=1,IF(②選手情報入力!$W$7=\"\",0,1),IF(②選手情報入力!$W$8=\"\",0,1))))","v":""},{"$f":"IF(E70=\"\",\"\",IF(②選手情報入力!W79=\"\",\"\",2))","v":""},null,null,{"$f":"IF(②選手情報入力!G79=\"\",\"\",ASC(②選手情報入力!G79))","v":""},{"$f":"IF(②選手情報入力!G79=\"\",\"\",ASC(②選手情報入力!H79))","v":""}]
["",{"$f":"IF(E71=\"\",\"\",①団体情報入力!$C$5)","v":""},null,{"$f":"IF(E71=\"\",\"\",IF(①団体情報入力!C76=\"\",\"\",①団体情報入力!C76))","v":""},{"$f":"IF(②選手情報入力!D80=\"\",\"\",②選手情報入力!D80)","v":""},{"$f":"IF(E71=\"\",\"\",②選手情報入力!E80)","v":""},{"$f":"IF(E71=\"\",\"\",ASC(②選手情報入力!F80))","v":""},"","",{"$f":"IF(E71=\"\",\"\",IF(②選手情報入力!I80=\"\",\"JPN\",LEFT(②選手情報入力!I80,3)))","v":""},{"$f":"IF(E71=\"\",\"\",IF(②選手情報入力!J80=\"男\",1,2))","v":""},{"$f":"IF(E71=\"\",\"\",IF(②選手情報入力!K80=\"\",\"\",②選手情報入力!K80))","v":""},{"$f":"IF(E71=\"\",\"\",LEFT(②選手情報入力!L80,4))","v":""},{"$f":"IF(E71=\"\",\"\",RIGHT(②選手情報入力!L80,4))","v":""},"",null,{"$f":"IF(E71=\"\",\"\",IF(②選手情報入力!M80=\"\",\"\",IF(K71=1,VLOOKUP(②選手情報入力!M80,種目情報!$A$5:$B$167,2,FALSE),VLOOKUP(②選手情報入力!M80,種目情報!$E$5:$F$142,2,FALSE))))","v":""},{"$f":"IF(E71=\"\",\"\",IF(②選手情報入力!N80=\"\",\"\",②選手情報入力!N80))","v":""},null,{"$f":"IF(E71=\"\",\"\",IF(②選手情報入力!M80=\"\",\"\",IF(K71=1,VLOOKUP(②選手情報入力!M80,種目情報!$A$5:$C$135,3,FALSE),VLOOKUP(②選手情報入力!M80,種目情報!$E$5:$G$135,3,FALSE))))","v":""},{"$f":"IF(E71=\"\",\"\",IF(②選手情報入力!P80=\"\",\"\",IF(K71=1,VLOOKUP(②選手情報入力!P80,種目情報!$A$5:$B$151,2,FALSE),VLOOKUP(②選手情報入力!P80,種目情報!$E$5:$F$135,2,FALSE))))","v":""},{"$f":"IF(E71=\"\",\"\",IF(②選手情報入力!Q80=\"\",\"\",②選手情報入力!Q80))","v":""},{"$f":"IF(E71=\"\",\"\",IF(②選手情報入力!O80=\"\",\"\",1))","v":""},{"$f":"IF(E71=\"\",\"\",IF(②選手情報入力!P80=\"\",\"\",IF(K71=1,VLOOKUP(②選手情報入力!P80,種目情報!$A$5:$C$135,3,FALSE),VLOOKUP(②選手情報入力!P80,種目情報!$E$5:$G$135,3,FALSE))))","v":""},{"$f":"IF(E71=\"\",\"\",IF(②選手情報入力!S80=\"\",\"\",IF(K71=1,VLOOKUP(②選手情報入力!S80,種目情報!$A$5:$B$151,2,FALSE),VLOOKUP(②選手情報入力!S80,種目情報!$E$5:$F$135,2,FALSE))))","v":""},{"$f":"IF(E71=\"\",\"\",IF(②選手情報入力!T80=\"\",\"\",②選手情報入力!T80))","v":""},{"$f":"IF(E71=\"\",\"\",IF(②選手情報入力!R80=\"\",\"\",1))","v":""},{"$f":"IF(E71=\"\",\"\",IF(②選手情報入力!S80=\"\",\"\",IF(K71=1,VLOOKUP(②選手情報入力!S80,種目情報!$A$5:$C$135,3,FALSE),VLOOKUP(②選手情報入力!S80,種目情報!$E$5:$G$135,3,FALSE))))","v":""},{"$f":"IF(E71=\"\",\"\",IF(②選手情報入力!U80=\"\",\"\",IF(K71=1,種目情報!$J$4,種目情報!$J$6)))","v":""},{"$f":"IF(E71=\"\",\"\",IF(②選手情報入力!U80=\"\",\"\",IF(K71=1,IF(②選手情報入力!$V$7=\"\",\"\",②選手情報入力!$V$7),IF(②選手情報入力!$V$8=\"\",\"\",②選手情報入力!$V$8))))","v":""},{"$f":"IF(E71=\"\",\"\",IF(②選手情報入力!U80=\"\",\"\",IF(K71=1,IF(②選手情報入力!$U$7=\"\",0,1),IF(②選手情報入力!$U$8=\"\",0,1))))","v":""},{"$f":"IF(E71=\"\",\"\",IF(②選手情報入力!U80=\"\",\"\",2))","v":""},{"$f":"IF(E71=\"\",\"\",IF(②選手情報入力!W80=\"\",\"\",IF(K71=1,種目情報!$J$5,種目情報!$J$7)))","v":""},{"$f":"IF(E71=\"\",\"\",IF(②選手情報入力!W80=\"\",\"\",IF(K71=1,IF(②選手情報入力!$X$7=\"\",\"\",②選手情報入力!$X$7),IF(②選手情報入力!$X$8=\"\",\"\",②選手情報入力!$X$8))))","v":""},{"$f":"IF(E71=\"\",\"\",IF(②選手情報入力!W80=\"\",\"\",IF(K71=1,IF(②選手情報入力!$W$7=\"\",0,1),IF(②選手情報入力!$W$8=\"\",0,1))))","v":""},{"$f":"IF(E71=\"\",\"\",IF(②選手情報入力!W80=\"\",\"\",2))","v":""},null,null,{"$f":"IF(②選手情報入力!G80=\"\",\"\",ASC(②選手情報入力!G80))","v":""},{"$f":"IF(②選手情報入力!G80=\"\",\"\",ASC(②選手情報入力!H80))","v":""}]
["",{"$f":"IF(E72=\"\",\"\",①団体情報入力!$C$5)","v":""},null,{"$f":"IF(E72=\"\",\"\",IF(①団体情報入力!C77=\"\",\"\",①団体情報入力!C77))","v":""},{"$f":"IF(②選手情報入力!D81=\"\",\"\",②選手情報入力!D81)","v":""},{"$f":"IF(E72=\"\",\"\",②選手情報入力!E81)","v":""},{"$f":"IF(E72=\"\",\"\",ASC(②選手情報入力!F81))","v":""},"","",{"$f":"IF(E72=\"\",\"\",IF(②選手情報入力!I81=\"\",\"JPN\",LEFT(②選手情報入力!I81,3)))","v":""},{"$f":"IF(E72=\"\",\"\",IF(②選手情報入力!J81=\"男\",1,2))","v":""},{"$f":"IF(E72=\"\",\"\",IF(②選手情報入力!K81=\"\",\"\",②選手情報入力!K81))","v":""},{"$f":"IF(E72=\"\",\"\",LEFT(②選手情報入力!L81,4))","v":""},{"$f":"IF(E72=\"\",\"\",RIGHT(②選手情報入力!L81,4))","v":""},"",null,{"$f":"IF(E72=\"\",\"\",IF(②選手情報入力!M81=\"\",\"\",IF(K72=1,VLOOKUP(②選手情報入力!M81,種目情報!$A$5:$B$167,2,FALSE),VLOOKUP(②選手情報入力!M81,種目情報!$E$5:$F$142,2,FALSE))))","v":""},{"$f":"IF(E72=\"\",\"\",IF(②選手情報入力!N81=\"\",\"\",②選手情報入力!N81))","v":""},null,{"$f":"IF(E72=\"\",\"\",IF(②選手情報入力!M81=\"\",\"\",IF(K72=1,VLOOKUP(②選手情報入力!M81,種目情報!$A$5:$C$135,3,FALSE),VLOOKUP(②選手情報入力!M81,種目情報!$E$5:$G$135,3,FALSE))))","v":""},{"$f":"IF(E72=\"\",\"\",IF(②選手情報入力!P81=\"\",\"\",IF(K72=1,VLOOKUP(②選手情報入力!P81,種目情報!$A$5:$B$151,2,FALSE),VLOOKUP(②選手情報入力!P81,種目情報!$E$5:$F$135,2,FALSE))))","v":""},{"$f":"IF(E72=\"\",\"\",IF(②選手情報入力!Q81=\"\",\"\",②選手情報入力!Q81))","v":""},{"$f":"IF(E72=\"\",\"\",IF(②選手情報入力!O81=\"\",\"\",1))","v":""},{"$f":"IF(E72=\"\",\"\",IF(②選手情報入力!P81=\"\",\"\",IF(K72=1,VLOOKUP(②選手情報入力!P81,種目情報!$A$5:$C$135,3,FALSE),VLOOKUP(②選手情報入力!P81,種目情報!$E$5:$G$135,3,FALSE))))","v":""},{"$f":"IF(E72=\"\",\"\",IF(②選手情報入力!S81=\"\",\"\",IF(K72=1,VLOOKUP(②選手情報入力!S81,種目情報!$A$5:$B$151,2,FALSE),VLOOKUP(②選手情報入力!S81,種目情報!$E$5:$F$135,2,FALSE))))","v":""},{"$f":"IF(E72=\"\",\"\",IF(②選手情報入力!T81=\"\",\"\",②選手情報入力!T81))","v":""},{"$f":"IF(E72=\"\",\"\",IF(②選手情報入力!R81=\"\",\"\",1))","v":""},{"$f":"IF(E72=\"\",\"\",IF(②選手情報入力!S81=\"\",\"\",IF(K72=1,VLOOKUP(②選手情報入力!S81,種目情報!$A$5:$C$135,3,FALSE),VLOOKUP(②選手情報入力!S81,種目情報!$E$5:$G$135,3,FALSE))))","v":""},{"$f":"IF(E72=\"\",\"\",IF(②選手情報入力!U81=\"\",\"\",IF(K72=1,種目情報!$J$4,種目情報!$J$6)))","v":""},{"$f":"IF(E72=\"\",\"\",IF(②選手情報入力!U81=\"\",\"\",IF(K72=1,IF(②選手情報入力!$V$7=\"\",\"\",②選手情報入力!$V$7),IF(②選手情報入力!$V$8=\"\",\"\",②選手情報入力!$V$8))))","v":""},{"$f":"IF(E72=\"\",\"\",IF(②選手情報入力!U81=\"\",\"\",IF(K72=1,IF(②選手情報入力!$U$7=\"\",0,1),IF(②選手情報入力!$U$8=\"\",0,1))))","v":""},{"$f":"IF(E72=\"\",\"\",IF(②選手情報入力!U81=\"\",\"\",2))","v":""},{"$f":"IF(E72=\"\",\"\",IF(②選手情報入力!W81=\"\",\"\",IF(K72=1,種目情報!$J$5,種目情報!$J$7)))","v":""},{"$f":"IF(E72=\"\",\"\",IF(②選手情報入力!W81=\"\",\"\",IF(K72=1,IF(②選手情報入力!$X$7=\"\",\"\",②選手情報入力!$X$7),IF(②選手情報入力!$X$8=\"\",\"\",②選手情報入力!$X$8))))","v":""},{"$f":"IF(E72=\"\",\"\",IF(②選手情報入力!W81=\"\",\"\",IF(K72=1,IF(②選手情報入力!$W$7=\"\",0,1),IF(②選手情報入力!$W$8=\"\",0,1))))","v":""},{"$f":"IF(E72=\"\",\"\",IF(②選手情報入力!W81=\"\",\"\",2))","v":""},null,null,{"$f":"IF(②選手情報入力!G81=\"\",\"\",ASC(②選手情報入力!G81))","v":""},{"$f":"IF(②選手情報入力!G81=\"\",\"\",ASC(②選手情報入力!H81))","v":""}]
["",{"$f":"IF(E73=\"\",\"\",①団体情報入力!$C$5)","v":""},null,{"$f":"IF(E73=\"\",\"\",IF(①団体情報入力!C78=\"\",\"\",①団体情報入力!C78))","v":""},{"$f":"IF(②選手情報入力!D82=\"\",\"\",②選手情報入力!D82)","v":""},{"$f":"IF(E73=\"\",\"\",②選手情報入力!E82)","v":""},{"$f":"IF(E73=\"\",\"\",ASC(②選手情報入力!F82))","v":""},"","",{"$f":"IF(E73=\"\",\"\",IF(②選手情報入力!I82=\"\",\"JPN\",LEFT(②選手情報入力!I82,3)))","v":""},{"$f":"IF(E73=\"\",\"\",IF(②選手情報入力!J82=\"男\",1,2))","v":""},{"$f":"IF(E73=\"\",\"\",IF(②選手情報入力!K82=\"\",\"\",②選手情報入力!K82))","v":""},{"$f":"IF(E73=\"\",\"\",LEFT(②選手情報入力!L82,4))","v":""},{"$f":"IF(E73=\"\",\"\",RIGHT(②選手情報入力!L82,4))","v":""},"",null,{"$f":"IF(E73=\"\",\"\",IF(②選手情報入力!M82=\"\",\"\",IF(K73=1,VLOOKUP(②選手情報入力!M82,種目情報!$A$5:$B$167,2,FALSE),VLOOKUP(②選手情報入力!M82,種目情報!$E$5:$F$142,2,FALSE))))","v":""},{"$f":"IF(E73=\"\",\"\",IF(②選手情報入力!N82=\"\",\"\",②選手情報入力!N82))","v":""},null,{"$f":"IF(E73=\"\",\"\",IF(②選手情報入力!M82=\"\",\"\",IF(K73=1,VLOOKUP(②選手情報入力!M82,種目情報!$A$5:$C$135,3,FALSE),VLOOKUP(②選手情報入力!M82,種目情報!$E$5:$G$135,3,FALSE))))","v":""},{"$f":"IF(E73=\"\",\"\",IF(②選手情報入力!P82=\"\",\"\",IF(K73=1,VLOOKUP(②選手情報入力!P82,種目情報!$A$5:$B$151,2,FALSE),VLOOKUP(②選手情報入力!P82,種目情報!$E$5:$F$135,2,FALSE))))","v":""},{"$f":"IF(E73=\"\",\"\",IF(②選手情報入力!Q82=\"\",\"\",②選手情報入力!Q82))","v":""},{"$f":"IF(E73=\"\",\"\",IF(②選手情報入力!O82=\"\",\"\",1))","v":""},{"$f":"IF(E73=\"\",\"\",IF(②選手情報入力!P82=\"\",\"\",IF(K73=1,VLOOKUP(②選手情報入力!P82,種目情報!$A$5:$C$135,3,FALSE),VLOOKUP(②選手情報入力!P82,種目情報!$E$5:$G$135,3,FALSE))))","v":""},{"$f":"IF(E73=\"\",\"\",IF(②選手情報入力!S82=\"\",\"\",IF(K73=1,VLOOKUP(②選手情報入力!S82,種目情報!$A$5:$B$151,2,FALSE),VLOOKUP(②選手情報入力!S82,種目情報!$E$5:$F$135,2,FALSE))))","v":""},{"$f":"IF(E73=\"\",\"\",IF(②選手情報入力!T82=\"\",\"\",②選手情報入力!T82))","v":""},{"$f":"IF(E73=\"\",\"\",IF(②選手情報入力!R82=\"\",\"\",1))","v":""},{"$f":"IF(E73=\"\",\"\",IF(②選手情報入力!S82=\"\",\"\",IF(K73=1,VLOOKUP(②選手情報入力!S82,種目情報!$A$5:$C$135,3,FALSE),VLOOKUP(②選手情報入力!S82,種目情報!$E$5:$G$135,3,FALSE))))","v":""},{"$f":"IF(E73=\"\",\"\",IF(②選手情報入力!U82=\"\",\"\",IF(K73=1,種目情報!$J$4,種目情報!$J$6)))","v":""},{"$f":"IF(E73=\"\",\"\",IF(②選手情報入力!U82=\"\",\"\",IF(K73=1,IF(②選手情報入力!$V$7=\"\",\"\",②選手情報入力!$V$7),IF(②選手情報入力!$V$8=\"\",\"\",②選手情報入力!$V$8))))","v":""},{"$f":"IF(E73=\"\",\"\",IF(②選手情報入力!U82=\"\",\"\",IF(K73=1,IF(②選手情報入力!$U$7=\"\",0,1),IF(②選手情報入力!$U$8=\"\",0,1))))","v":""},{"$f":"IF(E73=\"\",\"\",IF(②選手情報入力!U82=\"\",\"\",2))","v":""},{"$f":"IF(E73=\"\",\"\",IF(②選手情報入力!W82=\"\",\"\",IF(K73=1,種目情報!$J$5,種目情報!$J$7)))","v":""},{"$f":"IF(E73=\"\",\"\",IF(②選手情報入力!W82=\"\",\"\",IF(K73=1,IF(②選手情報入力!$X$7=\"\",\"\",②選手情報入力!$X$7),IF(②選手情報入力!$X$8=\"\",\"\",②選手情報入力!$X$8))))","v":""},{"$f":"IF(E73=\"\",\"\",IF(②選手情報入力!W82=\"\",\"\",IF(K73=1,IF(②選手情報入力!$W$7=\"\",0,1),IF(②選手情報入力!$W$8=\"\",0,1))))","v":""},{"$f":"IF(E73=\"\",\"\",IF(②選手情報入力!W82=\"\",\"\",2))","v":""},null,null,{"$f":"IF(②選手情報入力!G82=\"\",\"\",ASC(②選手情報入力!G82))","v":""},{"$f":"IF(②選手情報入力!G82=\"\",\"\",ASC(②選手情報入力!H82))","v":""}]
["",{"$f":"IF(E74=\"\",\"\",①団体情報入力!$C$5)","v":""},null,{"$f":"IF(E74=\"\",\"\",IF(①団体情報入力!C79=\"\",\"\",①団体情報入力!C79))","v":""},{"$f":"IF(②選手情報入力!D83=\"\",\"\",②選手情報入力!D83)","v":""},{"$f":"IF(E74=\"\",\"\",②選手情報入力!E83)","v":""},{"$f":"IF(E74=\"\",\"\",ASC(②選手情報入力!F83))","v":""},"","",{"$f":"IF(E74=\"\",\"\",IF(②選手情報入力!I83=\"\",\"JPN\",LEFT(②選手情報入力!I83,3)))","v":""},{"$f":"IF(E74=\"\",\"\",IF(②選手情報入力!J83=\"男\",1,2))","v":""},{"$f":"IF(E74=\"\",\"\",IF(②選手情報入力!K83=\"\",\"\",②選手情報入力!K83))","v":""},{"$f":"IF(E74=\"\",\"\",LEFT(②選手情報入力!L83,4))","v":""},{"$f":"IF(E74=\"\",\"\",RIGHT(②選手情報入力!L83,4))","v":""},"",null,{"$f":"IF(E74=\"\",\"\",IF(②選手情報入力!M83=\"\",\"\",IF(K74=1,VLOOKUP(②選手情報入力!M83,種目情報!$A$5:$B$167,2,FALSE),VLOOKUP(②選手情報入力!M83,種目情報!$E$5:$F$142,2,FALSE))))","v":""},{"$f":"IF(E74=\"\",\"\",IF(②選手情報入力!N83=\"\",\"\",②選手情報入力!N83))","v":""},null,{"$f":"IF(E74=\"\",\"\",IF(②選手情報入力!M83=\"\",\"\",IF(K74=1,VLOOKUP(②選手情報入力!M83,種目情報!$A$5:$C$135,3,FALSE),VLOOKUP(②選手情報入力!M83,種目情報!$E$5:$G$135,3,FALSE))))","v":""},{"$f":"IF(E74=\"\",\"\",IF(②選手情報入力!P83=\"\",\"\",IF(K74=1,VLOOKUP(②選手情報入力!P83,種目情報!$A$5:$B$151,2,FALSE),VLOOKUP(②選手情報入力!P83,種目情報!$E$5:$F$135,2,FALSE))))","v":""},{"$f":"IF(E74=\"\",\"\",IF(②選手情報入力!Q83=\"\",\"\",②選手情報入力!Q83))","v":""},{"$f":"IF(E74=\"\",\"\",IF(②選手情報入力!O83=\"\",\"\",1))","v":""},{"$f":"IF(E74=\"\",\"\",IF(②選手情報入力!P83=\"\",\"\",IF(K74=1,VLOOKUP(②選手情報入力!P83,種目情報!$A$5:$C$135,3,FALSE),VLOOKUP(②選手情報入力!P83,種目情報!$E$5:$G$135,3,FALSE))))","v":""},{"$f":"IF(E74=\"\",\"\",IF(②選手情報入力!S83=\"\",\"\",IF(K74=1,VLOOKUP(②選手情報入力!S83,種目情報!$A$5:$B$151,2,FALSE),VLOOKUP(②選手情報入力!S83,種目情報!$E$5:$F$135,2,FALSE))))","v":""},{"$f":"IF(E74=\"\",\"\",IF(②選手情報入力!T83=\"\",\"\",②選手情報入力!T83))","v":""},{"$f":"IF(E74=\"\",\"\",IF(②選手情報入力!R83=\"\",\"\",1))","v":""},{"$f":"IF(E74=\"\",\"\",IF(②選手情報入力!S83=\"\",\"\",IF(K74=1,VLOOKUP(②選手情報入力!S83,種目情報!$A$5:$C$135,3,FALSE),VLOOKUP(②選手情報入力!S83,種目情報!$E$5:$G$135,3,FALSE))))","v":""},{"$f":"IF(E74=\"\",\"\",IF(②選手情報入力!U83=\"\",\"\",IF(K74=1,種目情報!$J$4,種目情報!$J$6)))","v":""},{"$f":"IF(E74=\"\",\"\",IF(②選手情報入力!U83=\"\",\"\",IF(K74=1,IF(②選手情報入力!$V$7=\"\",\"\",②選手情報入力!$V$7),IF(②選手情報入力!$V$8=\"\",\"\",②選手情報入力!$V$8))))","v":""},{"$f":"IF(E74=\"\",\"\",IF(②選手情報入力!U83=\"\",\"\",IF(K74=1,IF(②選手情報入力!$U$7=\"\",0,1),IF(②選手情報入力!$U$8=\"\",0,1))))","v":""},{"$f":"IF(E74=\"\",\"\",IF(②選手情報入力!U83=\"\",\"\",2))","v":""},{"$f":"IF(E74=\"\",\"\",IF(②選手情報入力!W83=\"\",\"\",IF(K74=1,種目情報!$J$5,種目情報!$J$7)))","v":""},{"$f":"IF(E74=\"\",\"\",IF(②選手情報入力!W83=\"\",\"\",IF(K74=1,IF(②選手情報入力!$X$7=\"\",\"\",②選手情報入力!$X$7),IF(②選手情報入力!$X$8=\"\",\"\",②選手情報入力!$X$8))))","v":""},{"$f":"IF(E74=\"\",\"\",IF(②選手情報入力!W83=\"\",\"\",IF(K74=1,IF(②選手情報入力!$W$7=\"\",0,1),IF(②選手情報入力!$W$8=\"\",0,1))))","v":""},{"$f":"IF(E74=\"\",\"\",IF(②選手情報入力!W83=\"\",\"\",2))","v":""},null,null,{"$f":"IF(②選手情報入力!G83=\"\",\"\",ASC(②選手情報入力!G83))","v":""},{"$f":"IF(②選手情報入力!G83=\"\",\"\",ASC(②選手情報入力!H83))","v":""}]
["",{"$f":"IF(E75=\"\",\"\",①団体情報入力!$C$5)","v":""},null,{"$f":"IF(E75=\"\",\"\",IF(①団体情報入力!C80=\"\",\"\",①団体情報入力!C80))","v":""},{"$f":"IF(②選手情報入力!D84=\"\",\"\",②選手情報入力!D84)","v":""},{"$f":"IF(E75=\"\",\"\",②選手情報入力!E84)","v":""},{"$f":"IF(E75=\"\",\"\",ASC(②選手情報入力!F84))","v":""},"","",{"$f":"IF(E75=\"\",\"\",IF(②選手情報入力!I84=\"\",\"JPN\",LEFT(②選手情報入力!I84,3)))","v":""},{"$f":"IF(E75=\"\",\"\",IF(②選手情報入力!J84=\"男\",1,2))","v":""},{"$f":"IF(E75=\"\",\"\",IF(②選手情報入力!K84=\"\",\"\",②選手情報入力!K84))","v":""},{"$f":"IF(E75=\"\",\"\",LEFT(②選手情報入力!L84,4))","v":""},{"$f":"IF(E75=\"\",\"\",RIGHT(②選手情報入力!L84,4))","v":""},"",null,{"$f":"IF(E75=\"\",\"\",IF(②選手情報入力!M84=\"\",\"\",IF(K75=1,VLOOKUP(②選手情報入力!M84,種目情報!$A$5:$B$167,2,FALSE),VLOOKUP(②選手情報入力!M84,種目情報!$E$5:$F$142,2,FALSE))))","v":""},{"$f":"IF(E75=\"\",\"\",IF(②選手情報入力!N84=\"\",\"\",②選手情報入力!N84))","v":""},null,{"$f":"IF(E75=\"\",\"\",IF(②選手情報入力!M84=\"\",\"\",IF(K75=1,VLOOKUP(②選手情報入力!M84,種目情報!$A$5:$C$135,3,FALSE),VLOOKUP(②選手情報入力!M84,種目情報!$E$5:$G$135,3,FALSE))))","v":""},{"$f":"IF(E75=\"\",\"\",IF(②選手情報入力!P84=\"\",\"\",IF(K75=1,VLOOKUP(②選手情報入力!P84,種目情報!$A$5:$B$151,2,FALSE),VLOOKUP(②選手情報入力!P84,種目情報!$E$5:$F$135,2,FALSE))))","v":""},{"$f":"IF(E75=\"\",\"\",IF(②選手情報入力!Q84=\"\",\"\",②選手情報入力!Q84))","v":""},{"$f":"IF(E75=\"\",\"\",IF(②選手情報入力!O84=\"\",\"\",1))","v":""},{"$f":"IF(E75=\"\",\"\",IF(②選手情報入力!P84=\"\",\"\",IF(K75=1,VLOOKUP(②選手情報入力!P84,種目情報!$A$5:$C$135,3,FALSE),VLOOKUP(②選手情報入力!P84,種目情報!$E$5:$G$135,3,FALSE))))","v":""},{"$f":"IF(E75=\"\",\"\",IF(②選手情報入力!S84=\"\",\"\",IF(K75=1,VLOOKUP(②選手情報入力!S84,種目情報!$A$5:$B$151,2,FALSE),VLOOKUP(②選手情報入力!S84,種目情報!$E$5:$F$135,2,FALSE))))","v":""},{"$f":"IF(E75=\"\",\"\",IF(②選手情報入力!T84=\"\",\"\",②選手情報入力!T84))","v":""},{"$f":"IF(E75=\"\",\"\",IF(②選手情報入力!R84=\"\",\"\",1))","v":""},{"$f":"IF(E75=\"\",\"\",IF(②選手情報入力!S84=\"\",\"\",IF(K75=1,VLOOKUP(②選手情報入力!S84,種目情報!$A$5:$C$135,3,FALSE),VLOOKUP(②選手情報入力!S84,種目情報!$E$5:$G$135,3,FALSE))))","v":""},{"$f":"IF(E75=\"\",\"\",IF(②選手情報入力!U84=\"\",\"\",IF(K75=1,種目情報!$J$4,種目情報!$J$6)))","v":""},{"$f":"IF(E75=\"\",\"\",IF(②選手情報入力!U84=\"\",\"\",IF(K75=1,IF(②選手情報入力!$V$7=\"\",\"\",②選手情報入力!$V$7),IF(②選手情報入力!$V$8=\"\",\"\",②選手情報入力!$V$8))))","v":""},{"$f":"IF(E75=\"\",\"\",IF(②選手情報入力!U84=\"\",\"\",IF(K75=1,IF(②選手情報入力!$U$7=\"\",0,1),IF(②選手情報入力!$U$8=\"\",0,1))))","v":""},{"$f":"IF(E75=\"\",\"\",IF(②選手情報入力!U84=\"\",\"\",2))","v":""},{"$f":"IF(E75=\"\",\"\",IF(②選手情報入力!W84=\"\",\"\",IF(K75=1,種目情報!$J$5,種目情報!$J$7)))","v":""},{"$f":"IF(E75=\"\",\"\",IF(②選手情報入力!W84=\"\",\"\",IF(K75=1,IF(②選手情報入力!$X$7=\"\",\"\",②選手情報入力!$X$7),IF(②選手情報入力!$X$8=\"\",\"\",②選手情報入力!$X$8))))","v":""},{"$f":"IF(E75=\"\",\"\",IF(②選手情報入力!W84=\"\",\"\",IF(K75=1,IF(②選手情報入力!$W$7=\"\",0,1),IF(②選手情報入力!$W$8=\"\",0,1))))","v":""},{"$f":"IF(E75=\"\",\"\",IF(②選手情報入力!W84=\"\",\"\",2))","v":""},null,null,{"$f":"IF(②選手情報入力!G84=\"\",\"\",ASC(②選手情報入力!G84))","v":""},{"$f":"IF(②選手情報入力!G84=\"\",\"\",ASC(②選手情報入力!H84))","v":""}]
["",{"$f":"IF(E76=\"\",\"\",①団体情報入力!$C$5)","v":""},null,{"$f":"IF(E76=\"\",\"\",IF(①団体情報入力!C81=\"\",\"\",①団体情報入力!C81))","v":""},{"$f":"IF(②選手情報入力!D85=\"\",\"\",②選手情報入力!D85)","v":""},{"$f":"IF(E76=\"\",\"\",②選手情報入力!E85)","v":""},{"$f":"IF(E76=\"\",\"\",ASC(②選手情報入力!F85))","v":""},"","",{"$f":"IF(E76=\"\",\"\",IF(②選手情報入力!I85=\"\",\"JPN\",LEFT(②選手情報入力!I85,3)))","v":""},{"$f":"IF(E76=\"\",\"\",IF(②選手情報入力!J85=\"男\",1,2))","v":""},{"$f":"IF(E76=\"\",\"\",IF(②選手情報入力!K85=\"\",\"\",②選手情報入力!K85))","v":""},{"$f":"IF(E76=\"\",\"\",LEFT(②選手情報入力!L85,4))","v":""},{"$f":"IF(E76=\"\",\"\",RIGHT(②選手情報入力!L85,4))","v":""},"",null,{"$f":"IF(E76=\"\",\"\",IF(②選手情報入力!M85=\"\",\"\",IF(K76=1,VLOOKUP(②選手情報入力!M85,種目情報!$A$5:$B$167,2,FALSE),VLOOKUP(②選手情報入力!M85,種目情報!$E$5:$F$142,2,FALSE))))","v":""},{"$f":"IF(E76=\"\",\"\",IF(②選手情報入力!N85=\"\",\"\",②選手情報入力!N85))","v":""},null,{"$f":"IF(E76=\"\",\"\",IF(②選手情報入力!M85=\"\",\"\",IF(K76=1,VLOOKUP(②選手情報入力!M85,種目情報!$A$5:$C$135,3,FALSE),VLOOKUP(②選手情報入力!M85,種目情報!$E$5:$G$135,3,FALSE))))","v":""},{"$f":"IF(E76=\"\",\"\",IF(②選手情報入力!P85=\"\",\"\",IF(K76=1,VLOOKUP(②選手情報入力!P85,種目情報!$A$5:$B$151,2,FALSE),VLOOKUP(②選手情報入力!P85,種目情報!$E$5:$F$135,2,FALSE))))","v":""},{"$f":"IF(E76=\"\",\"\",IF(②選手情報入力!Q85=\"\",\"\",②選手情報入力!Q85))","v":""},{"$f":"IF(E76=\"\",\"\",IF(②選手情報入力!O85=\"\",\"\",1))","v":""},{"$f":"IF(E76=\"\",\"\",IF(②選手情報入力!P85=\"\",\"\",IF(K76=1,VLOOKUP(②選手情報入力!P85,種目情報!$A$5:$C$135,3,FALSE),VLOOKUP(②選手情報入力!P85,種目情報!$E$5:$G$135,3,FALSE))))","v":""},{"$f":"IF(E76=\"\",\"\",IF(②選手情報入力!S85=\"\",\"\",IF(K76=1,VLOOKUP(②選手情報入力!S85,種目情報!$A$5:$B$151,2,FALSE),VLOOKUP(②選手情報入力!S85,種目情報!$E$5:$F$135,2,FALSE))))","v":""},{"$f":"IF(E76=\"\",\"\",IF(②選手情報入力!T85=\"\",\"\",②選手情報入力!T85))","v":""},{"$f":"IF(E76=\"\",\"\",IF(②選手情報入力!R85=\"\",\"\",1))","v":""},{"$f":"IF(E76=\"\",\"\",IF(②選手情報入力!S85=\"\",\"\",IF(K76=1,VLOOKUP(②選手情報入力!S85,種目情報!$A$5:$C$135,3,FALSE),VLOOKUP(②選手情報入力!S85,種目情報!$E$5:$G$135,3,FALSE))))","v":""},{"$f":"IF(E76=\"\",\"\",IF(②選手情報入力!U85=\"\",\"\",IF(K76=1,種目情報!$J$4,種目情報!$J$6)))","v":""},{"$f":"IF(E76=\"\",\"\",IF(②選手情報入力!U85=\"\",\"\",IF(K76=1,IF(②選手情報入力!$V$7=\"\",\"\",②選手情報入力!$V$7),IF(②選手情報入力!$V$8=\"\",\"\",②選手情報入力!$V$8))))","v":""},{"$f":"IF(E76=\"\",\"\",IF(②選手情報入力!U85=\"\",\"\",IF(K76=1,IF(②選手情報入力!$U$7=\"\",0,1),IF(②選手情報入力!$U$8=\"\",0,1))))","v":""},{"$f":"IF(E76=\"\",\"\",IF(②選手情報入力!U85=\"\",\"\",2))","v":""},{"$f":"IF(E76=\"\",\"\",IF(②選手情報入力!W85=\"\",\"\",IF(K76=1,種目情報!$J$5,種目情報!$J$7)))","v":""},{"$f":"IF(E76=\"\",\"\",IF(②選手情報入力!W85=\"\",\"\",IF(K76=1,IF(②選手情報入力!$X$7=\"\",\"\",②選手情報入力!$X$7),IF(②選手情報入力!$X$8=\"\",\"\",②選手情報入力!$X$8))))","v":""},{"$f":"IF(E76=\"\",\"\",IF(②選手情報入力!W85=\"\",\"\",IF(K76=1,IF(②選手情報入力!$W$7=\"\",0,1),IF(②選手情報入力!$W$8=\"\",0,1))))","v":""},{"$f":"IF(E76=\"\",\"\",IF(②選手情報入力!W85=\"\",\"\",2))","v":""},null,null,{"$f":"IF(②選手情報入力!G85=\"\",\"\",ASC(②選手情報入力!G85))","v":""},{"$f":"IF(②選手情報入力!G85=\"\",\"\",ASC(②選手情報入力!H85))","v":""}]
["",{"$f":"IF(E77=\"\",\"\",①団体情報入力!$C$5)","v":""},null,{"$f":"IF(E77=\"\",\"\",IF(①団体情報入力!C82=\"\",\"\",①団体情報入力!C82))","v":""},{"$f":"IF(②選手情報入力!D86=\"\",\"\",②選手情報入力!D86)","v":""},{"$f":"IF(E77=\"\",\"\",②選手情報入力!E86)","v":""},{"$f":"IF(E77=\"\",\"\",ASC(②選手情報入力!F86))","v":""},"","",{"$f":"IF(E77=\"\",\"\",IF(②選手情報入力!I86=\"\",\"JPN\",LEFT(②選手情報入力!I86,3)))","v":""},{"$f":"IF(E77=\"\",\"\",IF(②選手情報入力!J86=\"男\",1,2))","v":""},{"$f":"IF(E77=\"\",\"\",IF(②選手情報入力!K86=\"\",\"\",②選手情報入力!K86))","v":""},{"$f":"IF(E77=\"\",\"\",LEFT(②選手情報入力!L86,4))","v":""},{"$f":"IF(E77=\"\",\"\",RIGHT(②選手情報入力!L86,4))","v":""},"",null,{"$f":"IF(E77=\"\",\"\",IF(②選手情報入力!M86=\"\",\"\",IF(K77=1,VLOOKUP(②選手情報入力!M86,種目情報!$A$5:$B$167,2,FALSE),VLOOKUP(②選手情報入力!M86,種目情報!$E$5:$F$142,2,FALSE))))","v":""},{"$f":"IF(E77=\"\",\"\",IF(②選手情報入力!N86=\"\",\"\",②選手情報入力!N86))","v":""},null,{"$f":"IF(E77=\"\",\"\",IF(②選手情報入力!M86=\"\",\"\",IF(K77=1,VLOOKUP(②選手情報入力!M86,種目情報!$A$5:$C$135,3,FALSE),VLOOKUP(②選手情報入力!M86,種目情報!$E$5:$G$135,3,FALSE))))","v":""},{"$f":"IF(E77=\"\",\"\",IF(②選手情報入力!P86=\"\",\"\",IF(K77=1,VLOOKUP(②選手情報入力!P86,種目情報!$A$5:$B$151,2,FALSE),VLOOKUP(②選手情報入力!P86,種目情報!$E$5:$F$135,2,FALSE))))","v":""},{"$f":"IF(E77=\"\",\"\",IF(②選手情報入力!Q86=\"\",\"\",②選手情報入力!Q86))","v":""},{"$f":"IF(E77=\"\",\"\",IF(②選手情報入力!O86=\"\",\"\",1))","v":""},{"$f":"IF(E77=\"\",\"\",IF(②選手情報入力!P86=\"\",\"\",IF(K77=1,VLOOKUP(②選手情報入力!P86,種目情報!$A$5:$C$135,3,FALSE),VLOOKUP(②選手情報入力!P86,種目情報!$E$5:$G$135,3,FALSE))))","v":""},{"$f":"IF(E77=\"\",\"\",IF(②選手情報入力!S86=\"\",\"\",IF(K77=1,VLOOKUP(②選手情報入力!S86,種目情報!$A$5:$B$151,2,FALSE),VLOOKUP(②選手情報入力!S86,種目情報!$E$5:$F$135,2,FALSE))))","v":""},{"$f":"IF(E77=\"\",\"\",IF(②選手情報入力!T86=\"\",\"\",②選手情報入力!T86))","v":""},{"$f":"IF(E77=\"\",\"\",IF(②選手情報入力!R86=\"\",\"\",1))","v":""},{"$f":"IF(E77=\"\",\"\",IF(②選手情報入力!S86=\"\",\"\",IF(K77=1,VLOOKUP(②選手情報入力!S86,種目情報!$A$5:$C$135,3,FALSE),VLOOKUP(②選手情報入力!S86,種目情報!$E$5:$G$135,3,FALSE))))","v":""},{"$f":"IF(E77=\"\",\"\",IF(②選手情報入力!U86=\"\",\"\",IF(K77=1,種目情報!$J$4,種目情報!$J$6)))","v":""},{"$f":"IF(E77=\"\",\"\",IF(②選手情報入力!U86=\"\",\"\",IF(K77=1,IF(②選手情報入力!$V$7=\"\",\"\",②選手情報入力!$V$7),IF(②選手情報入力!$V$8=\"\",\"\",②選手情報入力!$V$8))))","v":""},{"$f":"IF(E77=\"\",\"\",IF(②選手情報入力!U86=\"\",\"\",IF(K77=1,IF(②選手情報入力!$U$7=\"\",0,1),IF(②選手情報入力!$U$8=\"\",0,1))))","v":""},{"$f":"IF(E77=\"\",\"\",IF(②選手情報入力!U86=\"\",\"\",2))","v":""},{"$f":"IF(E77=\"\",\"\",IF(②選手情報入力!W86=\"\",\"\",IF(K77=1,種目情報!$J$5,種目情報!$J$7)))","v":""},{"$f":"IF(E77=\"\",\"\",IF(②選手情報入力!W86=\"\",\"\",IF(K77=1,IF(②選手情報入力!$X$7=\"\",\"\",②選手情報入力!$X$7),IF(②選手情報入力!$X$8=\"\",\"\",②選手情報入力!$X$8))))","v":""},{"$f":"IF(E77=\"\",\"\",IF(②選手情報入力!W86=\"\",\"\",IF(K77=1,IF(②選手情報入力!$W$7=\"\",0,1),IF(②選手情報入力!$W$8=\"\",0,1))))","v":""},{"$f":"IF(E77=\"\",\"\",IF(②選手情報入力!W86=\"\",\"\",2))","v":""},null,null,{"$f":"IF(②選手情報入力!G86=\"\",\"\",ASC(②選手情報入力!G86))","v":""},{"$f":"IF(②選手情報入力!G86=\"\",\"\",ASC(②選手情報入力!H86))","v":""}]
["",{"$f":"IF(E78=\"\",\"\",①団体情報入力!$C$5)","v":""},null,{"$f":"IF(E78=\"\",\"\",IF(①団体情報入力!C83=\"\",\"\",①団体情報入力!C83))","v":""},{"$f":"IF(②選手情報入力!D87=\"\",\"\",②選手情報入力!D87)","v":""},{"$f":"IF(E78=\"\",\"\",②選手情報入力!E87)","v":""},{"$f":"IF(E78=\"\",\"\",ASC(②選手情報入力!F87))","v":""},"","",{"$f":"IF(E78=\"\",\"\",IF(②選手情報入力!I87=\"\",\"JPN\",LEFT(②選手情報入力!I87,3)))","v":""},{"$f":"IF(E78=\"\",\"\",IF(②選手情報入力!J87=\"男\",1,2))","v":""},{"$f":"IF(E78=\"\",\"\",IF(②選手情報入力!K87=\"\",\"\",②選手情報入力!K87))","v":""},{"$f":"IF(E78=\"\",\"\",LEFT(②選手情報入力!L87,4))","v":""},{"$f":"IF(E78=\"\",\"\",RIGHT(②選手情報入力!L87,4))","v":""},"",null,{"$f":"IF(E78=\"\",\"\",IF(②選手情報入力!M87=\"\",\"\",IF(K78=1,VLOOKUP(②選手情報入力!M87,種目情報!$A$5:$B$167,2,FALSE),VLOOKUP(②選手情報入力!M87,種目情報!$E$5:$F$142,2,FALSE))))","v":""},{"$f":"IF(E78=\"\",\"\",IF(②選手情報入力!N87=\"\",\"\",②選手情報入力!N87))","v":""},null,{"$f":"IF(E78=\"\",\"\",IF(②選手情報入力!M87=\"\",\"\",IF(K78=1,VLOOKUP(②選手情報入力!M87,種目情報!$A$5:$C$135,3,FALSE),VLOOKUP(②選手情報入力!M87,種目情報!$E$5:$G$135,3,FALSE))))","v":""},{"$f":"IF(E78=\"\",\"\",IF(②選手情報入力!P87=\"\",\"\",IF(K78=1,VLOOKUP(②選手情報入力!P87,種目情報!$A$5:$B$151,2,FALSE),VLOOKUP(②選手情報入力!P87,種目情報!$E$5:$F$135,2,FALSE))))","v":""},{"$f":"IF(E78=\"\",\"\",IF(②選手情報入力!Q87=\"\",\"\",②選手情報入力!Q87))","v":""},{"$f":"IF(E78=\"\",\"\",IF(②選手情報入力!O87=\"\",\"\",1))","v":""},{"$f":"IF(E78=\"\",\"\",IF(②選手情報入力!P87=\"\",\"\",IF(K78=1,VLOOKUP(②選手情報入力!P87,種目情報!$A$5:$C$135,3,FALSE),VLOOKUP(②選手情報入力!P87,種目情報!$E$5:$G$135,3,FALSE))))","v":""},{"$f":"IF(E78=\"\",\"\",IF(②選手情報入力!S87=\"\",\"\",IF(K78=1,VLOOKUP(②選手情報入力!S87,種目情報!$A$5:$B$151,2,FALSE),VLOOKUP(②選手情報入力!S87,種目情報!$E$5:$F$135,2,FALSE))))","v":""},{"$f":"IF(E78=\"\",\"\",IF(②選手情報入力!T87=\"\",\"\",②選手情報入力!T87))","v":""},{"$f":"IF(E78=\"\",\"\",IF(②選手情報入力!R87=\"\",\"\",1))","v":""},{"$f":"IF(E78=\"\",\"\",IF(②選手情報入力!S87=\"\",\"\",IF(K78=1,VLOOKUP(②選手情報入力!S87,種目情報!$A$5:$C$135,3,FALSE),VLOOKUP(②選手情報入力!S87,種目情報!$E$5:$G$135,3,FALSE))))","v":""},{"$f":"IF(E78=\"\",\"\",IF(②選手情報入力!U87=\"\",\"\",IF(K78=1,種目情報!$J$4,種目情報!$J$6)))","v":""},{"$f":"IF(E78=\"\",\"\",IF(②選手情報入力!U87=\"\",\"\",IF(K78=1,IF(②選手情報入力!$V$7=\"\",\"\",②選手情報入力!$V$7),IF(②選手情報入力!$V$8=\"\",\"\",②選手情報入力!$V$8))))","v":""},{"$f":"IF(E78=\"\",\"\",IF(②選手情報入力!U87=\"\",\"\",IF(K78=1,IF(②選手情報入力!$U$7=\"\",0,1),IF(②選手情報入力!$U$8=\"\",0,1))))","v":""},{"$f":"IF(E78=\"\",\"\",IF(②選手情報入力!U87=\"\",\"\",2))","v":""},{"$f":"IF(E78=\"\",\"\",IF(②選手情報入力!W87=\"\",\"\",IF(K78=1,種目情報!$J$5,種目情報!$J$7)))","v":""},{"$f":"IF(E78=\"\",\"\",IF(②選手情報入力!W87=\"\",\"\",IF(K78=1,IF(②選手情報入力!$X$7=\"\",\"\",②選手情報入力!$X$7),IF(②選手情報入力!$X$8=\"\",\"\",②選手情報入力!$X$8))))","v":""},{"$f":"IF(E78=\"\",\"\",IF(②選手情報入力!W87=\"\",\"\",IF(K78=1,IF(②選手情報入力!$W$7=\"\",0,1),IF(②選手情報入力!$W$8=\"\",0,1))))","v":""},{"$f":"IF(E78=\"\",\"\",IF(②選手情報入力!W87=\"\",\"\",2))","v":""},null,null,{"$f":"IF(②選手情報入力!G87=\"\",\"\",ASC(②選手情報入力!G87))","v":""},{"$f":"IF(②選手情報入力!G87=\"\",\"\",ASC(②選手情報入力!H87))","v":""}]
["",{"$f":"IF(E79=\"\",\"\",①団体情報入力!$C$5)","v":""},null,{"$f":"IF(E79=\"\",\"\",IF(①団体情報入力!C84=\"\",\"\",①団体情報入力!C84))","v":""},{"$f":"IF(②選手情報入力!D88=\"\",\"\",②選手情報入力!D88)","v":""},{"$f":"IF(E79=\"\",\"\",②選手情報入力!E88)","v":""},{"$f":"IF(E79=\"\",\"\",ASC(②選手情報入力!F88))","v":""},"","",{"$f":"IF(E79=\"\",\"\",IF(②選手情報入力!I88=\"\",\"JPN\",LEFT(②選手情報入力!I88,3)))","v":""},{"$f":"IF(E79=\"\",\"\",IF(②選手情報入力!J88=\"男\",1,2))","v":""},{"$f":"IF(E79=\"\",\"\",IF(②選手情報入力!K88=\"\",\"\",②選手情報入力!K88))","v":""},{"$f":"IF(E79=\"\",\"\",LEFT(②選手情報入力!L88,4))","v":""},{"$f":"IF(E79=\"\",\"\",RIGHT(②選手情報入力!L88,4))","v":""},"",null,{"$f":"IF(E79=\"\",\"\",IF(②選手情報入力!M88=\"\",\"\",IF(K79=1,VLOOKUP(②選手情報入力!M88,種目情報!$A$5:$B$167,2,FALSE),VLOOKUP(②選手情報入力!M88,種目情報!$E$5:$F$142,2,FALSE))))","v":""},{"$f":"IF(E79=\"\",\"\",IF(②選手情報入力!N88=\"\",\"\",②選手情報入力!N88))","v":""},null,{"$f":"IF(E79=\"\",\"\",IF(②選手情報入力!M88=\"\",\"\",IF(K79=1,VLOOKUP(②選手情報入力!M88,種目情報!$A$5:$C$135,3,FALSE),VLOOKUP(②選手情報入力!M88,種目情報!$E$5:$G$135,3,FALSE))))","v":""},{"$f":"IF(E79=\"\",\"\",IF(②選手情報入力!P88=\"\",\"\",IF(K79=1,VLOOKUP(②選手情報入力!P88,種目情報!$A$5:$B$151,2,FALSE),VLOOKUP(②選手情報入力!P88,種目情報!$E$5:$F$135,2,FALSE))))","v":""},{"$f":"IF(E79=\"\",\"\",IF(②選手情報入力!Q88=\"\",\"\",②選手情報入力!Q88))","v":""},{"$f":"IF(E79=\"\",\"\",IF(②選手情報入力!O88=\"\",\"\",1))","v":""},{"$f":"IF(E79=\"\",\"\",IF(②選手情報入力!P88=\"\",\"\",IF(K79=1,VLOOKUP(②選手情報入力!P88,種目情報!$A$5:$C$135,3,FALSE),VLOOKUP(②選手情報入力!P88,種目情報!$E$5:$G$135,3,FALSE))))","v":""},{"$f":"IF(E79=\"\",\"\",IF(②選手情報入力!S88=\"\",\"\",IF(K79=1,VLOOKUP(②選手情報入力!S88,種目情報!$A$5:$B$151,2,FALSE),VLOOKUP(②選手情報入力!S88,種目情報!$E$5:$F$135,2,FALSE))))","v":""},{"$f":"IF(E79=\"\",\"\",IF(②選手情報入力!T88=\"\",\"\",②選手情報入力!T88))","v":""},{"$f":"IF(E79=\"\",\"\",IF(②選手情報入力!R88=\"\",\"\",1))","v":""},{"$f":"IF(E79=\"\",\"\",IF(②選手情報入力!S88=\"\",\"\",IF(K79=1,VLOOKUP(②選手情報入力!S88,種目情報!$A$5:$C$135,3,FALSE),VLOOKUP(②選手情報入力!S88,種目情報!$E$5:$G$135,3,FALSE))))","v":""},{"$f":"IF(E79=\"\",\"\",IF(②選手情報入力!U88=\"\",\"\",IF(K79=1,種目情報!$J$4,種目情報!$J$6)))","v":""},{"$f":"IF(E79=\"\",\"\",IF(②選手情報入力!U88=\"\",\"\",IF(K79=1,IF(②選手情報入力!$V$7=\"\",\"\",②選手情報入力!$V$7),IF(②選手情報入力!$V$8=\"\",\"\",②選手情報入力!$V$8))))","v":""},{"$f":"IF(E79=\"\",\"\",IF(②選手情報入力!U88=\"\",\"\",IF(K79=1,IF(②選手情報入力!$U$7=\"\",0,1),IF(②選手情報入力!$U$8=\"\",0,1))))","v":""},{"$f":"IF(E79=\"\",\"\",IF(②選手情報入力!U88=\"\",\"\",2))","v":""},{"$f":"IF(E79=\"\",\"\",IF(②選手情報入力!W88=\"\",\"\",IF(K79=1,種目情報!$J$5,種目情報!$J$7)))","v":""},{"$f":"IF(E79=\"\",\"\",IF(②選手情報入力!W88=\"\",\"\",IF(K79=1,IF(②選手情報入力!$X$7=\"\",\"\",②選手情報入力!$X$7),IF(②選手情報入力!$X$8=\"\",\"\",②選手情報入力!$X$8))))","v":""},{"$f":"IF(E79=\"\",\"\",IF(②選手情報入力!W88=\"\",\"\",IF(K79=1,IF(②選手情報入力!$W$7=\"\",0,1),IF(②選手情報入力!$W$8=\"\",0,1))))","v":""},{"$f":"IF(E79=\"\",\"\",IF(②選手情報入力!W88=\"\",\"\",2))","v":""},null,null,{"$f":"IF(②選手情報入力!G88=\"\",\"\",ASC(②選手情報入力!G88))","v":""},{"$f":"IF(②選手情報入力!G88=\"\",\"\",ASC(②選手情報入力!H88))","v":""}]
["",{"$f":"IF(E80=\"\",\"\",①団体情報入力!$C$5)","v":""},null,{"$f":"IF(E80=\"\",\"\",IF(①団体情報入力!C85=\"\",\"\",①団体情報入力!C85))","v":""},{"$f":"IF(②選手情報入力!D89=\"\",\"\",②選手情報入力!D89)","v":""},{"$f":"IF(E80=\"\",\"\",②選手情報入力!E89)","v":""},{"$f":"IF(E80=\"\",\"\",ASC(②選手情報入力!F89))","v":""},"","",{"$f":"IF(E80=\"\",\"\",IF(②選手情報入力!I89=\"\",\"JPN\",LEFT(②選手情報入力!I89,3)))","v":""},{"$f":"IF(E80=\"\",\"\",IF(②選手情報入力!J89=\"男\",1,2))","v":""},{"$f":"IF(E80=\"\",\"\",IF(②選手情報入力!K89=\"\",\"\",②選手情報入力!K89))","v":""},{"$f":"IF(E80=\"\",\"\",LEFT(②選手情報入力!L89,4))","v":""},{"$f":"IF(E80=\"\",\"\",RIGHT(②選手情報入力!L89,4))","v":""},"",null,{"$f":"IF(E80=\"\",\"\",IF(②選手情報入力!M89=\"\",\"\",IF(K80=1,VLOOKUP(②選手情報入力!M89,種目情報!$A$5:$B$167,2,FALSE),VLOOKUP(②選手情報入力!M89,種目情報!$E$5:$F$142,2,FALSE))))","v":""},{"$f":"IF(E80=\"\",\"\",IF(②選手情報入力!N89=\"\",\"\",②選手情報入力!N89))","v":""},null,{"$f":"IF(E80=\"\",\"\",IF(②選手情報入力!M89=\"\",\"\",IF(K80=1,VLOOKUP(②選手情報入力!M89,種目情報!$A$5:$C$135,3,FALSE),VLOOKUP(②選手情報入力!M89,種目情報!$E$5:$G$135,3,FALSE))))","v":""},{"$f":"IF(E80=\"\",\"\",IF(②選手情報入力!P89=\"\",\"\",IF(K80=1,VLOOKUP(②選手情報入力!P89,種目情報!$A$5:$B$151,2,FALSE),VLOOKUP(②選手情報入力!P89,種目情報!$E$5:$F$135,2,FALSE))))","v":""},{"$f":"IF(E80=\"\",\"\",IF(②選手情報入力!Q89=\"\",\"\",②選手情報入力!Q89))","v":""},{"$f":"IF(E80=\"\",\"\",IF(②選手情報入力!O89=\"\",\"\",1))","v":""},{"$f":"IF(E80=\"\",\"\",IF(②選手情報入力!P89=\"\",\"\",IF(K80=1,VLOOKUP(②選手情報入力!P89,種目情報!$A$5:$C$135,3,FALSE),VLOOKUP(②選手情報入力!P89,種目情報!$E$5:$G$135,3,FALSE))))","v":""},{"$f":"IF(E80=\"\",\"\",IF(②選手情報入力!S89=\"\",\"\",IF(K80=1,VLOOKUP(②選手情報入力!S89,種目情報!$A$5:$B$151,2,FALSE),VLOOKUP(②選手情報入力!S89,種目情報!$E$5:$F$135,2,FALSE))))","v":""},{"$f":"IF(E80=\"\",\"\",IF(②選手情報入力!T89=\"\",\"\",②選手情報入力!T89))","v":""},{"$f":"IF(E80=\"\",\"\",IF(②選手情報入力!R89=\"\",\"\",1))","v":""},{"$f":"IF(E80=\"\",\"\",IF(②選手情報入力!S89=\"\",\"\",IF(K80=1,VLOOKUP(②選手情報入力!S89,種目情報!$A$5:$C$135,3,FALSE),VLOOKUP(②選手情報入力!S89,種目情報!$E$5:$G$135,3,FALSE))))","v":""},{"$f":"IF(E80=\"\",\"\",IF(②選手情報入力!U89=\"\",\"\",IF(K80=1,種目情報!$J$4,種目情報!$J$6)))","v":""},{"$f":"IF(E80=\"\",\"\",IF(②選手情報入力!U89=\"\",\"\",IF(K80=1,IF(②選手情報入力!$V$7=\"\",\"\",②選手情報入力!$V$7),IF(②選手情報入力!$V$8=\"\",\"\",②選手情報入力!$V$8))))","v":""},{"$f":"IF(E80=\"\",\"\",IF(②選手情報入力!U89=\"\",\"\",IF(K80=1,IF(②選手情報入力!$U$7=\"\",0,1),IF(②選手情報入力!$U$8=\"\",0,1))))","v":""},{"$f":"IF(E80=\"\",\"\",IF(②選手情報入力!U89=\"\",\"\",2))","v":""},{"$f":"IF(E80=\"\",\"\",IF(②選手情報入力!W89=\"\",\"\",IF(K80=1,種目情報!$J$5,種目情報!$J$7)))","v":""},{"$f":"IF(E80=\"\",\"\",IF(②選手情報入力!W89=\"\",\"\",IF(K80=1,IF(②選手情報入力!$X$7=\"\",\"\",②選手情報入力!$X$7),IF(②選手情報入力!$X$8=\"\",\"\",②選手情報入力!$X$8))))","v":""},{"$f":"IF(E80=\"\",\"\",IF(②選手情報入力!W89=\"\",\"\",IF(K80=1,IF(②選手情報入力!$W$7=\"\",0,1),IF(②選手情報入力!$W$8=\"\",0,1))))","v":""},{"$f":"IF(E80=\"\",\"\",IF(②選手情報入力!W89=\"\",\"\",2))","v":""},null,null,{"$f":"IF(②選手情報入力!G89=\"\",\"\",ASC(②選手情報入力!G89))","v":""},{"$f":"IF(②選手情報入力!G89=\"\",\"\",ASC(②選手情報入力!H89))","v":""}]
["",{"$f":"IF(E81=\"\",\"\",①団体情報入力!$C$5)","v":""},null,{"$f":"IF(E81=\"\",\"\",IF(①団体情報入力!C86=\"\",\"\",①団体情報入力!C86))","v":""},{"$f":"IF(②選手情報入力!D90=\"\",\"\",②選手情報入力!D90)","v":""},{"$f":"IF(E81=\"\",\"\",②選手情報入力!E90)","v":""},{"$f":"IF(E81=\"\",\"\",ASC(②選手情報入力!F90))","v":""},"","",{"$f":"IF(E81=\"\",\"\",IF(②選手情報入力!I90=\"\",\"JPN\",LEFT(②選手情報入力!I90,3)))","v":""},{"$f":"IF(E81=\"\",\"\",IF(②選手情報入力!J90=\"男\",1,2))","v":""},{"$f":"IF(E81=\"\",\"\",IF(②選手情報入力!K90=\"\",\"\",②選手情報入力!K90))","v":""},{"$f":"IF(E81=\"\",\"\",LEFT(②選手情報入力!L90,4))","v":""},{"$f":"IF(E81=\"\",\"\",RIGHT(②選手情報入力!L90,4))","v":""},"",null,{"$f":"IF(E81=\"\",\"\",IF(②選手情報入力!M90=\"\",\"\",IF(K81=1,VLOOKUP(②選手情報入力!M90,種目情報!$A$5:$B$167,2,FALSE),VLOOKUP(②選手情報入力!M90,種目情報!$E$5:$F$142,2,FALSE))))","v":""},{"$f":"IF(E81=\"\",\"\",IF(②選手情報入力!N90=\"\",\"\",②選手情報入力!N90))","v":""},null,{"$f":"IF(E81=\"\",\"\",IF(②選手情報入力!M90=\"\",\"\",IF(K81=1,VLOOKUP(②選手情報入力!M90,種目情報!$A$5:$C$135,3,FALSE),VLOOKUP(②選手情報入力!M90,種目情報!$E$5:$G$135,3,FALSE))))","v":""},{"$f":"IF(E81=\"\",\"\",IF(②選手情報入力!P90=\"\",\"\",IF(K81=1,VLOOKUP(②選手情報入力!P90,種目情報!$A$5:$B$151,2,FALSE),VLOOKUP(②選手情報入力!P90,種目情報!$E$5:$F$135,2,FALSE))))","v":""},{"$f":"IF(E81=\"\",\"\",IF(②選手情報入力!Q90=\"\",\"\",②選手情報入力!Q90))","v":""},{"$f":"IF(E81=\"\",\"\",IF(②選手情報入力!O90=\"\",\"\",1))","v":""},{"$f":"IF(E81=\"\",\"\",IF(②選手情報入力!P90=\"\",\"\",IF(K81=1,VLOOKUP(②選手情報入力!P90,種目情報!$A$5:$C$135,3,FALSE),VLOOKUP(②選手情報入力!P90,種目情報!$E$5:$G$135,3,FALSE))))","v":""},{"$f":"IF(E81=\"\",\"\",IF(②選手情報入力!S90=\"\",\"\",IF(K81=1,VLOOKUP(②選手情報入力!S90,種目情報!$A$5:$B$151,2,FALSE),VLOOKUP(②選手情報入力!S90,種目情報!$E$5:$F$135,2,FALSE))))","v":""},{"$f":"IF(E81=\"\",\"\",IF(②選手情報入力!T90=\"\",\"\",②選手情報入力!T90))","v":""},{"$f":"IF(E81=\"\",\"\",IF(②選手情報入力!R90=\"\",\"\",1))","v":""},{"$f":"IF(E81=\"\",\"\",IF(②選手情報入力!S90=\"\",\"\",IF(K81=1,VLOOKUP(②選手情報入力!S90,種目情報!$A$5:$C$135,3,FALSE),VLOOKUP(②選手情報入力!S90,種目情報!$E$5:$G$135,3,FALSE))))","v":""},{"$f":"IF(E81=\"\",\"\",IF(②選手情報入力!U90=\"\",\"\",IF(K81=1,種目情報!$J$4,種目情報!$J$6)))","v":""},{"$f":"IF(E81=\"\",\"\",IF(②選手情報入力!U90=\"\",\"\",IF(K81=1,IF(②選手情報入力!$V$7=\"\",\"\",②選手情報入力!$V$7),IF(②選手情報入力!$V$8=\"\",\"\",②選手情報入力!$V$8))))","v":""},{"$f":"IF(E81=\"\",\"\",IF(②選手情報入力!U90=\"\",\"\",IF(K81=1,IF(②選手情報入力!$U$7=\"\",0,1),IF(②選手情報入力!$U$8=\"\",0,1))))","v":""},{"$f":"IF(E81=\"\",\"\",IF(②選手情報入力!U90=\"\",\"\",2))","v":""},{"$f":"IF(E81=\"\",\"\",IF(②選手情報入力!W90=\"\",\"\",IF(K81=1,種目情報!$J$5,種目情報!$J$7)))","v":""},{"$f":"IF(E81=\"\",\"\",IF(②選手情報入力!W90=\"\",\"\",IF(K81=1,IF(②選手情報入力!$X$7=\"\",\"\",②選手情報入力!$X$7),IF(②選手情報入力!$X$8=\"\",\"\",②選手情報入力!$X$8))))","v":""},{"$f":"IF(E81=\"\",\"\",IF(②選手情報入力!W90=\"\",\"\",IF(K81=1,IF(②選手情報入力!$W$7=\"\",0,1),IF(②選手情報入力!$W$8=\"\",0,1))))","v":""},{"$f":"IF(E81=\"\",\"\",IF(②選手情報入力!W90=\"\",\"\",2))","v":""},null,null,{"$f":"IF(②選手情報入力!G90=\"\",\"\",ASC(②選手情報入力!G90))","v":""},{"$f":"IF(②選手情報入力!G90=\"\",\"\",ASC(②選手情報入力!H90))","v":""}]
["",{"$f":"IF(E82=\"\",\"\",①団体情報入力!$C$5)","v":""},null,{"$f":"IF(E82=\"\",\"\",IF(①団体情報入力!C87=\"\",\"\",①団体情報入力!C87))","v":""},{"$f":"IF(②選手情報入力!D91=\"\",\"\",②選手情報入力!D91)","v":""},{"$f":"IF(E82=\"\",\"\",②選手情報入力!E91)","v":""},{"$f":"IF(E82=\"\",\"\",ASC(②選手情報入力!F91))","v":""},"","",{"$f":"IF(E82=\"\",\"\",IF(②選手情報入力!I91=\"\",\"JPN\",LEFT(②選手情報入力!I91,3)))","v":""},{"$f":"IF(E82=\"\",\"\",IF(②選手情報入力!J91=\"男\",1,2))","v":""},{"$f":"IF(E82=\"\",\"\",IF(②選手情報入力!K91=\"\",\"\",②選手情報入力!K91))","v":""},{"$f":"IF(E82=\"\",\"\",LEFT(②選手情報入力!L91,4))","v":""},{"$f":"IF(E82=\"\",\"\",RIGHT(②選手情報入力!L91,4))","v":""},"",null,{"$f":"IF(E82=\"\",\"\",IF(②選手情報入力!M91=\"\",\"\",IF(K82=1,VLOOKUP(②選手情報入力!M91,種目情報!$A$5:$B$167,2,FALSE),VLOOKUP(②選手情報入力!M91,種目情報!$E$5:$F$142,2,FALSE))))","v":""},{"$f":"IF(E82=\"\",\"\",IF(②選手情報入力!N91=\"\",\"\",②選手情報入力!N91))","v":""},null,{"$f":"IF(E82=\"\",\"\",IF(②選手情報入力!M91=\"\",\"\",IF(K82=1,VLOOKUP(②選手情報入力!M91,種目情報!$A$5:$C$135,3,FALSE),VLOOKUP(②選手情報入力!M91,種目情報!$E$5:$G$135,3,FALSE))))","v":""},{"$f":"IF(E82=\"\",\"\",IF(②選手情報入力!P91=\"\",\"\",IF(K82=1,VLOOKUP(②選手情報入力!P91,種目情報!$A$5:$B$151,2,FALSE),VLOOKUP(②選手情報入力!P91,種目情報!$E$5:$F$135,2,FALSE))))","v":""},{"$f":"IF(E82=\"\",\"\",IF(②選手情報入力!Q91=\"\",\"\",②選手情報入力!Q91))","v":""},{"$f":"IF(E82=\"\",\"\",IF(②選手情報入力!O91=\"\",\"\",1))","v":""},{"$f":"IF(E82=\"\",\"\",IF(②選手情報入力!P91=\"\",\"\",IF(K82=1,VLOOKUP(②選手情報入力!P91,種目情報!$A$5:$C$135,3,FALSE),VLOOKUP(②選手情報入力!P91,種目情報!$E$5:$G$135,3,FALSE))))","v":""},{"$f":"IF(E82=\"\",\"\",IF(②選手情報入力!S91=\"\",\"\",IF(K82=1,VLOOKUP(②選手情報入力!S91,種目情報!$A$5:$B$151,2,FALSE),VLOOKUP(②選手情報入力!S91,種目情報!$E$5:$F$135,2,FALSE))))","v":""},{"$f":"IF(E82=\"\",\"\",IF(②選手情報入力!T91=\"\",\"\",②選手情報入力!T91))","v":""},{"$f":"IF(E82=\"\",\"\",IF(②選手情報入力!R91=\"\",\"\",1))","v":""},{"$f":"IF(E82=\"\",\"\",IF(②選手情報入力!S91=\"\",\"\",IF(K82=1,VLOOKUP(②選手情報入力!S91,種目情報!$A$5:$C$135,3,FALSE),VLOOKUP(②選手情報入力!S91,種目情報!$E$5:$G$135,3,FALSE))))","v":""},{"$f":"IF(E82=\"\",\"\",IF(②選手情報入力!U91=\"\",\"\",IF(K82=1,種目情報!$J$4,種目情報!$J$6)))","v":""},{"$f":"IF(E82=\"\",\"\",IF(②選手情報入力!U91=\"\",\"\",IF(K82=1,IF(②選手情報入力!$V$7=\"\",\"\",②選手情報入力!$V$7),IF(②選手情報入力!$V$8=\"\",\"\",②選手情報入力!$V$8))))","v":""},{"$f":"IF(E82=\"\",\"\",IF(②選手情報入力!U91=\"\",\"\",IF(K82=1,IF(②選手情報入力!$U$7=\"\",0,1),IF(②選手情報入力!$U$8=\"\",0,1))))","v":""},{"$f":"IF(E82=\"\",\"\",IF(②選手情報入力!U91=\"\",\"\",2))","v":""},{"$f":"IF(E82=\"\",\"\",IF(②選手情報入力!W91=\"\",\"\",IF(K82=1,種目情報!$J$5,種目情報!$J$7)))","v":""},{"$f":"IF(E82=\"\",\"\",IF(②選手情報入力!W91=\"\",\"\",IF(K82=1,IF(②選手情報入力!$X$7=\"\",\"\",②選手情報入力!$X$7),IF(②選手情報入力!$X$8=\"\",\"\",②選手情報入力!$X$8))))","v":""},{"$f":"IF(E82=\"\",\"\",IF(②選手情報入力!W91=\"\",\"\",IF(K82=1,IF(②選手情報入力!$W$7=\"\",0,1),IF(②選手情報入力!$W$8=\"\",0,1))))","v":""},{"$f":"IF(E82=\"\",\"\",IF(②選手情報入力!W91=\"\",\"\",2))","v":""},null,null,{"$f":"IF(②選手情報入力!G91=\"\",\"\",ASC(②選手情報入力!G91))","v":""},{"$f":"IF(②選手情報入力!G91=\"\",\"\",ASC(②選手情報入力!H91))","v":""}]
["",{"$f":"IF(E83=\"\",\"\",①団体情報入力!$C$5)","v":""},null,{"$f":"IF(E83=\"\",\"\",IF(①団体情報入力!C88=\"\",\"\",①団体情報入力!C88))","v":""},{"$f":"IF(②選手情報入力!D92=\"\",\"\",②選手情報入力!D92)","v":""},{"$f":"IF(E83=\"\",\"\",②選手情報入力!E92)","v":""},{"$f":"IF(E83=\"\",\"\",ASC(②選手情報入力!F92))","v":""},"","",{"$f":"IF(E83=\"\",\"\",IF(②選手情報入力!I92=\"\",\"JPN\",LEFT(②選手情報入力!I92,3)))","v":""},{"$f":"IF(E83=\"\",\"\",IF(②選手情報入力!J92=\"男\",1,2))","v":""},{"$f":"IF(E83=\"\",\"\",IF(②選手情報入力!K92=\"\",\"\",②選手情報入力!K92))","v":""},{"$f":"IF(E83=\"\",\"\",LEFT(②選手情報入力!L92,4))","v":""},{"$f":"IF(E83=\"\",\"\",RIGHT(②選手情報入力!L92,4))","v":""},"",null,{"$f":"IF(E83=\"\",\"\",IF(②選手情報入力!M92=\"\",\"\",IF(K83=1,VLOOKUP(②選手情報入力!M92,種目情報!$A$5:$B$167,2,FALSE),VLOOKUP(②選手情報入力!M92,種目情報!$E$5:$F$142,2,FALSE))))","v":""},{"$f":"IF(E83=\"\",\"\",IF(②選手情報入力!N92=\"\",\"\",②選手情報入力!N92))","v":""},null,{"$f":"IF(E83=\"\",\"\",IF(②選手情報入力!M92=\"\",\"\",IF(K83=1,VLOOKUP(②選手情報入力!M92,種目情報!$A$5:$C$135,3,FALSE),VLOOKUP(②選手情報入力!M92,種目情報!$E$5:$G$135,3,FALSE))))","v":""},{"$f":"IF(E83=\"\",\"\",IF(②選手情報入力!P92=\"\",\"\",IF(K83=1,VLOOKUP(②選手情報入力!P92,種目情報!$A$5:$B$151,2,FALSE),VLOOKUP(②選手情報入力!P92,種目情報!$E$5:$F$135,2,FALSE))))","v":""},{"$f":"IF(E83=\"\",\"\",IF(②選手情報入力!Q92=\"\",\"\",②選手情報入力!Q92))","v":""},{"$f":"IF(E83=\"\",\"\",IF(②選手情報入力!O92=\"\",\"\",1))","v":""},{"$f":"IF(E83=\"\",\"\",IF(②選手情報入力!P92=\"\",\"\",IF(K83=1,VLOOKUP(②選手情報入力!P92,種目情報!$A$5:$C$135,3,FALSE),VLOOKUP(②選手情報入力!P92,種目情報!$E$5:$G$135,3,FALSE))))","v":""},{"$f":"IF(E83=\"\",\"\",IF(②選手情報入力!S92=\"\",\"\",IF(K83=1,VLOOKUP(②選手情報入力!S92,種目情報!$A$5:$B$151,2,FALSE),VLOOKUP(②選手情報入力!S92,種目情報!$E$5:$F$135,2,FALSE))))","v":""},{"$f":"IF(E83=\"\",\"\",IF(②選手情報入力!T92=\"\",\"\",②選手情報入力!T92))","v":""},{"$f":"IF(E83=\"\",\"\",IF(②選手情報入力!R92=\"\",\"\",1))","v":""},{"$f":"IF(E83=\"\",\"\",IF(②選手情報入力!S92=\"\",\"\",IF(K83=1,VLOOKUP(②選手情報入力!S92,種目情報!$A$5:$C$135,3,FALSE),VLOOKUP(②選手情報入力!S92,種目情報!$E$5:$G$135,3,FALSE))))","v":""},{"$f":"IF(E83=\"\",\"\",IF(②選手情報入力!U92=\"\",\"\",IF(K83=1,種目情報!$J$4,種目情報!$J$6)))","v":""},{"$f":"IF(E83=\"\",\"\",IF(②選手情報入力!U92=\"\",\"\",IF(K83=1,IF(②選手情報入力!$V$7=\"\",\"\",②選手情報入力!$V$7),IF(②選手情報入力!$V$8=\"\",\"\",②選手情報入力!$V$8))))","v":""},{"$f":"IF(E83=\"\",\"\",IF(②選手情報入力!U92=\"\",\"\",IF(K83=1,IF(②選手情報入力!$U$7=\"\",0,1),IF(②選手情報入力!$U$8=\"\",0,1))))","v":""},{"$f":"IF(E83=\"\",\"\",IF(②選手情報入力!U92=\"\",\"\",2))","v":""},{"$f":"IF(E83=\"\",\"\",IF(②選手情報入力!W92=\"\",\"\",IF(K83=1,種目情報!$J$5,種目情報!$J$7)))","v":""},{"$f":"IF(E83=\"\",\"\",IF(②選手情報入力!W92=\"\",\"\",IF(K83=1,IF(②選手情報入力!$X$7=\"\",\"\",②選手情報入力!$X$7),IF(②選手情報入力!$X$8=\"\",\"\",②選手情報入力!$X$8))))","v":""},{"$f":"IF(E83=\"\",\"\",IF(②選手情報入力!W92=\"\",\"\",IF(K83=1,IF(②選手情報入力!$W$7=\"\",0,1),IF(②選手情報入力!$W$8=\"\",0,1))))","v":""},{"$f":"IF(E83=\"\",\"\",IF(②選手情報入力!W92=\"\",\"\",2))","v":""},null,null,{"$f":"IF(②選手情報入力!G92=\"\",\"\",ASC(②選手情報入力!G92))","v":""},{"$f":"IF(②選手情報入力!G92=\"\",\"\",ASC(②選手情報入力!H92))","v":""}]
["",{"$f":"IF(E84=\"\",\"\",①団体情報入力!$C$5)","v":""},null,{"$f":"IF(E84=\"\",\"\",IF(①団体情報入力!C89=\"\",\"\",①団体情報入力!C89))","v":""},{"$f":"IF(②選手情報入力!D93=\"\",\"\",②選手情報入力!D93)","v":""},{"$f":"IF(E84=\"\",\"\",②選手情報入力!E93)","v":""},{"$f":"IF(E84=\"\",\"\",ASC(②選手情報入力!F93))","v":""},"","",{"$f":"IF(E84=\"\",\"\",IF(②選手情報入力!I93=\"\",\"JPN\",LEFT(②選手情報入力!I93,3)))","v":""},{"$f":"IF(E84=\"\",\"\",IF(②選手情報入力!J93=\"男\",1,2))","v":""},{"$f":"IF(E84=\"\",\"\",IF(②選手情報入力!K93=\"\",\"\",②選手情報入力!K93))","v":""},{"$f":"IF(E84=\"\",\"\",LEFT(②選手情報入力!L93,4))","v":""},{"$f":"IF(E84=\"\",\"\",RIGHT(②選手情報入力!L93,4))","v":""},"",null,{"$f":"IF(E84=\"\",\"\",IF(②選手情報入力!M93=\"\",\"\",IF(K84=1,VLOOKUP(②選手情報入力!M93,種目情報!$A$5:$B$167,2,FALSE),VLOOKUP(②選手情報入力!M93,種目情報!$E$5:$F$142,2,FALSE))))","v":""},{"$f":"IF(E84=\"\",\"\",IF(②選手情報入力!N93=\"\",\"\",②選手情報入力!N93))","v":""},null,{"$f":"IF(E84=\"\",\"\",IF(②選手情報入力!M93=\"\",\"\",IF(K84=1,VLOOKUP(②選手情報入力!M93,種目情報!$A$5:$C$135,3,FALSE),VLOOKUP(②選手情報入力!M93,種目情報!$E$5:$G$135,3,FALSE))))","v":""},{"$f":"IF(E84=\"\",\"\",IF(②選手情報入力!P93=\"\",\"\",IF(K84=1,VLOOKUP(②選手情報入力!P93,種目情報!$A$5:$B$151,2,FALSE),VLOOKUP(②選手情報入力!P93,種目情報!$E$5:$F$135,2,FALSE))))","v":""},{"$f":"IF(E84=\"\",\"\",IF(②選手情報入力!Q93=\"\",\"\",②選手情報入力!Q93))","v":""},{"$f":"IF(E84=\"\",\"\",IF(②選手情報入力!O93=\"\",\"\",1))","v":""},{"$f":"IF(E84=\"\",\"\",IF(②選手情報入力!P93=\"\",\"\",IF(K84=1,VLOOKUP(②選手情報入力!P93,種目情報!$A$5:$C$135,3,FALSE),VLOOKUP(②選手情報入力!P93,種目情報!$E$5:$G$135,3,FALSE))))","v":""},{"$f":"IF(E84=\"\",\"\",IF(②選手情報入力!S93=\"\",\"\",IF(K84=1,VLOOKUP(②選手情報入力!S93,種目情報!$A$5:$B$151,2,FALSE),VLOOKUP(②選手情報入力!S93,種目情報!$E$5:$F$135,2,FALSE))))","v":""},{"$f":"IF(E84=\"\",\"\",IF(②選手情報入力!T93=\"\",\"\",②選手情報入力!T93))","v":""},{"$f":"IF(E84=\"\",\"\",IF(②選手情報入力!R93=\"\",\"\",1))","v":""},{"$f":"IF(E84=\"\",\"\",IF(②選手情報入力!S93=\"\",\"\",IF(K84=1,VLOOKUP(②選手情報入力!S93,種目情報!$A$5:$C$135,3,FALSE),VLOOKUP(②選手情報入力!S93,種目情報!$E$5:$G$135,3,FALSE))))","v":""},{"$f":"IF(E84=\"\",\"\",IF(②選手情報入力!U93=\"\",\"\",IF(K84=1,種目情報!$J$4,種目情報!$J$6)))","v":""},{"$f":"IF(E84=\"\",\"\",IF(②選手情報入力!U93=\"\",\"\",IF(K84=1,IF(②選手情報入力!$V$7=\"\",\"\",②選手情報入力!$V$7),IF(②選手情報入力!$V$8=\"\",\"\",②選手情報入力!$V$8))))","v":""},{"$f":"IF(E84=\"\",\"\",IF(②選手情報入力!U93=\"\",\"\",IF(K84=1,IF(②選手情報入力!$U$7=\"\",0,1),IF(②選手情報入力!$U$8=\"\",0,1))))","v":""},{"$f":"IF(E84=\"\",\"\",IF(②選手情報入力!U93=\"\",\"\",2))","v":""},{"$f":"IF(E84=\"\",\"\",IF(②選手情報入力!W93=\"\",\"\",IF(K84=1,種目情報!$J$5,種目情報!$J$7)))","v":""},{"$f":"IF(E84=\"\",\"\",IF(②選手情報入力!W93=\"\",\"\",IF(K84=1,IF(②選手情報入力!$X$7=\"\",\"\",②選手情報入力!$X$7),IF(②選手情報入力!$X$8=\"\",\"\",②選手情報入力!$X$8))))","v":""},{"$f":"IF(E84=\"\",\"\",IF(②選手情報入力!W93=\"\",\"\",IF(K84=1,IF(②選手情報入力!$W$7=\"\",0,1),IF(②選手情報入力!$W$8=\"\",0,1))))","v":""},{"$f":"IF(E84=\"\",\"\",IF(②選手情報入力!W93=\"\",\"\",2))","v":""},null,null,{"$f":"IF(②選手情報入力!G93=\"\",\"\",ASC(②選手情報入力!G93))","v":""},{"$f":"IF(②選手情報入力!G93=\"\",\"\",ASC(②選手情報入力!H93))","v":""}]
["",{"$f":"IF(E85=\"\",\"\",①団体情報入力!$C$5)","v":""},null,{"$f":"IF(E85=\"\",\"\",IF(①団体情報入力!C90=\"\",\"\",①団体情報入力!C90))","v":""},{"$f":"IF(②選手情報入力!D94=\"\",\"\",②選手情報入力!D94)","v":""},{"$f":"IF(E85=\"\",\"\",②選手情報入力!E94)","v":""},{"$f":"IF(E85=\"\",\"\",ASC(②選手情報入力!F94))","v":""},"","",{"$f":"IF(E85=\"\",\"\",IF(②選手情報入力!I94=\"\",\"JPN\",LEFT(②選手情報入力!I94,3)))","v":""},{"$f":"IF(E85=\"\",\"\",IF(②選手情報入力!J94=\"男\",1,2))","v":""},{"$f":"IF(E85=\"\",\"\",IF(②選手情報入力!K94=\"\",\"\",②選手情報入力!K94))","v":""},{"$f":"IF(E85=\"\",\"\",LEFT(②選手情報入力!L94,4))","v":""},{"$f":"IF(E85=\"\",\"\",RIGHT(②選手情報入力!L94,4))","v":""},"",null,{"$f":"IF(E85=\"\",\"\",IF(②選手情報入力!M94=\"\",\"\",IF(K85=1,VLOOKUP(②選手情報入力!M94,種目情報!$A$5:$B$167,2,FALSE),VLOOKUP(②選手情報入力!M94,種目情報!$E$5:$F$142,2,FALSE))))","v":""},{"$f":"IF(E85=\"\",\"\",IF(②選手情報入力!N94=\"\",\"\",②選手情報入力!N94))","v":""},null,{"$f":"IF(E85=\"\",\"\",IF(②選手情報入力!M94=\"\",\"\",IF(K85=1,VLOOKUP(②選手情報入力!M94,種目情報!$A$5:$C$135,3,FALSE),VLOOKUP(②選手情報入力!M94,種目情報!$E$5:$G$135,3,FALSE))))","v":""},{"$f":"IF(E85=\"\",\"\",IF(②選手情報入力!P94=\"\",\"\",IF(K85=1,VLOOKUP(②選手情報入力!P94,種目情報!$A$5:$B$151,2,FALSE),VLOOKUP(②選手情報入力!P94,種目情報!$E$5:$F$135,2,FALSE))))","v":""},{"$f":"IF(E85=\"\",\"\",IF(②選手情報入力!Q94=\"\",\"\",②選手情報入力!Q94))","v":""},{"$f":"IF(E85=\"\",\"\",IF(②選手情報入力!O94=\"\",\"\",1))","v":""},{"$f":"IF(E85=\"\",\"\",IF(②選手情報入力!P94=\"\",\"\",IF(K85=1,VLOOKUP(②選手情報入力!P94,種目情報!$A$5:$C$135,3,FALSE),VLOOKUP(②選手情報入力!P94,種目情報!$E$5:$G$135,3,FALSE))))","v":""},{"$f":"IF(E85=\"\",\"\",IF(②選手情報入力!S94=\"\",\"\",IF(K85=1,VLOOKUP(②選手情報入力!S94,種目情報!$A$5:$B$151,2,FALSE),VLOOKUP(②選手情報入力!S94,種目情報!$E$5:$F$135,2,FALSE))))","v":""},{"$f":"IF(E85=\"\",\"\",IF(②選手情報入力!T94=\"\",\"\",②選手情報入力!T94))","v":""},{"$f":"IF(E85=\"\",\"\",IF(②選手情報入力!R94=\"\",\"\",1))","v":""},{"$f":"IF(E85=\"\",\"\",IF(②選手情報入力!S94=\"\",\"\",IF(K85=1,VLOOKUP(②選手情報入力!S94,種目情報!$A$5:$C$135,3,FALSE),VLOOKUP(②選手情報入力!S94,種目情報!$E$5:$G$135,3,FALSE))))","v":""},{"$f":"IF(E85=\"\",\"\",IF(②選手情報入力!U94=\"\",\"\",IF(K85=1,種目情報!$J$4,種目情報!$J$6)))","v":""},{"$f":"IF(E85=\"\",\"\",IF(②選手情報入力!U94=\"\",\"\",IF(K85=1,IF(②選手情報入力!$V$7=\"\",\"\",②選手情報入力!$V$7),IF(②選手情報入力!$V$8=\"\",\"\",②選手情報入力!$V$8))))","v":""},{"$f":"IF(E85=\"\",\"\",IF(②選手情報入力!U94=\"\",\"\",IF(K85=1,IF(②選手情報入力!$U$7=\"\",0,1),IF(②選手情報入力!$U$8=\"\",0,1))))","v":""},{"$f":"IF(E85=\"\",\"\",IF(②選手情報入力!U94=\"\",\"\",2))","v":""},{"$f":"IF(E85=\"\",\"\",IF(②選手情報入力!W94=\"\",\"\",IF(K85=1,種目情報!$J$5,種目情報!$J$7)))","v":""},{"$f":"IF(E85=\"\",\"\",IF(②選手情報入力!W94=\"\",\"\",IF(K85=1,IF(②選手情報入力!$X$7=\"\",\"\",②選手情報入力!$X$7),IF(②選手情報入力!$X$8=\"\",\"\",②選手情報入力!$X$8))))","v":""},{"$f":"IF(E85=\"\",\"\",IF(②選手情報入力!W94=\"\",\"\",IF(K85=1,IF(②選手情報入力!$W$7=\"\",0,1),IF(②選手情報入力!$W$8=\"\",0,1))))","v":""},{"$f":"IF(E85=\"\",\"\",IF(②選手情報入力!W94=\"\",\"\",2))","v":""},null,null,{"$f":"IF(②選手情報入力!G94=\"\",\"\",ASC(②選手情報入力!G94))","v":""},{"$f":"IF(②選手情報入力!G94=\"\",\"\",ASC(②選手情報入力!H94))","v":""}]
["",{"$f":"IF(E86=\"\",\"\",①団体情報入力!$C$5)","v":""},null,{"$f":"IF(E86=\"\",\"\",IF(①団体情報入力!C91=\"\",\"\",①団体情報入力!C91))","v":""},{"$f":"IF(②選手情報入力!D95=\"\",\"\",②選手情報入力!D95)","v":""},{"$f":"IF(E86=\"\",\"\",②選手情報入力!E95)","v":""},{"$f":"IF(E86=\"\",\"\",ASC(②選手情報入力!F95))","v":""},"","",{"$f":"IF(E86=\"\",\"\",IF(②選手情報入力!I95=\"\",\"JPN\",LEFT(②選手情報入力!I95,3)))","v":""},{"$f":"IF(E86=\"\",\"\",IF(②選手情報入力!J95=\"男\",1,2))","v":""},{"$f":"IF(E86=\"\",\"\",IF(②選手情報入力!K95=\"\",\"\",②選手情報入力!K95))","v":""},{"$f":"IF(E86=\"\",\"\",LEFT(②選手情報入力!L95,4))","v":""},{"$f":"IF(E86=\"\",\"\",RIGHT(②選手情報入力!L95,4))","v":""},"",null,{"$f":"IF(E86=\"\",\"\",IF(②選手情報入力!M95=\"\",\"\",IF(K86=1,VLOOKUP(②選手情報入力!M95,種目情報!$A$5:$B$167,2,FALSE),VLOOKUP(②選手情報入力!M95,種目情報!$E$5:$F$142,2,FALSE))))","v":""},{"$f":"IF(E86=\"\",\"\",IF(②選手情報入力!N95=\"\",\"\",②選手情報入力!N95))","v":""},null,{"$f":"IF(E86=\"\",\"\",IF(②選手情報入力!M95=\"\",\"\",IF(K86=1,VLOOKUP(②選手情報入力!M95,種目情報!$A$5:$C$135,3,FALSE),VLOOKUP(②選手情報入力!M95,種目情報!$E$5:$G$135,3,FALSE))))","v":""},{"$f":"IF(E86=\"\",\"\",IF(②選手情報入力!P95=\"\",\"\",IF(K86=1,VLOOKUP(②選手情報入力!P95,種目情報!$A$5:$B$151,2,FALSE),VLOOKUP(②選手情報入力!P95,種目情報!$E$5:$F$135,2,FALSE))))","v":""},{"$f":"IF(E86=\"\",\"\",IF(②選手情報入力!Q95=\"\",\"\",②選手情報入力!Q95))","v":""},{"$f":"IF(E86=\"\",\"\",IF(②選手情報入力!O95=\"\",\"\",1))","v":""},{"$f":"IF(E86=\"\",\"\",IF(②選手情報入力!P95=\"\",\"\",IF(K86=1,VLOOKUP(②選手情報入力!P95,種目情報!$A$5:$C$135,3,FALSE),VLOOKUP(②選手情報入力!P95,種目情報!$E$5:$G$135,3,FALSE))))","v":""},{"$f":"IF(E86=\"\",\"\",IF(②選手情報入力!S95=\"\",\"\",IF(K86=1,VLOOKUP(②選手情報入力!S95,種目情報!$A$5:$B$151,2,FALSE),VLOOKUP(②選手情報入力!S95,種目情報!$E$5:$F$135,2,FALSE))))","v":""},{"$f":"IF(E86=\"\",\"\",IF(②選手情報入力!T95=\"\",\"\",②選手情報入力!T95))","v":""},{"$f":"IF(E86=\"\",\"\",IF(②選手情報入力!R95=\"\",\"\",1))","v":""},{"$f":"IF(E86=\"\",\"\",IF(②選手情報入力!S95=\"\",\"\",IF(K86=1,VLOOKUP(②選手情報入力!S95,種目情報!$A$5:$C$135,3,FALSE),VLOOKUP(②選手情報入力!S95,種目情報!$E$5:$G$135,3,FALSE))))","v":""},{"$f":"IF(E86=\"\",\"\",IF(②選手情報入力!U95=\"\",\"\",IF(K86=1,種目情報!$J$4,種目情報!$J$6)))","v":""},{"$f":"IF(E86=\"\",\"\",IF(②選手情報入力!U95=\"\",\"\",IF(K86=1,IF(②選手情報入力!$V$7=\"\",\"\",②選手情報入力!$V$7),IF(②選手情報入力!$V$8=\"\",\"\",②選手情報入力!$V$8))))","v":""},{"$f":"IF(E86=\"\",\"\",IF(②選手情報入力!U95=\"\",\"\",IF(K86=1,IF(②選手情報入力!$U$7=\"\",0,1),IF(②選手情報入力!$U$8=\"\",0,1))))","v":""},{"$f":"IF(E86=\"\",\"\",IF(②選手情報入力!U95=\"\",\"\",2))","v":""},{"$f":"IF(E86=\"\",\"\",IF(②選手情報入力!W95=\"\",\"\",IF(K86=1,種目情報!$J$5,種目情報!$J$7)))","v":""},{"$f":"IF(E86=\"\",\"\",IF(②選手情報入力!W95=\"\",\"\",IF(K86=1,IF(②選手情報入力!$X$7=\"\",\"\",②選手情報入力!$X$7),IF(②選手情報入力!$X$8=\"\",\"\",②選手情報入力!$X$8))))","v":""},{"$f":"IF(E86=\"\",\"\",IF(②選手情報入力!W95=\"\",\"\",IF(K86=1,IF(②選手情報入力!$W$7=\"\",0,1),IF(②選手情報入力!$W$8=\"\",0,1))))","v":""},{"$f":"IF(E86=\"\",\"\",IF(②選手情報入力!W95=\"\",\"\",2))","v":""},null,null,{"$f":"IF(②選手情報入力!G95=\"\",\"\",ASC(②選手情報入力!G95))","v":""},{"$f":"IF(②選手情報入力!G95=\"\",\"\",ASC(②選手情報入力!H95))","v":""}]
["",{"$f":"IF(E87=\"\",\"\",①団体情報入力!$C$5)","v":""},null,{"$f":"IF(E87=\"\",\"\",IF(①団体情報入力!C92=\"\",\"\",①団体情報入力!C92))","v":""},{"$f":"IF(②選手情報入力!D96=\"\",\"\",②選手情報入力!D96)","v":""},{"$f":"IF(E87=\"\",\"\",②選手情報入力!E96)","v":""},{"$f":"IF(E87=\"\",\"\",ASC(②選手情報入力!F96))","v":""},"","",{"$f":"IF(E87=\"\",\"\",IF(②選手情報入力!I96=\"\",\"JPN\",LEFT(②選手情報入力!I96,3)))","v":""},{"$f":"IF(E87=\"\",\"\",IF(②選手情報入力!J96=\"男\",1,2))","v":""},{"$f":"IF(E87=\"\",\"\",IF(②選手情報入力!K96=\"\",\"\",②選手情報入力!K96))","v":""},{"$f":"IF(E87=\"\",\"\",LEFT(②選手情報入力!L96,4))","v":""},{"$f":"IF(E87=\"\",\"\",RIGHT(②選手情報入力!L96,4))","v":""},"",null,{"$f":"IF(E87=\"\",\"\",IF(②選手情報入力!M96=\"\",\"\",IF(K87=1,VLOOKUP(②選手情報入力!M96,種目情報!$A$5:$B$167,2,FALSE),VLOOKUP(②選手情報入力!M96,種目情報!$E$5:$F$142,2,FALSE))))","v":""},{"$f":"IF(E87=\"\",\"\",IF(②選手情報入力!N96=\"\",\"\",②選手情報入力!N96))","v":""},null,{"$f":"IF(E87=\"\",\"\",IF(②選手情報入力!M96=\"\",\"\",IF(K87=1,VLOOKUP(②選手情報入力!M96,種目情報!$A$5:$C$135,3,FALSE),VLOOKUP(②選手情報入力!M96,種目情報!$E$5:$G$135,3,FALSE))))","v":""},{"$f":"IF(E87=\"\",\"\",IF(②選手情報入力!P96=\"\",\"\",IF(K87=1,VLOOKUP(②選手情報入力!P96,種目情報!$A$5:$B$151,2,FALSE),VLOOKUP(②選手情報入力!P96,種目情報!$E$5:$F$135,2,FALSE))))","v":""},{"$f":"IF(E87=\"\",\"\",IF(②選手情報入力!Q96=\"\",\"\",②選手情報入力!Q96))","v":""},{"$f":"IF(E87=\"\",\"\",IF(②選手情報入力!O96=\"\",\"\",1))","v":""},{"$f":"IF(E87=\"\",\"\",IF(②選手情報入力!P96=\"\",\"\",IF(K87=1,VLOOKUP(②選手情報入力!P96,種目情報!$A$5:$C$135,3,FALSE),VLOOKUP(②選手情報入力!P96,種目情報!$E$5:$G$135,3,FALSE))))","v":""},{"$f":"IF(E87=\"\",\"\",IF(②選手情報入力!S96=\"\",\"\",IF(K87=1,VLOOKUP(②選手情報入力!S96,種目情報!$A$5:$B$151,2,FALSE),VLOOKUP(②選手情報入力!S96,種目情報!$E$5:$F$135,2,FALSE))))","v":""},{"$f":"IF(E87=\"\",\"\",IF(②選手情報入力!T96=\"\",\"\",②選手情報入力!T96))","v":""},{"$f":"IF(E87=\"\",\"\",IF(②選手情報入力!R96=\"\",\"\",1))","v":""},{"$f":"IF(E87=\"\",\"\",IF(②選手情報入力!S96=\"\",\"\",IF(K87=1,VLOOKUP(②選手情報入力!S96,種目情報!$A$5:$C$135,3,FALSE),VLOOKUP(②選手情報入力!S96,種目情報!$E$5:$G$135,3,FALSE))))","v":""},{"$f":"IF(E87=\"\",\"\",IF(②選手情報入力!U96=\"\",\"\",IF(K87=1,種目情報!$J$4,種目情報!$J$6)))","v":""},{"$f":"IF(E87=\"\",\"\",IF(②選手情報入力!U96=\"\",\"\",IF(K87=1,IF(②選手情報入力!$V$7=\"\",\"\",②選手情報入力!$V$7),IF(②選手情報入力!$V$8=\"\",\"\",②選手情報入力!$V$8))))","v":""},{"$f":"IF(E87=\"\",\"\",IF(②選手情報入力!U96=\"\",\"\",IF(K87=1,IF(②選手情報入力!$U$7=\"\",0,1),IF(②選手情報入力!$U$8=\"\",0,1))))","v":""},{"$f":"IF(E87=\"\",\"\",IF(②選手情報入力!U96=\"\",\"\",2))","v":""},{"$f":"IF(E87=\"\",\"\",IF(②選手情報入力!W96=\"\",\"\",IF(K87=1,種目情報!$J$5,種目情報!$J$7)))","v":""},{"$f":"IF(E87=\"\",\"\",IF(②選手情報入力!W96=\"\",\"\",IF(K87=1,IF(②選手情報入力!$X$7=\"\",\"\",②選手情報入力!$X$7),IF(②選手情報入力!$X$8=\"\",\"\",②選手情報入力!$X$8))))","v":""},{"$f":"IF(E87=\"\",\"\",IF(②選手情報入力!W96=\"\",\"\",IF(K87=1,IF(②選手情報入力!$W$7=\"\",0,1),IF(②選手情報入力!$W$8=\"\",0,1))))","v":""},{"$f":"IF(E87=\"\",\"\",IF(②選手情報入力!W96=\"\",\"\",2))","v":""},null,null,{"$f":"IF(②選手情報入力!G96=\"\",\"\",ASC(②選手情報入力!G96))","v":""},{"$f":"IF(②選手情報入力!G96=\"\",\"\",ASC(②選手情報入力!H96))","v":""}]
["",{"$f":"IF(E88=\"\",\"\",①団体情報入力!$C$5)","v":""},null,{"$f":"IF(E88=\"\",\"\",IF(①団体情報入力!C93=\"\",\"\",①団体情報入力!C93))","v":""},{"$f":"IF(②選手情報入力!D97=\"\",\"\",②選手情報入力!D97)","v":""},{"$f":"IF(E88=\"\",\"\",②選手情報入力!E97)","v":""},{"$f":"IF(E88=\"\",\"\",ASC(②選手情報入力!F97))","v":""},"","",{"$f":"IF(E88=\"\",\"\",IF(②選手情報入力!I97=\"\",\"JPN\",LEFT(②選手情報入力!I97,3)))","v":""},{"$f":"IF(E88=\"\",\"\",IF(②選手情報入力!J97=\"男\",1,2))","v":""},{"$f":"IF(E88=\"\",\"\",IF(②選手情報入力!K97=\"\",\"\",②選手情報入力!K97))","v":""},{"$f":"IF(E88=\"\",\"\",LEFT(②選手情報入力!L97,4))","v":""},{"$f":"IF(E88=\"\",\"\",RIGHT(②選手情報入力!L97,4))","v":""},"",null,{"$f":"IF(E88=\"\",\"\",IF(②選手情報入力!M97=\"\",\"\",IF(K88=1,VLOOKUP(②選手情報入力!M97,種目情報!$A$5:$B$167,2,FALSE),VLOOKUP(②選手情報入力!M97,種目情報!$E$5:$F$142,2,FALSE))))","v":""},{"$f":"IF(E88=\"\",\"\",IF(②選手情報入力!N97=\"\",\"\",②選手情報入力!N97))","v":""},null,{"$f":"IF(E88=\"\",\"\",IF(②選手情報入力!M97=\"\",\"\",IF(K88=1,VLOOKUP(②選手情報入力!M97,種目情報!$A$5:$C$135,3,FALSE),VLOOKUP(②選手情報入力!M97,種目情報!$E$5:$G$135,3,FALSE))))","v":""},{"$f":"IF(E88=\"\",\"\",IF(②選手情報入力!P97=\"\",\"\",IF(K88=1,VLOOKUP(②選手情報入力!P97,種目情報!$A$5:$B$151,2,FALSE),VLOOKUP(②選手情報入力!P97,種目情報!$E$5:$F$135,2,FALSE))))","v":""},{"$f":"IF(E88=\"\",\"\",IF(②選手情報入力!Q97=\"\",\"\",②選手情報入力!Q97))","v":""},{"$f":"IF(E88=\"\",\"\",IF(②選手情報入力!O97=\"\",\"\",1))","v":""},{"$f":"IF(E88=\"\",\"\",IF(②選手情報入力!P97=\"\",\"\",IF(K88=1,VLOOKUP(②選手情報入力!P97,種目情報!$A$5:$C$135,3,FALSE),VLOOKUP(②選手情報入力!P97,種目情報!$E$5:$G$135,3,FALSE))))","v":""},{"$f":"IF(E88=\"\",\"\",IF(②選手情報入力!S97=\"\",\"\",IF(K88=1,VLOOKUP(②選手情報入力!S97,種目情報!$A$5:$B$151,2,FALSE),VLOOKUP(②選手情報入力!S97,種目情報!$E$5:$F$135,2,FALSE))))","v":""},{"$f":"IF(E88=\"\",\"\",IF(②選手情報入力!T97=\"\",\"\",②選手情報入力!T97))","v":""},{"$f":"IF(E88=\"\",\"\",IF(②選手情報入力!R97=\"\",\"\",1))","v":""},{"$f":"IF(E88=\"\",\"\",IF(②選手情報入力!S97=\"\",\"\",IF(K88=1,VLOOKUP(②選手情報入力!S97,種目情報!$A$5:$C$135,3,FALSE),VLOOKUP(②選手情報入力!S97,種目情報!$E$5:$G$135,3,FALSE))))","v":""},{"$f":"IF(E88=\"\",\"\",IF(②選手情報入力!U97=\"\",\"\",IF(K88=1,種目情報!$J$4,種目情報!$J$6)))","v":""},{"$f":"IF(E88=\"\",\"\",IF(②選手情報入力!U97=\"\",\"\",IF(K88=1,IF(②選手情報入力!$V$7=\"\",\"\",②選手情報入力!$V$7),IF(②選手情報入力!$V$8=\"\",\"\",②選手情報入力!$V$8))))","v":""},{"$f":"IF(E88=\"\",\"\",IF(②選手情報入力!U97=\"\",\"\",IF(K88=1,IF(②選手情報入力!$U$7=\"\",0,1),IF(②選手情報入力!$U$8=\"\",0,1))))","v":""},{"$f":"IF(E88=\"\",\"\",IF(②選手情報入力!U97=\"\",\"\",2))","v":""},{"$f":"IF(E88=\"\",\"\",IF(②選手情報入力!W97=\"\",\"\",IF(K88=1,種目情報!$J$5,種目情報!$J$7)))","v":""},{"$f":"IF(E88=\"\",\"\",IF(②選手情報入力!W97=\"\",\"\",IF(K88=1,IF(②選手情報入力!$X$7=\"\",\"\",②選手情報入力!$X$7),IF(②選手情報入力!$X$8=\"\",\"\",②選手情報入力!$X$8))))","v":""},{"$f":"IF(E88=\"\",\"\",IF(②選手情報入力!W97=\"\",\"\",IF(K88=1,IF(②選手情報入力!$W$7=\"\",0,1),IF(②選手情報入力!$W$8=\"\",0,1))))","v":""},{"$f":"IF(E88=\"\",\"\",IF(②選手情報入力!W97=\"\",\"\",2))","v":""},null,null,{"$f":"IF(②選手情報入力!G97=\"\",\"\",ASC(②選手情報入力!G97))","v":""},{"$f":"IF(②選手情報入力!G97=\"\",\"\",ASC(②選手情報入力!H97))","v":""}]
["",{"$f":"IF(E89=\"\",\"\",①団体情報入力!$C$5)","v":""},null,{"$f":"IF(E89=\"\",\"\",IF(①団体情報入力!C94=\"\",\"\",①団体情報入力!C94))","v":""},{"$f":"IF(②選手情報入力!D98=\"\",\"\",②選手情報入力!D98)","v":""},{"$f":"IF(E89=\"\",\"\",②選手情報入力!E98)","v":""},{"$f":"IF(E89=\"\",\"\",ASC(②選手情報入力!F98))","v":""},"","",{"$f":"IF(E89=\"\",\"\",IF(②選手情報入力!I98=\"\",\"JPN\",LEFT(②選手情報入力!I98,3)))","v":""},{"$f":"IF(E89=\"\",\"\",IF(②選手情報入力!J98=\"男\",1,2))","v":""},{"$f":"IF(E89=\"\",\"\",IF(②選手情報入力!K98=\"\",\"\",②選手情報入力!K98))","v":""},{"$f":"IF(E89=\"\",\"\",LEFT(②選手情報入力!L98,4))","v":""},{"$f":"IF(E89=\"\",\"\",RIGHT(②選手情報入力!L98,4))","v":""},"",null,{"$f":"IF(E89=\"\",\"\",IF(②選手情報入力!M98=\"\",\"\",IF(K89=1,VLOOKUP(②選手情報入力!M98,種目情報!$A$5:$B$167,2,FALSE),VLOOKUP(②選手情報入力!M98,種目情報!$E$5:$F$142,2,FALSE))))","v":""},{"$f":"IF(E89=\"\",\"\",IF(②選手情報入力!N98=\"\",\"\",②選手情報入力!N98))","v":""},null,{"$f":"IF(E89=\"\",\"\",IF(②選手情報入力!M98=\"\",\"\",IF(K89=1,VLOOKUP(②選手情報入力!M98,種目情報!$A$5:$C$135,3,FALSE),VLOOKUP(②選手情報入力!M98,種目情報!$E$5:$G$135,3,FALSE))))","v":""},{"$f":"IF(E89=\"\",\"\",IF(②選手情報入力!P98=\"\",\"\",IF(K89=1,VLOOKUP(②選手情報入力!P98,種目情報!$A$5:$B$151,2,FALSE),VLOOKUP(②選手情報入力!P98,種目情報!$E$5:$F$135,2,FALSE))))","v":""},{"$f":"IF(E89=\"\",\"\",IF(②選手情報入力!Q98=\"\",\"\",②選手情報入力!Q98))","v":""},{"$f":"IF(E89=\"\",\"\",IF(②選手情報入力!O98=\"\",\"\",1))","v":""},{"$f":"IF(E89=\"\",\"\",IF(②選手情報入力!P98=\"\",\"\",IF(K89=1,VLOOKUP(②選手情報入力!P98,種目情報!$A$5:$C$135,3,FALSE),VLOOKUP(②選手情報入力!P98,種目情報!$E$5:$G$135,3,FALSE))))","v":""},{"$f":"IF(E89=\"\",\"\",IF(②選手情報入力!S98=\"\",\"\",IF(K89=1,VLOOKUP(②選手情報入力!S98,種目情報!$A$5:$B$151,2,FALSE),VLOOKUP(②選手情報入力!S98,種目情報!$E$5:$F$135,2,FALSE))))","v":""},{"$f":"IF(E89=\"\",\"\",IF(②選手情報入力!T98=\"\",\"\",②選手情報入力!T98))","v":""},{"$f":"IF(E89=\"\",\"\",IF(②選手情報入力!R98=\"\",\"\",1))","v":""},{"$f":"IF(E89=\"\",\"\",IF(②選手情報入力!S98=\"\",\"\",IF(K89=1,VLOOKUP(②選手情報入力!S98,種目情報!$A$5:$C$135,3,FALSE),VLOOKUP(②選手情報入力!S98,種目情報!$E$5:$G$135,3,FALSE))))","v":""},{"$f":"IF(E89=\"\",\"\",IF(②選手情報入力!U98=\"\",\"\",IF(K89=1,種目情報!$J$4,種目情報!$J$6)))","v":""},{"$f":"IF(E89=\"\",\"\",IF(②選手情報入力!U98=\"\",\"\",IF(K89=1,IF(②選手情報入力!$V$7=\"\",\"\",②選手情報入力!$V$7),IF(②選手情報入力!$V$8=\"\",\"\",②選手情報入力!$V$8))))","v":""},{"$f":"IF(E89=\"\",\"\",IF(②選手情報入力!U98=\"\",\"\",IF(K89=1,IF(②選手情報入力!$U$7=\"\",0,1),IF(②選手情報入力!$U$8=\"\",0,1))))","v":""},{"$f":"IF(E89=\"\",\"\",IF(②選手情報入力!U98=\"\",\"\",2))","v":""},{"$f":"IF(E89=\"\",\"\",IF(②選手情報入力!W98=\"\",\"\",IF(K89=1,種目情報!$J$5,種目情報!$J$7)))","v":""},{"$f":"IF(E89=\"\",\"\",IF(②選手情報入力!W98=\"\",\"\",IF(K89=1,IF(②選手情報入力!$X$7=\"\",\"\",②選手情報入力!$X$7),IF(②選手情報入力!$X$8=\"\",\"\",②選手情報入力!$X$8))))","v":""},{"$f":"IF(E89=\"\",\"\",IF(②選手情報入力!W98=\"\",\"\",IF(K89=1,IF(②選手情報入力!$W$7=\"\",0,1),IF(②選手情報入力!$W$8=\"\",0,1))))","v":""},{"$f":"IF(E89=\"\",\"\",IF(②選手情報入力!W98=\"\",\"\",2))","v":""},null,null,{"$f":"IF(②選手情報入力!G98=\"\",\"\",ASC(②選手情報入力!G98))","v":""},{"$f":"IF(②選手情報入力!G98=\"\",\"\",ASC(②選手情報入力!H98))","v":""}]
["",{"$f":"IF(E90=\"\",\"\",①団体情報入力!$C$5)","v":""},null,{"$f":"IF(E90=\"\",\"\",IF(①団体情報入力!C95=\"\",\"\",①団体情報入力!C95))","v":""},{"$f":"IF(②選手情報入力!D99=\"\",\"\",②選手情報入力!D99)","v":""},{"$f":"IF(E90=\"\",\"\",②選手情報入力!E99)","v":""},{"$f":"IF(E90=\"\",\"\",ASC(②選手情報入力!F99))","v":""},"","",{"$f":"IF(E90=\"\",\"\",IF(②選手情報入力!I99=\"\",\"JPN\",LEFT(②選手情報入力!I99,3)))","v":""},{"$f":"IF(E90=\"\",\"\",IF(②選手情報入力!J99=\"男\",1,2))","v":""},{"$f":"IF(E90=\"\",\"\",IF(②選手情報入力!K99=\"\",\"\",②選手情報入力!K99))","v":""},{"$f":"IF(E90=\"\",\"\",LEFT(②選手情報入力!L99,4))","v":""},{"$f":"IF(E90=\"\",\"\",RIGHT(②選手情報入力!L99,4))","v":""},"",null,{"$f":"IF(E90=\"\",\"\",IF(②選手情報入力!M99=\"\",\"\",IF(K90=1,VLOOKUP(②選手情報入力!M99,種目情報!$A$5:$B$167,2,FALSE),VLOOKUP(②選手情報入力!M99,種目情報!$E$5:$F$142,2,FALSE))))","v":""},{"$f":"IF(E90=\"\",\"\",IF(②選手情報入力!N99=\"\",\"\",②選手情報入力!N99))","v":""},null,{"$f":"IF(E90=\"\",\"\",IF(②選手情報入力!M99=\"\",\"\",IF(K90=1,VLOOKUP(②選手情報入力!M99,種目情報!$A$5:$C$135,3,FALSE),VLOOKUP(②選手情報入力!M99,種目情報!$E$5:$G$135,3,FALSE))))","v":""},{"$f":"IF(E90=\"\",\"\",IF(②選手情報入力!P99=\"\",\"\",IF(K90=1,VLOOKUP(②選手情報入力!P99,種目情報!$A$5:$B$151,2,FALSE),VLOOKUP(②選手情報入力!P99,種目情報!$E$5:$F$135,2,FALSE))))","v":""},{"$f":"IF(E90=\"\",\"\",IF(②選手情報入力!Q99=\"\",\"\",②選手情報入力!Q99))","v":""},{"$f":"IF(E90=\"\",\"\",IF(②選手情報入力!O99=\"\",\"\",1))","v":""},{"$f":"IF(E90=\"\",\"\",IF(②選手情報入力!P99=\"\",\"\",IF(K90=1,VLOOKUP(②選手情報入力!P99,種目情報!$A$5:$C$135,3,FALSE),VLOOKUP(②選手情報入力!P99,種目情報!$E$5:$G$135,3,FALSE))))","v":""},{"$f":"IF(E90=\"\",\"\",IF(②選手情報入力!S99=\"\",\"\",IF(K90=1,VLOOKUP(②選手情報入力!S99,種目情報!$A$5:$B$151,2,FALSE),VLOOKUP(②選手情報入力!S99,種目情報!$E$5:$F$135,2,FALSE))))","v":""},{"$f":"IF(E90=\"\",\"\",IF(②選手情報入力!T99=\"\",\"\",②選手情報入力!T99))","v":""},{"$f":"IF(E90=\"\",\"\",IF(②選手情報入力!R99=\"\",\"\",1))","v":""},{"$f":"IF(E90=\"\",\"\",IF(②選手情報入力!S99=\"\",\"\",IF(K90=1,VLOOKUP(②選手情報入力!S99,種目情報!$A$5:$C$135,3,FALSE),VLOOKUP(②選手情報入力!S99,種目情報!$E$5:$G$135,3,FALSE))))","v":""},{"$f":"IF(E90=\"\",\"\",IF(②選手情報入力!U99=\"\",\"\",IF(K90=1,種目情報!$J$4,種目情報!$J$6)))","v":""},{"$f":"IF(E90=\"\",\"\",IF(②選手情報入力!U99=\"\",\"\",IF(K90=1,IF(②選手情報入力!$V$7=\"\",\"\",②選手情報入力!$V$7),IF(②選手情報入力!$V$8=\"\",\"\",②選手情報入力!$V$8))))","v":""},{"$f":"IF(E90=\"\",\"\",IF(②選手情報入力!U99=\"\",\"\",IF(K90=1,IF(②選手情報入力!$U$7=\"\",0,1),IF(②選手情報入力!$U$8=\"\",0,1))))","v":""},{"$f":"IF(E90=\"\",\"\",IF(②選手情報入力!U99=\"\",\"\",2))","v":""},{"$f":"IF(E90=\"\",\"\",IF(②選手情報入力!W99=\"\",\"\",IF(K90=1,種目情報!$J$5,種目情報!$J$7)))","v":""},{"$f":"IF(E90=\"\",\"\",IF(②選手情報入力!W99=\"\",\"\",IF(K90=1,IF(②選手情報入力!$X$7=\"\",\"\",②選手情報入力!$X$7),IF(②選手情報入力!$X$8=\"\",\"\",②選手情報入力!$X$8))))","v":""},{"$f":"IF(E90=\"\",\"\",IF(②選手情報入力!W99=\"\",\"\",IF(K90=1,IF(②選手情報入力!$W$7=\"\",0,1),IF(②選手情報入力!$W$8=\"\",0,1))))","v":""},{"$f":"IF(E90=\"\",\"\",IF(②選手情報入力!W99=\"\",\"\",2))","v":""},null,null,{"$f":"IF(②選手情報入力!G99=\"\",\"\",ASC(②選手情報入力!G99))","v":""},{"$f":"IF(②選手情報入力!G99=\"\",\"\",ASC(②選手情報入力!H99))","v":""}]
["",{"$f":"IF(E91=\"\",\"\",①団体情報入力!$C$5)","v":""},null,{"$f":"IF(E91=\"\",\"\",IF(①団体情報入力!C96=\"\",\"\",①団体情報入力!C96))","v":""},{"$f":"IF(②選手情報入力!D100=\"\",\"\",②選手情報入力!D100)","v":""},{"$f":"IF(E91=\"\",\"\",②選手情報入力!E100)","v":""},{"$f":"IF(E91=\"\",\"\",ASC(②選手情報入力!F100))","v":""},"","",{"$f":"IF(E91=\"\",\"\",IF(②選手情報入力!I100=\"\",\"JPN\",LEFT(②選手情報入力!I100,3)))","v":""},{"$f":"IF(E91=\"\",\"\",IF(②選手情報入力!J100=\"男\",1,2))","v":""},{"$f":"IF(E91=\"\",\"\",IF(②選手情報入力!K100=\"\",\"\",②選手情報入力!K100))","v":""},{"$f":"IF(E91=\"\",\"\",LEFT(②選手情報入力!L100,4))","v":""},{"$f":"IF(E91=\"\",\"\",RIGHT(②選手情報入力!L100,4))","v":""},"",null,{"$f":"IF(E91=\"\",\"\",IF(②選手情報入力!M100=\"\",\"\",IF(K91=1,VLOOKUP(②選手情報入力!M100,種目情報!$A$5:$B$167,2,FALSE),VLOOKUP(②選手情報入力!M100,種目情報!$E$5:$F$142,2,FALSE))))","v":""},{"$f":"IF(E91=\"\",\"\",IF(②選手情報入力!N100=\"\",\"\",②選手情報入力!N100))","v":""},null,{"$f":"IF(E91=\"\",\"\",IF(②選手情報入力!M100=\"\",\"\",IF(K91=1,VLOOKUP(②選手情報入力!M100,種目情報!$A$5:$C$135,3,FALSE),VLOOKUP(②選手情報入力!M100,種目情報!$E$5:$G$135,3,FALSE))))","v":""},{"$f":"IF(E91=\"\",\"\",IF(②選手情報入力!P100=\"\",\"\",IF(K91=1,VLOOKUP(②選手情報入力!P100,種目情報!$A$5:$B$151,2,FALSE),VLOOKUP(②選手情報入力!P100,種目情報!$E$5:$F$135,2,FALSE))))","v":""},{"$f":"IF(E91=\"\",\"\",IF(②選手情報入力!Q100=\"\",\"\",②選手情報入力!Q100))","v":""},{"$f":"IF(E91=\"\",\"\",IF(②選手情報入力!O100=\"\",\"\",1))","v":""},{"$f":"IF(E91=\"\",\"\",IF(②選手情報入力!P100=\"\",\"\",IF(K91=1,VLOOKUP(②選手情報入力!P100,種目情報!$A$5:$C$135,3,FALSE),VLOOKUP(②選手情報入力!P100,種目情報!$E$5:$G$135,3,FALSE))))","v":""},{"$f":"IF(E91=\"\",\"\",IF(②選手情報入力!S100=\"\",\"\",IF(K91=1,VLOOKUP(②選手情報入力!S100,種目情報!$A$5:$B$151,2,FALSE),VLOOKUP(②選手情報入力!S100,種目情報!$E$5:$F$135,2,FALSE))))","v":""},{"$f":"IF(E91=\"\",\"\",IF(②選手情報入力!T100=\"\",\"\",②選手情報入力!T100))","v":""},{"$f":"IF(E91=\"\",\"\",IF(②選手情報入力!R100=\"\",\"\",1))","v":""},{"$f":"IF(E91=\"\",\"\",IF(②選手情報入力!S100=\"\",\"\",IF(K91=1,VLOOKUP(②選手情報入力!S100,種目情報!$A$5:$C$135,3,FALSE),VLOOKUP(②選手情報入力!S100,種目情報!$E$5:$G$135,3,FALSE))))","v":""},{"$f":"IF(E91=\"\",\"\",IF(②選手情報入力!U100=\"\",\"\",IF(K91=1,種目情報!$J$4,種目情報!$J$6)))","v":""},{"$f":"IF(E91=\"\",\"\",IF(②選手情報入力!U100=\"\",\"\",IF(K91=1,IF(②選手情報入力!$V$7=\"\",\"\",②選手情報入力!$V$7),IF(②選手情報入力!$V$8=\"\",\"\",②選手情報入力!$V$8))))","v":""},{"$f":"IF(E91=\"\",\"\",IF(②選手情報入力!U100=\"\",\"\",IF(K91=1,IF(②選手情報入力!$U$7=\"\",0,1),IF(②選手情報入力!$U$8=\"\",0,1))))","v":""},{"$f":"IF(E91=\"\",\"\",IF(②選手情報入力!U100=\"\",\"\",2))","v":""},{"$f":"IF(E91=\"\",\"\",IF(②選手情報入力!W100=\"\",\"\",IF(K91=1,種目情報!$J$5,種目情報!$J$7)))","v":""},{"$f":"IF(E91=\"\",\"\",IF(②選手情報入力!W100=\"\",\"\",IF(K91=1,IF(②選手情報入力!$X$7=\"\",\"\",②選手情報入力!$X$7),IF(②選手情報入力!$X$8=\"\",\"\",②選手情報入力!$X$8))))","v":""},{"$f":"IF(E91=\"\",\"\",IF(②選手情報入力!W100=\"\",\"\",IF(K91=1,IF(②選手情報入力!$W$7=\"\",0,1),IF(②選手情報入力!$W$8=\"\",0,1))))","v":""},{"$f":"IF(E91=\"\",\"\",IF(②選手情報入力!W100=\"\",\"\",2))","v":""},null,null,{"$f":"IF(②選手情報入力!G100=\"\",\"\",ASC(②選手情報入力!G100))","v":""},{"$f":"IF(②選手情報入力!G100=\"\",\"\",ASC(②選手情報入力!H100))","v":""}]

{"sheet":"data_team","index":14,"n_rows":25,"n_cols":13,"rows_kept":25,"cut":false,"hidden":false,"merged":[]}
["チームNO","所属コード","チーム名","チーム名カナ","チーム名略称","チーム正式名称","ID","競技者NO","競技者名","参加競技-競技コード","参加競技-自己記録","参加競技-オープン参加FLG","参加競技-記録FLG"]
[{"$f":"IF(' '!C8=\"\",\"\",410000+①団体情報入力!$C$5*10)","v":""},{"$f":"IF(A2=\"\",\"\",①団体情報入力!$C$5)","v":""},{"$f":"IF(A2=\"\",\"\",' '!$J$1)","v":""},{"$f":"IF(A2=\"\",\"\",' '!$P$1)","v":""},null,null,1,{"$f":"IF(A2=\"\",\"\",' '!E8)","v":""},{"$f":"IF(A2=\"\",\"\",' '!D8)","v":""},{"$f":"IF(A2=\"\",\"\",種目情報!$J$4)","v":""},{"$f":"IF(A2=\"\",\"\",' '!$F$8)","v":""},{"$f":"IF(A2=\"\",\"\",IF(②選手情報入力!$U$7=\"\",0,1))","v":""},{"$f":"IF(A2=\"\",\"\",種目情報!$K$4)","v":""}]
[{"$f":"IF(' '!C9=\"\",\"\",410000+①団体情報入力!$C$5*10)","v":""},{"$f":"IF(A3=\"\",\"\",①団体情報入力!$C$5)","v":""},{"$f":"IF(A3=\"\",\"\",' '!$J$1)","v":""},{"$f":"IF(A3=\"\",\"\",' '!$P$1)","v":""},null,null,2,{"$f":"IF(A3=\"\",\"\",' '!E9)","v":""},{"$f":"IF(A3=\"\",\"\",' '!D9)","v":""},{"$f":"IF(A3=\"\",\"\",種目情報!$J$4)","v":""},{"$f":"IF(A3=\"\",\"\",' '!$F$8)","v":""},{"$f":"IF(A3=\"\",\"\",IF(②選手情報入力!$U$7=\"\",0,1))","v":""},{"$f":"IF(A3=\"\",\"\",種目情報!$K$4)","v":""}]
[{"$f":"IF(' '!C10=\"\",\"\",410000+①団体情報入力!$C$5*10)","v":""},{"$f":"IF(A4=\"\",\"\",①団体情報入力!$C$5)","v":""},{"$f":"IF(A4=\"\",\"\",' '!$J$1)","v":""},{"$f":"IF(A4=\"\",\"\",' '!$P$1)","v":""},null,null,3,{"$f":"IF(A4=\"\",\"\",' '!E10)","v":""},{"$f":"IF(A4=\"\",\"\",' '!D10)","v":""},{"$f":"IF(A4=\"\",\"\",種目情報!$J$4)","v":""},{"$f":"IF(A4=\"\",\"\",' '!$F$8)","v":""},{"$f":"IF(A4=\"\",\"\",IF(②選手情報入力!$U$7=\"\",0,1))","v":""},{"$f":"IF(A4=\"\",\"\",種目情報!$K$4)","v":""}]
[{"$f":"IF(' '!C11=\"\",\"\",410000+①団体情報入力!$C$5*10)","v":""},{"$f":"IF(A5=\"\",\"\",①団体情報入力!$C$5)","v":""},{"$f":"IF(A5=\"\",\"\",' '!$J$1)","v":""},{"$f":"IF(A5=\"\",\"\",' '!$P$1)","v":""},null,null,4,{"$f":"IF(A5=\"\",\"\",' '!E11)","v":""},{"$f":"IF(A5=\"\",\"\",' '!D11)","v":""},{"$f":"IF(A5=\"\",\"\",種目情報!$J$4)","v":""},{"$f":"IF(A5=\"\",\"\",' '!$F$8)","v":""},{"$f":"IF(A5=\"\",\"\",IF(②選手情報入力!$U$7=\"\",0,1))","v":""},{"$f":"IF(A5=\"\",\"\",種目情報!$K$4)","v":""}]
[{"$f":"IF(' '!C12=\"\",\"\",410000+①団体情報入力!$C$5*10)","v":""},{"$f":"IF(A6=\"\",\"\",①団体情報入力!$C$5)","v":""},{"$f":"IF(A6=\"\",\"\",' '!$J$1)","v":""},{"$f":"IF(A6=\"\",\"\",' '!$P$1)","v":""},null,null,5,{"$f":"IF(A6=\"\",\"\",' '!E12)","v":""},{"$f":"IF(A6=\"\",\"\",' '!D12)","v":""},{"$f":"IF(A6=\"\",\"\",種目情報!$J$4)","v":""},{"$f":"IF(A6=\"\",\"\",' '!$F$8)","v":""},{"$f":"IF(A6=\"\",\"\",IF(②選手情報入力!$U$7=\"\",0,1))","v":""},{"$f":"IF(A6=\"\",\"\",種目情報!$K$4)","v":""}]
[{"$f":"IF(' '!C13=\"\",\"\",410000+①団体情報入力!$C$5*10)","v":""},{"$f":"IF(A7=\"\",\"\",①団体情報入力!$C$5)","v":""},{"$f":"IF(A7=\"\",\"\",' '!$J$1)","v":""},{"$f":"IF(A7=\"\",\"\",' '!$P$1)","v":""},null,null,6,{"$f":"IF(A7=\"\",\"\",' '!E13)","v":""},{"$f":"IF(A7=\"\",\"\",' '!D13)","v":""},{"$f":"IF(A7=\"\",\"\",種目情報!$J$4)","v":""},{"$f":"IF(A7=\"\",\"\",' '!$F$8)","v":""},{"$f":"IF(A7=\"\",\"\",IF(②選手情報入力!$U$7=\"\",0,1))","v":""},{"$f":"IF(A7=\"\",\"\",種目情報!$K$4)","v":""}]
[{"$f":"IF(' '!I8=\"\",\"\",1610000+①団体情報入力!$C$5*10)","v":""},{"$f":"IF(A8=\"\",\"\",①団体情報入力!$C$5)","v":""},{"$f":"IF(A8=\"\",\"\",' '!$J$1)","v":""},{"$f":"IF(A8=\"\",\"\",' '!$P$1)","v":""},null,null,1,{"$f":"IF(A8=\"\",\"\",' '!K8)","v":""},{"$f":"IF(A8=\"\",\"\",' '!J8)","v":""},{"$f":"IF(A8=\"\",\"\",種目情報!$J$5)","v":""},{"$f":"IF(A8=\"\",\"\",' '!$L$8)","v":""},{"$f":"IF(A8=\"\",\"\",IF(②選手情報入力!$U$8=\"\",0,1))","v":""},{"$f":"IF(A8=\"\",\"\",種目情報!$K$5)","v":""}]
[{"$f":"IF(' '!I9=\"\",\"\",1610000+①団体情報入力!$C$5*10)","v":""},{"$f":"IF(A9=\"\",\"\",①団体情報入力!$C$5)","v":""},{"$f":"IF(A9=\"\",\"\",' '!$J$1)","v":""},{"$f":"IF(A9=\"\",\"\",' '!$P$1)","v":""},null,null,2,{"$f":"IF(A9=\"\",\"\",' '!K9)","v":""},{"$f":"IF(A9=\"\",\"\",' '!J9)","v":""},{"$f":"IF(A9=\"\",\"\",種目情報!$J$5)","v":""},{"$f":"IF(A9=\"\",\"\",' '!$L$8)","v":""},{"$f":"IF(A9=\"\",\"\",IF(②選手情報入力!$U$8=\"\",0,1))","v":""},{"$f":"IF(A9=\"\",\"\",種目情報!$K$5)","v":""}]
[{"$f":"IF(' '!I10=\"\",\"\",1610000+①団体情報入力!$C$5*10)","v":""},{"$f":"IF(A10=\"\",\"\",①団体情報入力!$C$5)","v":""},{"$f":"IF(A10=\"\",\"\",' '!$J$1)","v":""},{"$f":"IF(A10=\"\",\"\",' '!$P$1)","v":""},null,null,3,{"$f":"IF(A10=\"\",\"\",' '!K10)","v":""},{"$f":"IF(A10=\"\",\"\",' '!J10)","v":""},{"$f":"IF(A10=\"\",\"\",種目情報!$J$5)","v":""},{"$f":"IF(A10=\"\",\"\",' '!$L$8)","v":""},{"$f":"IF(A10=\"\",\"\",IF(②選手情報入力!$U$8=\"\",0,1))","v":""},{"$f":"IF(A10=\"\",\"\",種目情報!$K$5)","v":""}]
[{"$f":"IF(' '!I11=\"\",\"\",1610000+①団体情報入力!$C$5*10)","v":""},{"$f":"IF(A11=\"\",\"\",①団体情報入力!$C$5)","v":""},{"$f":"IF(A11=\"\",\"\",' '!$J$1)","v":""},{"$f":"IF(A11=\"\",\"\",' '!$P$1)","v":""},null,null,4,{"$f":"IF(A11=\"\",\"\",' '!K11)","v":""},{"$f":"IF(A11=\"\",\"\",' '!J11)","v":""},{"$f":"IF(A11=\"\",\"\",種目情報!$J$5)","v":""},{"$f":"IF(A11=\"\",\"\",' '!$L$8)","v":""},{"$f":"IF(A11=\"\",\"\",IF(②選手情報入力!$U$8=\"\",0,1))","v":""},{"$f":"IF(A11=\"\",\"\",種目情報!$K$5)","v":""}]
[{"$f":"IF(' '!I12=\"\",\"\",1610000+①団体情報入力!$C$5*10)","v":""},{"$f":"IF(A12=\"\",\"\",①団体情報入力!$C$5)","v":""},{"$f":"IF(A12=\"\",\"\",' '!$J$1)","v":""},{"$f":"IF(A12=\"\",\"\",' '!$P$1)","v":""},null,null,5,{"$f":"IF(A12=\"\",\"\",' '!K12)","v":""},{"$f":"IF(A12=\"\",\"\",' '!J12)","v":""},{"$f":"IF(A12=\"\",\"\",種目情報!$J$5)","v":""},{"$f":"IF(A12=\"\",\"\",' '!$L$8)","v":""},{"$f":"IF(A12=\"\",\"\",IF(②選手情報入力!$U$8=\"\",0,1))","v":""},{"$f":"IF(A12=\"\",\"\",種目情報!$K$5)","v":""}]
[{"$f":"IF(' '!I13=\"\",\"\",1610000+①団体情報入力!$C$5*10)","v":""},{"$f":"IF(A13=\"\",\"\",①団体情報入力!$C$5)","v":""},{"$f":"IF(A13=\"\",\"\",' '!$J$1)","v":""},{"$f":"IF(A13=\"\",\"\",' '!$P$1)","v":""},null,null,6,{"$f":"IF(A13=\"\",\"\",' '!K13)","v":""},{"$f":"IF(A13=\"\",\"\",' '!J13)","v":""},{"$f":"IF(A13=\"\",\"\",種目情報!$J$5)","v":""},{"$f":"IF(A13=\"\",\"\",' '!$L$8)","v":""},{"$f":"IF(A13=\"\",\"\",IF(②選手情報入力!$U$8=\"\",0,1))","v":""},{"$f":"IF(A13=\"\",\"\",種目情報!$K$5)","v":""}]
[{"$f":"IF(' '!O8=\"\",\"\",420000+①団体情報入力!$C$5*10)","v":""},{"$f":"IF(A14=\"\",\"\",①団体情報入力!$C$5)","v":""},{"$f":"IF(A14=\"\",\"\",' '!$J$1)","v":""},{"$f":"IF(A14=\"\",\"\",' '!$P$1)","v":""},null,null,1,{"$f":"IF(A14=\"\",\"\",' '!Q8)","v":""},{"$f":"IF(A14=\"\",\"\",' '!P8)","v":""},{"$f":"IF(A14=\"\",\"\",種目情報!$J$6)","v":""},{"$f":"IF(A14=\"\",\"\",' '!$R$8)","v":""},{"$f":"IF(A14=\"\",\"\",IF(②選手情報入力!$W$7=\"\",0,1))","v":""},{"$f":"IF(A14=\"\",\"\",種目情報!$K$6)","v":""}]
[{"$f":"IF(' '!O9=\"\",\"\",420000+①団体情報入力!$C$5*10)","v":""},{"$f":"IF(A15=\"\",\"\",①団体情報入力!$C$5)","v":""},{"$f":"IF(A15=\"\",\"\",' '!$J$1)","v":""},{"$f":"IF(A15=\"\",\"\",' '!$P$1)","v":""},null,null,2,{"$f":"IF(A15=\"\",\"\",' '!Q9)","v":""},{"$f":"IF(A15=\"\",\"\",' '!P9)","v":""},{"$f":"IF(A15=\"\",\"\",種目情報!$J$6)","v":""},{"$f":"IF(A15=\"\",\"\",' '!$R$8)","v":""},{"$f":"IF(A15=\"\",\"\",IF(②選手情報入力!$W$7=\"\",0,1))","v":""},{"$f":"IF(A15=\"\",\"\",種目情報!$K$6)","v":""}]
[{"$f":"IF(' '!O10=\"\",\"\",420000+①団体情報入力!$C$5*10)","v":""},{"$f":"IF(A16=\"\",\"\",①団体情報入力!$C$5)","v":""},{"$f":"IF(A16=\"\",\"\",' '!$J$1)","v":""},{"$f":"IF(A16=\"\",\"\",' '!$P$1)","v":""},null,null,3,{"$f":"IF(A16=\"\",\"\",' '!Q10)","v":""},{"$f":"IF(A16=\"\",\"\",' '!P10)","v":""},{"$f":"IF(A16=\"\",\"\",種目情報!$J$6)","v":""},{"$f":"IF(A16=\"\",\"\",' '!$R$8)","v":""},{"$f":"IF(A16=\"\",\"\",IF(②選手情報入力!$W$7=\"\",0,1))","v":""},{"$f":"IF(A16=\"\",\"\",種目情報!$K$6)","v":""}]
[{"$f":"IF(' '!O11=\"\",\"\",420000+①団体情報入力!$C$5*10)","v":""},{"$f":"IF(A17=\"\",\"\",①団体情報入力!$C$5)","v":""},{"$f":"IF(A17=\"\",\"\",' '!$J$1)","v":""},{"$f":"IF(A17=\"\",\"\",' '!$P$1)","v":""},null,null,4,{"$f":"IF(A17=\"\",\"\",' '!Q11)","v":""},{"$f":"IF(A17=\"\",\"\",' '!P11)","v":""},{"$f":"IF(A17=\"\",\"\",種目情報!$J$6)","v":""},{"$f":"IF(A17=\"\",\"\",' '!$R$8)","v":""},{"$f":"IF(A17=\"\",\"\",IF(②選手情報入力!$W$7=\"\",0,1))","v":""},{"$f":"IF(A17=\"\",\"\",種目情報!$K$6)","v":""}]
[{"$f":"IF(' '!O12=\"\",\"\",420000+①団体情報入力!$C$5*10)","v":""},{"$f":"IF(A18=\"\",\"\",①団体情報入力!$C$5)","v":""},{"$f":"IF(A18=\"\",\"\",' '!$J$1)","v":""},{"$f":"IF(A18=\"\",\"\",' '!$P$1)","v":""},null,null,5,{"$f":"IF(A18=\"\",\"\",' '!Q12)","v":""},{"$f":"IF(A18=\"\",\"\",' '!P12)","v":""},{"$f":"IF(A18=\"\",\"\",種目情報!$J$6)","v":""},{"$f":"IF(A18=\"\",\"\",' '!$R$8)","v":""},{"$f":"IF(A18=\"\",\"\",IF(②選手情報入力!$W$7=\"\",0,1))","v":""},{"$f":"IF(A18=\"\",\"\",種目情報!$K$6)","v":""}]
[{"$f":"IF(' '!O13=\"\",\"\",420000+①団体情報入力!$C$5*10)","v":""},{"$f":"IF(A19=\"\",\"\",①団体情報入力!$C$5)","v":""},{"$f":"IF(A19=\"\",\"\",' '!$J$1)","v":""},{"$f":"IF(A19=\"\",\"\",' '!$P$1)","v":""},null,null,6,{"$f":"IF(A19=\"\",\"\",' '!Q13)","v":""},{"$f":"IF(A19=\"\",\"\",' '!P13)","v":""},{"$f":"IF(A19=\"\",\"\",種目情報!$J$6)","v":""},{"$f":"IF(A19=\"\",\"\",' '!$R$8)","v":""},{"$f":"IF(A19=\"\",\"\",IF(②選手情報入力!$W$7=\"\",0,1))","v":""},{"$f":"IF(A19=\"\",\"\",種目情報!$K$6)","v":""}]
[{"$f":"IF(' '!U8=\"\",\"\",1620000+①団体情報入力!$C$5*10)","v":""},{"$f":"IF(A20=\"\",\"\",①団体情報入力!$C$5)","v":""},{"$f":"IF(A20=\"\",\"\",' '!$J$1)","v":""},{"$f":"IF(A20=\"\",\"\",' '!$P$1)","v":""},null,null,1,{"$f":"IF(A20=\"\",\"\",' '!W8)","v":""},{"$f":"IF(A20=\"\",\"\",' '!V8)","v":""},{"$f":"IF(A20=\"\",\"\",種目情報!$J$7)","v":""},{"$f":"IF(A20=\"\",\"\",' '!$X$8)","v":""},{"$f":"IF(A20=\"\",\"\",IF(②選手情報入力!$W$8=\"\",0,1))","v":""},{"$f":"IF(A20=\"\",\"\",種目情報!$K$7)","v":""}]
[{"$f":"IF(' '!U9=\"\",\"\",1620000+①団体情報入力!$C$5*10)","v":""},{"$f":"IF(A21=\"\",\"\",①団体情報入力!$C$5)","v":""},{"$f":"IF(A21=\"\",\"\",' '!$J$1)","v":""},{"$f":"IF(A21=\"\",\"\",' '!$P$1)","v":""},null,null,2,{"$f":"IF(A21=\"\",\"\",' '!W9)","v":""},{"$f":"IF(A21=\"\",\"\",' '!V9)","v":""},{"$f":"IF(A21=\"\",\"\",種目情報!$J$7)","v":""},{"$f":"IF(A21=\"\",\"\",' '!$X$8)","v":""},{"$f":"IF(A21=\"\",\"\",IF(②選手情報入力!$W$8=\"\",0,1))","v":""},{"$f":"IF(A21=\"\",\"\",種目情報!$K$7)","v":""}]
[{"$f":"IF(' '!U10=\"\",\"\",1620000+①団体情報入力!$C$5*10)","v":""},{"$f":"IF(A22=\"\",\"\",①団体情報入力!$C$5)","v":""},{"$f":"IF(A22=\"\",\"\",' '!$J$1)","v":""},{"$f":"IF(A22=\"\",\"\",' '!$P$1)","v":""},null,null,3,{"$f":"IF(A22=\"\",\"\",' '!W10)","v":""},{"$f":"IF(A22=\"\",\"\",' '!V10)","v":""},{"$f":"IF(A22=\"\",\"\",種目情報!$J$7)","v":""},{"$f":"IF(A22=\"\",\"\",' '!$X$8)","v":""},{"$f":"IF(A22=\"\",\"\",IF(②選手情報入力!$W$8=\"\",0,1))","v":""},{"$f":"IF(A22=\"\",\"\",種目情報!$K$7)","v":""}]
[{"$f":"IF(' '!U11=\"\",\"\",1620000+①団体情報入力!$C$5*10)","v":""},{"$f":"IF(A23=\"\",\"\",①団体情報入力!$C$5)","v":""},{"$f":"IF(A23=\"\",\"\",' '!$J$1)","v":""},{"$f":"IF(A23=\"\",\"\",' '!$P$1)","v":""},null,null,4,{"$f":"IF(A23=\"\",\"\",' '!W11)","v":""},{"$f":"IF(A23=\"\",\"\",' '!V11)","v":""},{"$f":"IF(A23=\"\",\"\",種目情報!$J$7)","v":""},{"$f":"IF(A23=\"\",\"\",' '!$X$8)","v":""},{"$f":"IF(A23=\"\",\"\",IF(②選手情報入力!$W$8=\"\",0,1))","v":""},{"$f":"IF(A23=\"\",\"\",種目情報!$K$7)","v":""}]
[{"$f":"IF(' '!U12=\"\",\"\",1620000+①団体情報入力!$C$5*10)","v":""},{"$f":"IF(A24=\"\",\"\",①団体情報入力!$C$5)","v":""},{"$f":"IF(A24=\"\",\"\",' '!$J$1)","v":""},{"$f":"IF(A24=\"\",\"\",' '!$P$1)","v":""},null,null,5,{"$f":"IF(A24=\"\",\"\",' '!W12)","v":""},{"$f":"IF(A24=\"\",\"\",' '!V12)","v":""},{"$f":"IF(A24=\"\",\"\",種目情報!$J$7)","v":""},{"$f":"IF(A24=\"\",\"\",' '!$X$8)","v":""},{"$f":"IF(A24=\"\",\"\",IF(②選手情報入力!$W$8=\"\",0,1))","v":""},{"$f":"IF(A24=\"\",\"\",種目情報!$K$7)","v":""}]
[{"$f":"IF(' '!U13=\"\",\"\",1620000+①団体情報入力!$C$5*10)","v":""},{"$f":"IF(A25=\"\",\"\",①団体情報入力!$C$5)","v":""},{"$f":"IF(A25=\"\",\"\",' '!$J$1)","v":""},{"$f":"IF(A25=\"\",\"\",' '!$P$1)","v":""},null,null,6,{"$f":"IF(A25=\"\",\"\",' '!W13)","v":""},{"$f":"IF(A25=\"\",\"\",' '!V13)","v":""},{"$f":"IF(A25=\"\",\"\",種目情報!$J$7)","v":""},{"$f":"IF(A25=\"\",\"\",' '!$X$8)","v":""},{"$f":"IF(A25=\"\",\"\",IF(②選手情報入力!$W$8=\"\",0,1))","v":""},{"$f":"IF(A25=\"\",\"\",種目情報!$K$7)","v":""}]

{"sheet":"Sheet6","index":15,"n_rows":3,"n_cols":6,"rows_kept":3,"cut":false,"hidden":false,"merged":[]}
["No","団体名略称","団体ID","団体名略称","団体名カナ","No"]
[1,"愛知陸協",19868,"愛知陸協","アイチリッキョウ",1]
[2,"愛知マスターズ",19101,"愛知マスターズ","アイチマスターズ",2]